BEGIN:VCALENDAR
VERSION:2.0
PRODID:-//Rink 63 - Clovis - ECPv6.15.20//NONSGML v1.0//EN
CALSCALE:GREGORIAN
METHOD:PUBLISH
X-WR-CALNAME:Rink 63 - Clovis
X-ORIGINAL-URL:https://www.unitedskates.com/clovis
X-WR-CALDESC:Events for Rink 63 - Clovis
REFRESH-INTERVAL;VALUE=DURATION:PT1H
X-Robots-Tag:noindex
X-PUBLISHED-TTL:PT1H
BEGIN:VTIMEZONE
TZID:America/Los_Angeles
BEGIN:DAYLIGHT
TZOFFSETFROM:-0800
TZOFFSETTO:-0700
TZNAME:PDT
DTSTART:20250309T100000
END:DAYLIGHT
BEGIN:STANDARD
TZOFFSETFROM:-0700
TZOFFSETTO:-0800
TZNAME:PST
DTSTART:20251102T090000
END:STANDARD
BEGIN:DAYLIGHT
TZOFFSETFROM:-0800
TZOFFSETTO:-0700
TZNAME:PDT
DTSTART:20260308T100000
END:DAYLIGHT
BEGIN:STANDARD
TZOFFSETFROM:-0700
TZOFFSETTO:-0800
TZNAME:PST
DTSTART:20261101T090000
END:STANDARD
BEGIN:DAYLIGHT
TZOFFSETFROM:-0800
TZOFFSETTO:-0700
TZNAME:PDT
DTSTART:20270314T100000
END:DAYLIGHT
BEGIN:STANDARD
TZOFFSETFROM:-0700
TZOFFSETTO:-0800
TZNAME:PST
DTSTART:20271107T090000
END:STANDARD
END:VTIMEZONE
BEGIN:VEVENT
DTSTART;VALUE=DATE:20260424
DTEND;VALUE=DATE:20260428
DTSTAMP:20260425T110656
CREATED:20260410T150521Z
LAST-MODIFIED:20260410T150620Z
UID:25992-1777006800-1777265999@www.unitedskates.com
SUMMARY:🎉🛼 FRIENDS & FAMILY WEEKEND SKATE! 🛼🎉
DESCRIPTION:🎉🛼 FRIENDS & FAMILY WEEKEND SKATE! 🛼🎉 \nWe’re celebrating YOU—our amazing customers—with a weekend full of fun\, music\, and skating! 💛 \n🔥 SPECIAL DEAL: 50% OFF Skate Admission\nBring up to 4 guests and enjoy this limited-time offer! \n📍 2881 Peach Avenue\, Clovis\, CA\n📞 559-291-0242 \n✨ WEEKEND SCHEDULE: \n🗓 Friday\, April 24\n⏰ 6:00 PM – 9:00 PM\n🌟 Friday Night Lights – $15 Admission \n🗓 Saturday\, April 25\n⏰ 10:00 AM – 12:00 PM – Kids Pop Skate ($11)\n⏰ 12:30 PM – 3:00 PM – Public Skate ($16)\n⏰ 3:30 PM – 6:00 PM – Public Skate ($16)\n⏰ 6:30 PM – 9:00 PM – Hip Hop & R&B Skate ($16) \n🗓 Sunday\, April 26\n⏰ 12:30 PM – 3:00 PM – Public Skate ($16)\n⏰ 3:30 PM – 6:00 PM – Public Skate ($16)\n⏰ 7:00 PM – 10:00 PM – Adult Skate (18+) ($16) \n💥 Skate rental available for $6 (or bring your own!)\n📢 Don’t forget to present this coupon at the door! \n👨‍👩‍👧‍👦 Bring your friends\, bring your family\, and roll into the weekend with us! \n#FamilyFun #ClovisEvents #RollerSkating #WeekendVibes #UnitedSkates
URL:https://www.unitedskates.com/clovis/event/%f0%9f%8e%89%f0%9f%9b%bc-friends-family-weekend-skate-%f0%9f%9b%bc%f0%9f%8e%89/
CATEGORIES:Family Events,Special Events
ATTACH;FMTTYPE=image/jpeg:https://unitedskates-assets.sfo3.digitaloceanspaces.com/wp-content/uploads/sites/25/2026/04/Friends-and-Family-Weekend-.jpg
END:VEVENT
BEGIN:VEVENT
DTSTART;TZID=America/Los_Angeles:20260425T090000
DTEND;TZID=America/Los_Angeles:20260425T100000
DTSTAMP:20260425T110656
CREATED:20250804T204037Z
LAST-MODIFIED:20260202T225531Z
UID:20995-1777107600-1777111200@www.unitedskates.com
SUMMARY:Skate Lessons
DESCRIPTION:Saturday Morning Skate Lessons \n9:00am-10:00am \n$20.00 includes admission\, skate rental and Free admission for the 10:00am-12:00pm skate session \nPlease arrive 10 minutes early prior to the event \nLearn how to skate\,crossovers\,backwards skate and so much more!
URL:https://www.unitedskates.com/clovis/event/skate-lessons-3/2026-04-25/
CATEGORIES:Family Events,Public Skates,Special Events
ATTACH;FMTTYPE=image/jpeg:https://unitedskates-assets.sfo3.digitaloceanspaces.com/wp-content/uploads/sites/25/2025/08/skatelessonfallclovis_1.jpg
END:VEVENT
BEGIN:VEVENT
DTSTART;TZID=America/Los_Angeles:20260425T100000
DTEND;TZID=America/Los_Angeles:20260425T120000
DTSTAMP:20260425T110656
CREATED:20260108T202250Z
LAST-MODIFIED:20260227T234805Z
UID:24405-1777111200-1777118400@www.unitedskates.com
SUMMARY:Kidz Pop Skate
DESCRIPTION:🎉 Kidz Pop Skate 🎉 Roll into the weekend with music\, movement\, and major fun—just for the little ones! \n🛼 Every Saturday Morning 🕙 10:00 AM – 12:00 PM 📍 United Skates of America – Clovis\, CA \n✨ Admission: 💵 $11 at the door / $10 online 👟 Skate Rental: $6 👨‍👩‍👧 Non-skating adults: $5 \n👧 Recommended for ages 10 & under \n📍 2881 Peach Avenue\, Clovis\, CA 93612 📞 559-291-0242 🌐 UnitedSkates.com/clovis
URL:https://www.unitedskates.com/clovis/event/kidz-pop-skate/2026-04-25/
ATTACH;FMTTYPE=image/png:https://unitedskates-assets.sfo3.digitaloceanspaces.com/wp-content/uploads/sites/25/2024/12/Screenshot-2026-01-08-104439.png
END:VEVENT
BEGIN:VEVENT
DTSTART;TZID=America/Los_Angeles:20260425T123000
DTEND;TZID=America/Los_Angeles:20260425T150000
DTSTAMP:20260425T110656
CREATED:20260108T233537Z
LAST-MODIFIED:20260330T220833Z
UID:24030-1777120200-1777129200@www.unitedskates.com
SUMMARY:Public Skate
DESCRIPTION:🛼🎉 Saturday Afternoon Public Skating – Fun for All Ages! 🎉🛼 \nLooking for the perfect way to kick off your Saturday afternoon? 🌟 Join us at United Skates of Clovis for Public Skating – where the rink is open to everyone for nonstop fun and good vibes! \n📅 When: Every Saturday Afternoon\n🕧 Time: 12:30 PM – 3:00 PM\n📍 Where: United Skates of America\, Clovis\n💲 Admission: $16 at the door | $14 online\n🛼 Skate Rental: $6 \n🛼 Non-Skating Adult: $5 \n✨ Why You’ll Love Saturday Afternoon Skating: \n\n🛼 Family-friendly fun for skaters of all ages and skill levels!\n🎶 Skate to great music with an awesome atmosphere.\n🎈 The perfect way to enjoy active fun with friends and family.\n🍿 Delicious snacks and drinks available at our cafe to keep you fueled!\n\n🌟 Whether you’re a seasoned skater or just starting out\, Saturday afternoons at the rink are full of laughter\, energy\, and memories in the making! \n📞 Call for More Info: 559-291-0242\n🌐 Visit Us: www.unitedskates.com/clovis \n🛼🎶 Gather your crew\, lace up your skates\, and roll into the weekend with us! We can’t wait to see you on the rink! 🎉
URL:https://www.unitedskates.com/clovis/event/public-skate-25/2026-04-25/
ATTACH;FMTTYPE=image/jpeg:https://unitedskates-assets.sfo3.digitaloceanspaces.com/wp-content/uploads/sites/25/2022/05/Public-Skate-1200x900-1.jpg
END:VEVENT
BEGIN:VEVENT
DTSTART;TZID=America/Los_Angeles:20260425T153000
DTEND;TZID=America/Los_Angeles:20260425T180000
DTSTAMP:20260425T110656
CREATED:20260108T234041Z
LAST-MODIFIED:20260330T220918Z
UID:24337-1777131000-1777140000@www.unitedskates.com
SUMMARY:Public Skate
DESCRIPTION:🛼🎉 Saturday Afternoon Public Skating – Fun for All Ages! 🎉🛼 \nLooking for the perfect way to kick off your Saturday afternoon? 🌟 Join us at United Skates of Clovis for Public Skating – where the rink is open to everyone for nonstop fun and good vibes! \n📅 When: Every Saturday Afternoon\n🕧 Time: 3:30 PM – 6:00 PM\n📍 Where: United Skates of America\, Clovis\n💲 Admission: $16 at the door | $14 online\n🛼 Skate Rental: $6 \n🛼 Non-Skating Adult: $5 \n✨ Why You’ll Love Saturday Afternoon Skating: \n\n🛼 Family-friendly fun for skaters of all ages and skill levels!\n🎶 Skate to great music with an awesome atmosphere.\n🎈 The perfect way to enjoy active fun with friends and family.\n🍿 Delicious snacks and drinks available at our cafe to keep you fueled!\n\n🌟 Whether you’re a seasoned skater or just starting out\, Saturday afternoons at the rink are full of laughter\, energy\, and memories in the making! \n📞 Call for More Info: 559-291-0242\n🌐 Visit Us: www.unitedskates.com/clovis \n🛼🎶 Gather your crew\, lace up your skates\, and roll into the weekend with us! We can’t wait to see you on the rink! 🎉
URL:https://www.unitedskates.com/clovis/event/public-skate-44/2026-04-25/
ATTACH;FMTTYPE=image/jpeg:https://unitedskates-assets.sfo3.digitaloceanspaces.com/wp-content/uploads/sites/25/2024/04/600px-Public-Skate-1200x1200-v3.jpg
END:VEVENT
BEGIN:VEVENT
DTSTART;TZID=America/Los_Angeles:20260425T183000
DTEND;TZID=America/Los_Angeles:20260425T210000
DTSTAMP:20260425T110656
CREATED:20260330T223028Z
LAST-MODIFIED:20260416T223531Z
UID:25681-1777141800-1777150800@www.unitedskates.com
SUMMARY:Hip Hop and R&B Public Skate
DESCRIPTION: Hip Hop & R&B Public Skate 🎶\n\nRoll into the weekend every Saturday night at United Skates of America\, Clovis! Open to all ages\, BUT: Guests 17 & under MUST have a chaperone 23 or older. No exceptions! 🛼 \n🕡 Time: 6:30 PM – 9:00 PM\n💲 Admission: $16 at the door | $14 online\n🛼 Skate Rental: $6 \nBring your friends\, your moves\, and get ready to skate to the hottest Hip Hop & R&B beats! 🕺💃
URL:https://www.unitedskates.com/clovis/event/hip-hop-and-rb-public-skate-3/2026-04-25/
ATTACH;FMTTYPE=image/jpeg:https://unitedskates-assets.sfo3.digitaloceanspaces.com/wp-content/uploads/sites/25/2023/02/Hip-Hop-Skate-2022-1200x900-1.jpg
END:VEVENT
END:VCALENDAR