BEGIN:VCALENDAR
VERSION:2.0
PRODID:-//Rink 63 - Clovis - ECPv6.15.20//NONSGML v1.0//EN
CALSCALE:GREGORIAN
METHOD:PUBLISH
X-WR-CALNAME:Rink 63 - Clovis
X-ORIGINAL-URL:https://www.unitedskates.com/clovis
X-WR-CALDESC:Events for Rink 63 - Clovis
REFRESH-INTERVAL;VALUE=DURATION:PT1H
X-Robots-Tag:noindex
X-PUBLISHED-TTL:PT1H
BEGIN:VTIMEZONE
TZID:America/Los_Angeles
BEGIN:DAYLIGHT
TZOFFSETFROM:-0800
TZOFFSETTO:-0700
TZNAME:PDT
DTSTART:20250309T100000
END:DAYLIGHT
BEGIN:STANDARD
TZOFFSETFROM:-0700
TZOFFSETTO:-0800
TZNAME:PST
DTSTART:20251102T090000
END:STANDARD
BEGIN:DAYLIGHT
TZOFFSETFROM:-0800
TZOFFSETTO:-0700
TZNAME:PDT
DTSTART:20260308T100000
END:DAYLIGHT
BEGIN:STANDARD
TZOFFSETFROM:-0700
TZOFFSETTO:-0800
TZNAME:PST
DTSTART:20261101T090000
END:STANDARD
BEGIN:DAYLIGHT
TZOFFSETFROM:-0800
TZOFFSETTO:-0700
TZNAME:PDT
DTSTART:20270314T100000
END:DAYLIGHT
BEGIN:STANDARD
TZOFFSETFROM:-0700
TZOFFSETTO:-0800
TZNAME:PST
DTSTART:20271107T090000
END:STANDARD
END:VTIMEZONE
BEGIN:VEVENT
DTSTART;TZID=America/Los_Angeles:20260422T180000
DTEND;TZID=America/Los_Angeles:20260422T200000
DTSTAMP:20260423T035941
CREATED:20260330T180346Z
LAST-MODIFIED:20260330T180346Z
UID:25341-1776880800-1776888000@www.unitedskates.com
SUMMARY:Closed Due to Private Rental
DESCRIPTION:🎉 PRIVATE RINK RENTALS AVAILABLE! 🛼✨ \nEver dreamed of having the whole rink to yourself? Now you can! Host your own Private Family Fun Night and enjoy an unforgettable experience with just your favorite people. \n💫 Your Party\, Your Way:✅ Private access to the entire rink✅ Choose your own theme & music✅ Perfect for families\, birthdays\, schools\, or group celebrations \n👨‍👩‍👧‍👦 Make it Special:Create lasting memories in a fun\, safe space designed just for you and your guests. It’s the perfect way to spend quality time together! \n📞 Call the rink for more information and availability: 559-291-0242 \n⏰ Spots are limited—book your private skate today!
URL:https://www.unitedskates.com/clovis/event/closed-due-to-private-rental/
ATTACH;FMTTYPE=image/jpeg:https://unitedskates-assets.sfo3.digitaloceanspaces.com/wp-content/uploads/sites/25/2026/01/private-Closed-Rink-Tile-1200x1200-1.jpg
END:VEVENT
BEGIN:VEVENT
DTSTART;TZID=America/Los_Angeles:20260422T203000
DTEND;TZID=America/Los_Angeles:20260422T230000
DTSTAMP:20260423T035941
CREATED:20260224T230209Z
LAST-MODIFIED:20260330T224855Z
UID:25018-1776889800-1776898800@www.unitedskates.com
SUMMARY:Adult Night Skate
DESCRIPTION:Clear the schedule\, lace up your skates\, and enjoy a night just for adults! \nJoin us for Adult Skate Night at United Skates of America – Clovis — a laid-back\, high-energy session designed for adult skaters who love good music and great vibes. \n✨ Adults-only skating atmosphere✨ All genres of music played throughout the session✨ Perfect for date night\, friend groups\, or solo skating \n🎟️ Admission: $14.00 online | $16.00 at the door🛼 Skate Rental: $6.00 \n📍 United Skates of America – ClovisSkate your style. Feel the music. Own the night. 🎶🛼
URL:https://www.unitedskates.com/clovis/event/adult-night-skate-2/2026-04-22/
ATTACH;FMTTYPE=image/jpeg:https://unitedskates-assets.sfo3.digitaloceanspaces.com/wp-content/uploads/sites/25/2022/11/800px-Adult-Skate-1200x900-v3.jpg
END:VEVENT
END:VCALENDAR