BEGIN:VCALENDAR
VERSION:2.0
PRODID:-//Rink 63 - Clovis - ECPv6.15.20//NONSGML v1.0//EN
CALSCALE:GREGORIAN
METHOD:PUBLISH
X-ORIGINAL-URL:https://www.unitedskates.com/clovis
X-WR-CALDESC:Events for Rink 63 - Clovis
REFRESH-INTERVAL;VALUE=DURATION:PT1H
X-Robots-Tag:noindex
X-PUBLISHED-TTL:PT1H
BEGIN:VTIMEZONE
TZID:America/Los_Angeles
BEGIN:DAYLIGHT
TZOFFSETFROM:-0800
TZOFFSETTO:-0700
TZNAME:PDT
DTSTART:20240310T100000
END:DAYLIGHT
BEGIN:STANDARD
TZOFFSETFROM:-0700
TZOFFSETTO:-0800
TZNAME:PST
DTSTART:20241103T090000
END:STANDARD
BEGIN:DAYLIGHT
TZOFFSETFROM:-0800
TZOFFSETTO:-0700
TZNAME:PDT
DTSTART:20250309T100000
END:DAYLIGHT
BEGIN:STANDARD
TZOFFSETFROM:-0700
TZOFFSETTO:-0800
TZNAME:PST
DTSTART:20251102T090000
END:STANDARD
BEGIN:DAYLIGHT
TZOFFSETFROM:-0800
TZOFFSETTO:-0700
TZNAME:PDT
DTSTART:20260308T100000
END:DAYLIGHT
BEGIN:STANDARD
TZOFFSETFROM:-0700
TZOFFSETTO:-0800
TZNAME:PST
DTSTART:20261101T090000
END:STANDARD
BEGIN:DAYLIGHT
TZOFFSETFROM:-0800
TZOFFSETTO:-0700
TZNAME:PDT
DTSTART:20270314T100000
END:DAYLIGHT
BEGIN:STANDARD
TZOFFSETFROM:-0700
TZOFFSETTO:-0800
TZNAME:PST
DTSTART:20271107T090000
END:STANDARD
END:VTIMEZONE
BEGIN:VEVENT
DTSTART;TZID=America/Los_Angeles:20260419T123000
DTEND;TZID=America/Los_Angeles:20260419T150000
DTSTAMP:20260424T104147
CREATED:20260108T210819Z
LAST-MODIFIED:20260330T221142Z
UID:23623-1776601800-1776610800@www.unitedskates.com
SUMMARY:Public Skate
DESCRIPTION:🛼🎉 Sunday Afternoon Public Skating – Fun for All Ages! 🎉🛼 \nLooking for the perfect way to kick off your Saturday afternoon? 🌟 Join us at United Skates of Clovis for Public Skating – where the rink is open to everyone for nonstop fun and good vibes! \n📅 When: Every Sunday Afternoon\n🕧 Time: 12:30 PM – 3:00 PM\n📍 Where: United Skates of America\, Clovis\n💲 Admission: $16 at the door | $14 online\n🛼 Skate Rental: $6 \n🛼 Non-Skating Adult: $5 \n✨ Why You’ll Love Sunday Afternoon Skating: \n\n🛼 Family-friendly fun for skaters of all ages and skill levels!\n🎶 Skate to great music with an awesome atmosphere.\n🎈 The perfect way to enjoy active fun with friends and family.\n🍿 Delicious snacks and drinks available at our cafe to keep you fueled!\n\n🌟 Whether you’re a seasoned skater or just starting out\, Saturday afternoons at the rink are full of laughter\, energy\, and memories in the making! \n📞 Call for More Info: 559-291-0242\n🌐 Visit Us: www.unitedskates.com/clovis \n🛼🎶 Gather your crew\, lace up your skates\, and roll into the weekend with us! We can’t wait to see you on the rink! 🎉
URL:https://www.unitedskates.com/clovis/event/public-skate-43/2026-04-19/
ATTACH;FMTTYPE=image/jpeg:https://unitedskates-assets.sfo3.digitaloceanspaces.com/wp-content/uploads/sites/25/2022/05/Public-Skate-1200x900-1.jpg
END:VEVENT
BEGIN:VEVENT
DTSTART;TZID=America/Los_Angeles:20260412T123000
DTEND;TZID=America/Los_Angeles:20260412T150000
DTSTAMP:20260424T104147
CREATED:20260108T210819Z
LAST-MODIFIED:20260330T221142Z
UID:23622-1775997000-1776006000@www.unitedskates.com
SUMMARY:Public Skate
DESCRIPTION:🛼🎉 Sunday Afternoon Public Skating – Fun for All Ages! 🎉🛼 \nLooking for the perfect way to kick off your Saturday afternoon? 🌟 Join us at United Skates of Clovis for Public Skating – where the rink is open to everyone for nonstop fun and good vibes! \n📅 When: Every Sunday Afternoon\n🕧 Time: 12:30 PM – 3:00 PM\n📍 Where: United Skates of America\, Clovis\n💲 Admission: $16 at the door | $14 online\n🛼 Skate Rental: $6 \n🛼 Non-Skating Adult: $5 \n✨ Why You’ll Love Sunday Afternoon Skating: \n\n🛼 Family-friendly fun for skaters of all ages and skill levels!\n🎶 Skate to great music with an awesome atmosphere.\n🎈 The perfect way to enjoy active fun with friends and family.\n🍿 Delicious snacks and drinks available at our cafe to keep you fueled!\n\n🌟 Whether you’re a seasoned skater or just starting out\, Saturday afternoons at the rink are full of laughter\, energy\, and memories in the making! \n📞 Call for More Info: 559-291-0242\n🌐 Visit Us: www.unitedskates.com/clovis \n🛼🎶 Gather your crew\, lace up your skates\, and roll into the weekend with us! We can’t wait to see you on the rink! 🎉
URL:https://www.unitedskates.com/clovis/event/public-skate-43/2026-04-12/
ATTACH;FMTTYPE=image/jpeg:https://unitedskates-assets.sfo3.digitaloceanspaces.com/wp-content/uploads/sites/25/2022/05/Public-Skate-1200x900-1.jpg
END:VEVENT
BEGIN:VEVENT
DTSTART;TZID=America/Los_Angeles:20260322T123000
DTEND;TZID=America/Los_Angeles:20260322T150000
DTSTAMP:20260424T104147
CREATED:20260108T210819Z
LAST-MODIFIED:20260330T221142Z
UID:23619-1774182600-1774191600@www.unitedskates.com
SUMMARY:Public Skate
DESCRIPTION:🛼🎉 Sunday Afternoon Public Skating – Fun for All Ages! 🎉🛼 \nLooking for the perfect way to kick off your Saturday afternoon? 🌟 Join us at United Skates of Clovis for Public Skating – where the rink is open to everyone for nonstop fun and good vibes! \n📅 When: Every Sunday Afternoon\n🕧 Time: 12:30 PM – 3:00 PM\n📍 Where: United Skates of America\, Clovis\n💲 Admission: $16 at the door | $14 online\n🛼 Skate Rental: $6 \n🛼 Non-Skating Adult: $5 \n✨ Why You’ll Love Sunday Afternoon Skating: \n\n🛼 Family-friendly fun for skaters of all ages and skill levels!\n🎶 Skate to great music with an awesome atmosphere.\n🎈 The perfect way to enjoy active fun with friends and family.\n🍿 Delicious snacks and drinks available at our cafe to keep you fueled!\n\n🌟 Whether you’re a seasoned skater or just starting out\, Saturday afternoons at the rink are full of laughter\, energy\, and memories in the making! \n📞 Call for More Info: 559-291-0242\n🌐 Visit Us: www.unitedskates.com/clovis \n🛼🎶 Gather your crew\, lace up your skates\, and roll into the weekend with us! We can’t wait to see you on the rink! 🎉
URL:https://www.unitedskates.com/clovis/event/public-skate-43/2026-03-22/
ATTACH;FMTTYPE=image/jpeg:https://unitedskates-assets.sfo3.digitaloceanspaces.com/wp-content/uploads/sites/25/2022/05/Public-Skate-1200x900-1.jpg
END:VEVENT
BEGIN:VEVENT
DTSTART;TZID=America/Los_Angeles:20260315T123000
DTEND;TZID=America/Los_Angeles:20260315T150000
DTSTAMP:20260424T104147
CREATED:20260108T210819Z
LAST-MODIFIED:20260330T221134Z
UID:23618-1773577800-1773586800@www.unitedskates.com
SUMMARY:Public Skate
DESCRIPTION:🛼🎉 Sunday Afternoon Public Skating – Fun for All Ages! 🎉🛼 \nLooking for the perfect way to kick off your Saturday afternoon? 🌟 Join us at United Skates of Clovis for Public Skating – where the rink is open to everyone for nonstop fun and good vibes! \n📅 When: Every Sunday Afternoon\n🕧 Time: 12:30 PM – 3:00 PM\n📍 Where: United Skates of America\, Clovis\n💲 Admission: $16 at the door | $14 online\n🛼 Skate Rental: $6 \n🛼 Non-Skating Adult: $5 \n✨ Why You’ll Love Sunday Afternoon Skating: \n\n🛼 Family-friendly fun for skaters of all ages and skill levels!\n🎶 Skate to great music with an awesome atmosphere.\n🎈 The perfect way to enjoy active fun with friends and family.\n🍿 Delicious snacks and drinks available at our cafe to keep you fueled!\n\n🌟 Whether you’re a seasoned skater or just starting out\, Saturday afternoons at the rink are full of laughter\, energy\, and memories in the making! \n📞 Call for More Info: 559-291-0242\n🌐 Visit Us: www.unitedskates.com/clovis \n🛼🎶 Gather your crew\, lace up your skates\, and roll into the weekend with us! We can’t wait to see you on the rink! 🎉
URL:https://www.unitedskates.com/clovis/event/public-skate-43/2026-03-15/
ATTACH;FMTTYPE=image/jpeg:https://unitedskates-assets.sfo3.digitaloceanspaces.com/wp-content/uploads/sites/25/2022/05/Public-Skate-1200x900-1.jpg
END:VEVENT
BEGIN:VEVENT
DTSTART;TZID=America/Los_Angeles:20260308T123000
DTEND;TZID=America/Los_Angeles:20260308T150000
DTSTAMP:20260424T104147
CREATED:20260108T210819Z
LAST-MODIFIED:20260330T221134Z
UID:23617-1772973000-1772982000@www.unitedskates.com
SUMMARY:Public Skate
DESCRIPTION:🛼🎉 Sunday Afternoon Public Skating – Fun for All Ages! 🎉🛼 \nLooking for the perfect way to kick off your Saturday afternoon? 🌟 Join us at United Skates of Clovis for Public Skating – where the rink is open to everyone for nonstop fun and good vibes! \n📅 When: Every Sunday Afternoon\n🕧 Time: 12:30 PM – 3:00 PM\n📍 Where: United Skates of America\, Clovis\n💲 Admission: $16 at the door | $14 online\n🛼 Skate Rental: $6 \n🛼 Non-Skating Adult: $5 \n✨ Why You’ll Love Sunday Afternoon Skating: \n\n🛼 Family-friendly fun for skaters of all ages and skill levels!\n🎶 Skate to great music with an awesome atmosphere.\n🎈 The perfect way to enjoy active fun with friends and family.\n🍿 Delicious snacks and drinks available at our cafe to keep you fueled!\n\n🌟 Whether you’re a seasoned skater or just starting out\, Saturday afternoons at the rink are full of laughter\, energy\, and memories in the making! \n📞 Call for More Info: 559-291-0242\n🌐 Visit Us: www.unitedskates.com/clovis \n🛼🎶 Gather your crew\, lace up your skates\, and roll into the weekend with us! We can’t wait to see you on the rink! 🎉
URL:https://www.unitedskates.com/clovis/event/public-skate-43/2026-03-08/
ATTACH;FMTTYPE=image/jpeg:https://unitedskates-assets.sfo3.digitaloceanspaces.com/wp-content/uploads/sites/25/2022/05/Public-Skate-1200x900-1.jpg
END:VEVENT
BEGIN:VEVENT
DTSTART;TZID=America/Los_Angeles:20260301T123000
DTEND;TZID=America/Los_Angeles:20260301T150000
DTSTAMP:20260424T104147
CREATED:20260108T210819Z
LAST-MODIFIED:20260330T221134Z
UID:23616-1772368200-1772377200@www.unitedskates.com
SUMMARY:Public Skate
DESCRIPTION:🛼🎉 Sunday Afternoon Public Skating – Fun for All Ages! 🎉🛼 \nLooking for the perfect way to kick off your Saturday afternoon? 🌟 Join us at United Skates of Clovis for Public Skating – where the rink is open to everyone for nonstop fun and good vibes! \n📅 When: Every Sunday Afternoon\n🕧 Time: 12:30 PM – 3:00 PM\n📍 Where: United Skates of America\, Clovis\n💲 Admission: $16 at the door | $14 online\n🛼 Skate Rental: $6 \n🛼 Non-Skating Adult: $5 \n✨ Why You’ll Love Sunday Afternoon Skating: \n\n🛼 Family-friendly fun for skaters of all ages and skill levels!\n🎶 Skate to great music with an awesome atmosphere.\n🎈 The perfect way to enjoy active fun with friends and family.\n🍿 Delicious snacks and drinks available at our cafe to keep you fueled!\n\n🌟 Whether you’re a seasoned skater or just starting out\, Saturday afternoons at the rink are full of laughter\, energy\, and memories in the making! \n📞 Call for More Info: 559-291-0242\n🌐 Visit Us: www.unitedskates.com/clovis \n🛼🎶 Gather your crew\, lace up your skates\, and roll into the weekend with us! We can’t wait to see you on the rink! 🎉
URL:https://www.unitedskates.com/clovis/event/public-skate-43/2026-03-01/
ATTACH;FMTTYPE=image/jpeg:https://unitedskates-assets.sfo3.digitaloceanspaces.com/wp-content/uploads/sites/25/2022/05/Public-Skate-1200x900-1.jpg
END:VEVENT
BEGIN:VEVENT
DTSTART;TZID=America/Los_Angeles:20260222T123000
DTEND;TZID=America/Los_Angeles:20260222T150000
DTSTAMP:20260424T104147
CREATED:20260108T210819Z
LAST-MODIFIED:20260330T221134Z
UID:23615-1771763400-1771772400@www.unitedskates.com
SUMMARY:Public Skate
DESCRIPTION:🛼🎉 Sunday Afternoon Public Skating – Fun for All Ages! 🎉🛼 \nLooking for the perfect way to kick off your Saturday afternoon? 🌟 Join us at United Skates of Clovis for Public Skating – where the rink is open to everyone for nonstop fun and good vibes! \n📅 When: Every Sunday Afternoon\n🕧 Time: 12:30 PM – 3:00 PM\n📍 Where: United Skates of America\, Clovis\n💲 Admission: $16 at the door | $14 online\n🛼 Skate Rental: $6 \n🛼 Non-Skating Adult: $5 \n✨ Why You’ll Love Sunday Afternoon Skating: \n\n🛼 Family-friendly fun for skaters of all ages and skill levels!\n🎶 Skate to great music with an awesome atmosphere.\n🎈 The perfect way to enjoy active fun with friends and family.\n🍿 Delicious snacks and drinks available at our cafe to keep you fueled!\n\n🌟 Whether you’re a seasoned skater or just starting out\, Saturday afternoons at the rink are full of laughter\, energy\, and memories in the making! \n📞 Call for More Info: 559-291-0242\n🌐 Visit Us: www.unitedskates.com/clovis \n🛼🎶 Gather your crew\, lace up your skates\, and roll into the weekend with us! We can’t wait to see you on the rink! 🎉
URL:https://www.unitedskates.com/clovis/event/public-skate-43/2026-02-22/
ATTACH;FMTTYPE=image/jpeg:https://unitedskates-assets.sfo3.digitaloceanspaces.com/wp-content/uploads/sites/25/2022/05/Public-Skate-1200x900-1.jpg
END:VEVENT
BEGIN:VEVENT
DTSTART;TZID=America/Los_Angeles:20260215T123000
DTEND;TZID=America/Los_Angeles:20260215T150000
DTSTAMP:20260424T104147
CREATED:20260108T210819Z
LAST-MODIFIED:20260330T221133Z
UID:23614-1771158600-1771167600@www.unitedskates.com
SUMMARY:Public Skate
DESCRIPTION:🛼🎉 Sunday Afternoon Public Skating – Fun for All Ages! 🎉🛼 \nLooking for the perfect way to kick off your Saturday afternoon? 🌟 Join us at United Skates of Clovis for Public Skating – where the rink is open to everyone for nonstop fun and good vibes! \n📅 When: Every Sunday Afternoon\n🕧 Time: 12:30 PM – 3:00 PM\n📍 Where: United Skates of America\, Clovis\n💲 Admission: $16 at the door | $14 online\n🛼 Skate Rental: $6 \n🛼 Non-Skating Adult: $5 \n✨ Why You’ll Love Sunday Afternoon Skating: \n\n🛼 Family-friendly fun for skaters of all ages and skill levels!\n🎶 Skate to great music with an awesome atmosphere.\n🎈 The perfect way to enjoy active fun with friends and family.\n🍿 Delicious snacks and drinks available at our cafe to keep you fueled!\n\n🌟 Whether you’re a seasoned skater or just starting out\, Saturday afternoons at the rink are full of laughter\, energy\, and memories in the making! \n📞 Call for More Info: 559-291-0242\n🌐 Visit Us: www.unitedskates.com/clovis \n🛼🎶 Gather your crew\, lace up your skates\, and roll into the weekend with us! We can’t wait to see you on the rink! 🎉
URL:https://www.unitedskates.com/clovis/event/public-skate-43/2026-02-15/
ATTACH;FMTTYPE=image/jpeg:https://unitedskates-assets.sfo3.digitaloceanspaces.com/wp-content/uploads/sites/25/2022/05/Public-Skate-1200x900-1.jpg
END:VEVENT
BEGIN:VEVENT
DTSTART;TZID=America/Los_Angeles:20260208T123000
DTEND;TZID=America/Los_Angeles:20260208T150000
DTSTAMP:20260424T104147
CREATED:20260108T210819Z
LAST-MODIFIED:20260330T221133Z
UID:23613-1770553800-1770562800@www.unitedskates.com
SUMMARY:Public Skate
DESCRIPTION:🛼🎉 Sunday Afternoon Public Skating – Fun for All Ages! 🎉🛼 \nLooking for the perfect way to kick off your Saturday afternoon? 🌟 Join us at United Skates of Clovis for Public Skating – where the rink is open to everyone for nonstop fun and good vibes! \n📅 When: Every Sunday Afternoon\n🕧 Time: 12:30 PM – 3:00 PM\n📍 Where: United Skates of America\, Clovis\n💲 Admission: $16 at the door | $14 online\n🛼 Skate Rental: $6 \n🛼 Non-Skating Adult: $5 \n✨ Why You’ll Love Sunday Afternoon Skating: \n\n🛼 Family-friendly fun for skaters of all ages and skill levels!\n🎶 Skate to great music with an awesome atmosphere.\n🎈 The perfect way to enjoy active fun with friends and family.\n🍿 Delicious snacks and drinks available at our cafe to keep you fueled!\n\n🌟 Whether you’re a seasoned skater or just starting out\, Saturday afternoons at the rink are full of laughter\, energy\, and memories in the making! \n📞 Call for More Info: 559-291-0242\n🌐 Visit Us: www.unitedskates.com/clovis \n🛼🎶 Gather your crew\, lace up your skates\, and roll into the weekend with us! We can’t wait to see you on the rink! 🎉
URL:https://www.unitedskates.com/clovis/event/public-skate-43/2026-02-08/
ATTACH;FMTTYPE=image/jpeg:https://unitedskates-assets.sfo3.digitaloceanspaces.com/wp-content/uploads/sites/25/2022/05/Public-Skate-1200x900-1.jpg
END:VEVENT
BEGIN:VEVENT
DTSTART;TZID=America/Los_Angeles:20260201T123000
DTEND;TZID=America/Los_Angeles:20260201T150000
DTSTAMP:20260424T104147
CREATED:20260108T210819Z
LAST-MODIFIED:20260330T221133Z
UID:23612-1769949000-1769958000@www.unitedskates.com
SUMMARY:Public Skate
DESCRIPTION:🛼🎉 Sunday Afternoon Public Skating – Fun for All Ages! 🎉🛼 \nLooking for the perfect way to kick off your Saturday afternoon? 🌟 Join us at United Skates of Clovis for Public Skating – where the rink is open to everyone for nonstop fun and good vibes! \n📅 When: Every Sunday Afternoon\n🕧 Time: 12:30 PM – 3:00 PM\n📍 Where: United Skates of America\, Clovis\n💲 Admission: $16 at the door | $14 online\n🛼 Skate Rental: $6 \n🛼 Non-Skating Adult: $5 \n✨ Why You’ll Love Sunday Afternoon Skating: \n\n🛼 Family-friendly fun for skaters of all ages and skill levels!\n🎶 Skate to great music with an awesome atmosphere.\n🎈 The perfect way to enjoy active fun with friends and family.\n🍿 Delicious snacks and drinks available at our cafe to keep you fueled!\n\n🌟 Whether you’re a seasoned skater or just starting out\, Saturday afternoons at the rink are full of laughter\, energy\, and memories in the making! \n📞 Call for More Info: 559-291-0242\n🌐 Visit Us: www.unitedskates.com/clovis \n🛼🎶 Gather your crew\, lace up your skates\, and roll into the weekend with us! We can’t wait to see you on the rink! 🎉
URL:https://www.unitedskates.com/clovis/event/public-skate-43/2026-02-01/
ATTACH;FMTTYPE=image/jpeg:https://unitedskates-assets.sfo3.digitaloceanspaces.com/wp-content/uploads/sites/25/2022/05/Public-Skate-1200x900-1.jpg
END:VEVENT
BEGIN:VEVENT
DTSTART;TZID=America/Los_Angeles:20260125T123000
DTEND;TZID=America/Los_Angeles:20260125T150000
DTSTAMP:20260424T104147
CREATED:20260108T210819Z
LAST-MODIFIED:20260330T221133Z
UID:23611-1769344200-1769353200@www.unitedskates.com
SUMMARY:Public Skate
DESCRIPTION:🛼🎉 Sunday Afternoon Public Skating – Fun for All Ages! 🎉🛼 \nLooking for the perfect way to kick off your Saturday afternoon? 🌟 Join us at United Skates of Clovis for Public Skating – where the rink is open to everyone for nonstop fun and good vibes! \n📅 When: Every Sunday Afternoon\n🕧 Time: 12:30 PM – 3:00 PM\n📍 Where: United Skates of America\, Clovis\n💲 Admission: $16 at the door | $14 online\n🛼 Skate Rental: $6 \n🛼 Non-Skating Adult: $5 \n✨ Why You’ll Love Sunday Afternoon Skating: \n\n🛼 Family-friendly fun for skaters of all ages and skill levels!\n🎶 Skate to great music with an awesome atmosphere.\n🎈 The perfect way to enjoy active fun with friends and family.\n🍿 Delicious snacks and drinks available at our cafe to keep you fueled!\n\n🌟 Whether you’re a seasoned skater or just starting out\, Saturday afternoons at the rink are full of laughter\, energy\, and memories in the making! \n📞 Call for More Info: 559-291-0242\n🌐 Visit Us: www.unitedskates.com/clovis \n🛼🎶 Gather your crew\, lace up your skates\, and roll into the weekend with us! We can’t wait to see you on the rink! 🎉
URL:https://www.unitedskates.com/clovis/event/public-skate-43/2026-01-25/
ATTACH;FMTTYPE=image/jpeg:https://unitedskates-assets.sfo3.digitaloceanspaces.com/wp-content/uploads/sites/25/2022/05/Public-Skate-1200x900-1.jpg
END:VEVENT
BEGIN:VEVENT
DTSTART;TZID=America/Los_Angeles:20260111T123000
DTEND;TZID=America/Los_Angeles:20260111T150000
DTSTAMP:20260424T104147
CREATED:20260108T210819Z
LAST-MODIFIED:20260330T221132Z
UID:23609-1768134600-1768143600@www.unitedskates.com
SUMMARY:Public Skate
DESCRIPTION:🛼🎉 Sunday Afternoon Public Skating – Fun for All Ages! 🎉🛼 \nLooking for the perfect way to kick off your Saturday afternoon? 🌟 Join us at United Skates of Clovis for Public Skating – where the rink is open to everyone for nonstop fun and good vibes! \n📅 When: Every Sunday Afternoon\n🕧 Time: 12:30 PM – 3:00 PM\n📍 Where: United Skates of America\, Clovis\n💲 Admission: $16 at the door | $14 online\n🛼 Skate Rental: $6 \n🛼 Non-Skating Adult: $5 \n✨ Why You’ll Love Sunday Afternoon Skating: \n\n🛼 Family-friendly fun for skaters of all ages and skill levels!\n🎶 Skate to great music with an awesome atmosphere.\n🎈 The perfect way to enjoy active fun with friends and family.\n🍿 Delicious snacks and drinks available at our cafe to keep you fueled!\n\n🌟 Whether you’re a seasoned skater or just starting out\, Saturday afternoons at the rink are full of laughter\, energy\, and memories in the making! \n📞 Call for More Info: 559-291-0242\n🌐 Visit Us: www.unitedskates.com/clovis \n🛼🎶 Gather your crew\, lace up your skates\, and roll into the weekend with us! We can’t wait to see you on the rink! 🎉
URL:https://www.unitedskates.com/clovis/event/public-skate-43/2026-01-11/
ATTACH;FMTTYPE=image/jpeg:https://unitedskates-assets.sfo3.digitaloceanspaces.com/wp-content/uploads/sites/25/2022/05/Public-Skate-1200x900-1.jpg
END:VEVENT
BEGIN:VEVENT
DTSTART;TZID=America/Los_Angeles:20260104T123000
DTEND;TZID=America/Los_Angeles:20260104T150000
DTSTAMP:20260424T104147
CREATED:20260108T210819Z
LAST-MODIFIED:20260330T221132Z
UID:23608-1767529800-1767538800@www.unitedskates.com
SUMMARY:Public Skate
DESCRIPTION:🛼🎉 Sunday Afternoon Public Skating – Fun for All Ages! 🎉🛼 \nLooking for the perfect way to kick off your Saturday afternoon? 🌟 Join us at United Skates of Clovis for Public Skating – where the rink is open to everyone for nonstop fun and good vibes! \n📅 When: Every Sunday Afternoon\n🕧 Time: 12:30 PM – 3:00 PM\n📍 Where: United Skates of America\, Clovis\n💲 Admission: $16 at the door | $14 online\n🛼 Skate Rental: $6 \n🛼 Non-Skating Adult: $5 \n✨ Why You’ll Love Sunday Afternoon Skating: \n\n🛼 Family-friendly fun for skaters of all ages and skill levels!\n🎶 Skate to great music with an awesome atmosphere.\n🎈 The perfect way to enjoy active fun with friends and family.\n🍿 Delicious snacks and drinks available at our cafe to keep you fueled!\n\n🌟 Whether you’re a seasoned skater or just starting out\, Saturday afternoons at the rink are full of laughter\, energy\, and memories in the making! \n📞 Call for More Info: 559-291-0242\n🌐 Visit Us: www.unitedskates.com/clovis \n🛼🎶 Gather your crew\, lace up your skates\, and roll into the weekend with us! We can’t wait to see you on the rink! 🎉
URL:https://www.unitedskates.com/clovis/event/public-skate-43/2026-01-04/
ATTACH;FMTTYPE=image/jpeg:https://unitedskates-assets.sfo3.digitaloceanspaces.com/wp-content/uploads/sites/25/2022/05/Public-Skate-1200x900-1.jpg
END:VEVENT
BEGIN:VEVENT
DTSTART;TZID=America/Los_Angeles:20251228T123000
DTEND;TZID=America/Los_Angeles:20251228T150000
DTSTAMP:20260424T104147
CREATED:20260108T210819Z
LAST-MODIFIED:20260330T221132Z
UID:23606-1766925000-1766934000@www.unitedskates.com
SUMMARY:Public Skate
DESCRIPTION:🛼🎉 Sunday Afternoon Public Skating – Fun for All Ages! 🎉🛼 \nLooking for the perfect way to kick off your Saturday afternoon? 🌟 Join us at United Skates of Clovis for Public Skating – where the rink is open to everyone for nonstop fun and good vibes! \n📅 When: Every Sunday Afternoon\n🕧 Time: 12:30 PM – 3:00 PM\n📍 Where: United Skates of America\, Clovis\n💲 Admission: $16 at the door | $14 online\n🛼 Skate Rental: $6 \n🛼 Non-Skating Adult: $5 \n✨ Why You’ll Love Sunday Afternoon Skating: \n\n🛼 Family-friendly fun for skaters of all ages and skill levels!\n🎶 Skate to great music with an awesome atmosphere.\n🎈 The perfect way to enjoy active fun with friends and family.\n🍿 Delicious snacks and drinks available at our cafe to keep you fueled!\n\n🌟 Whether you’re a seasoned skater or just starting out\, Saturday afternoons at the rink are full of laughter\, energy\, and memories in the making! \n📞 Call for More Info: 559-291-0242\n🌐 Visit Us: www.unitedskates.com/clovis \n🛼🎶 Gather your crew\, lace up your skates\, and roll into the weekend with us! We can’t wait to see you on the rink! 🎉
URL:https://www.unitedskates.com/clovis/event/public-skate-43/2025-12-28/
ATTACH;FMTTYPE=image/jpeg:https://unitedskates-assets.sfo3.digitaloceanspaces.com/wp-content/uploads/sites/25/2022/05/Public-Skate-1200x900-1.jpg
END:VEVENT
END:VCALENDAR