BEGIN:VCALENDAR
VERSION:2.0
PRODID:-//Rink 63 - Clovis - ECPv6.15.20//NONSGML v1.0//EN
CALSCALE:GREGORIAN
METHOD:PUBLISH
X-WR-CALNAME:Rink 63 - Clovis
X-ORIGINAL-URL:https://www.unitedskates.com/clovis
X-WR-CALDESC:Events for Rink 63 - Clovis
REFRESH-INTERVAL;VALUE=DURATION:PT1H
X-Robots-Tag:noindex
X-PUBLISHED-TTL:PT1H
BEGIN:VTIMEZONE
TZID:America/Los_Angeles
BEGIN:DAYLIGHT
TZOFFSETFROM:-0800
TZOFFSETTO:-0700
TZNAME:PDT
DTSTART:20220313T100000
END:DAYLIGHT
BEGIN:STANDARD
TZOFFSETFROM:-0700
TZOFFSETTO:-0800
TZNAME:PST
DTSTART:20221106T090000
END:STANDARD
BEGIN:DAYLIGHT
TZOFFSETFROM:-0800
TZOFFSETTO:-0700
TZNAME:PDT
DTSTART:20230312T100000
END:DAYLIGHT
BEGIN:STANDARD
TZOFFSETFROM:-0700
TZOFFSETTO:-0800
TZNAME:PST
DTSTART:20231105T090000
END:STANDARD
BEGIN:DAYLIGHT
TZOFFSETFROM:-0800
TZOFFSETTO:-0700
TZNAME:PDT
DTSTART:20240310T100000
END:DAYLIGHT
BEGIN:STANDARD
TZOFFSETFROM:-0700
TZOFFSETTO:-0800
TZNAME:PST
DTSTART:20241103T090000
END:STANDARD
END:VTIMEZONE
BEGIN:VEVENT
DTSTART;TZID=America/Los_Angeles:20230707T183000
DTEND;TZID=America/Los_Angeles:20230707T210000
DTSTAMP:20260424T024449
CREATED:20230703T194248Z
LAST-MODIFIED:20230801T021744Z
UID:12868-1688754600-1688763600@www.unitedskates.com
SUMMARY:Glow Night
DESCRIPTION:Admission: $13 \nSkate Rental: $5 \nAdult spectators: $5 \nAll minors must be accompanied by an adult atleast age 23 \n 
URL:https://www.unitedskates.com/clovis/event/glow-night/2023-07-07/
LOCATION:United Skates Of America Clovis\, 2881 Peach Ave.\, Clovis\, CA\, 93612\, United States
CATEGORIES:Family Events,Public Skates
ATTACH;FMTTYPE=image/jpeg:https://unitedskates-assets.sfo3.digitaloceanspaces.com/wp-content/uploads/sites/25/2023/01/glow-with-skato-1200x900-1-1.jpg
END:VEVENT
END:VCALENDAR