BEGIN:VCALENDAR
VERSION:2.0
PRODID:-//Rink 41 - Branch Brook Park Skating - ECPv6.15.20//NONSGML v1.0//EN
CALSCALE:GREGORIAN
METHOD:PUBLISH
X-ORIGINAL-URL:https://www.unitedskates.com/branch-brook-park
X-WR-CALDESC:Events for Rink 41 - Branch Brook Park Skating
REFRESH-INTERVAL;VALUE=DURATION:PT1H
X-Robots-Tag:noindex
X-PUBLISHED-TTL:PT1H
BEGIN:VTIMEZONE
TZID:America/New_York
BEGIN:DAYLIGHT
TZOFFSETFROM:-0500
TZOFFSETTO:-0400
TZNAME:EDT
DTSTART:20220313T070000
END:DAYLIGHT
BEGIN:STANDARD
TZOFFSETFROM:-0400
TZOFFSETTO:-0500
TZNAME:EST
DTSTART:20221106T060000
END:STANDARD
BEGIN:DAYLIGHT
TZOFFSETFROM:-0500
TZOFFSETTO:-0400
TZNAME:EDT
DTSTART:20230312T070000
END:DAYLIGHT
BEGIN:STANDARD
TZOFFSETFROM:-0400
TZOFFSETTO:-0500
TZNAME:EST
DTSTART:20231105T060000
END:STANDARD
BEGIN:DAYLIGHT
TZOFFSETFROM:-0500
TZOFFSETTO:-0400
TZNAME:EDT
DTSTART:20240310T070000
END:DAYLIGHT
BEGIN:STANDARD
TZOFFSETFROM:-0400
TZOFFSETTO:-0500
TZNAME:EST
DTSTART:20241103T060000
END:STANDARD
END:VTIMEZONE
BEGIN:VEVENT
DTSTART;TZID=America/New_York:20230703T120000
DTEND;TZID=America/New_York:20230703T160000
DTSTAMP:20260422T232615
CREATED:20230622T165724Z
LAST-MODIFIED:20230622T170202Z
UID:12705-1688385600-1688400000@www.unitedskates.com
SUMMARY:SUMMER FUN SKATE
DESCRIPTION:CLICK HERE TO PURCHASE TICKETS!\nOPEN TO ALL AGES! PLEASE PAY ATTENTION TO TIMES BEFORE CHECKING OUT! \n$14.00 for Admission & Skate Rental (Plus Service Fee) \n$9.00 Admission for those with their Own Skates (Plus Service Fee) \n$5.00 Spectators Fee for Non Skating Adults 18yrs+ Only (Plus Service Fee) \nTickets are non-refundable\, valid per listed time only and cannot be transferred to a different date or time! Ages 2-17yrs Old Without their Own Skates Must Pay for Rental to Enter. SKATE WAIVERS MUST BE SIGNED BY EVERYONE 18YRS+ ENTERING THE FACILITY UPON ARRIVAL. NO OUTSIDE FOOD\, DRINK\, CAKE OR DECOR ALLOWED.
URL:https://www.unitedskates.com/branch-brook-park/event/summer-fun-skate-3/2023-07-03/
CATEGORIES:Public Skates
ATTACH;FMTTYPE=image/jpeg:https://unitedskates-assets.sfo3.digitaloceanspaces.com/wp-content/uploads/sites/15/2023/06/Summer-Fun-Skate-1200x1200-1.jpg
END:VEVENT
BEGIN:VEVENT
DTSTART;TZID=America/New_York:20230704T120000
DTEND;TZID=America/New_York:20230704T160000
DTSTAMP:20260422T232615
CREATED:20230524T203357Z
LAST-MODIFIED:20230524T203413Z
UID:12529-1688472000-1688486400@www.unitedskates.com
SUMMARY:4th OF JULY - SUMMER FAMILY SESSION
DESCRIPTION:OPEN TO ALL AGES! \nCLICK HERE TO PURCHASE TICKETS\n$14.00 for Admission & Skate Rental (Plus Service Fee) \n$9.00 Admission for those with their Own Skates (Plus Service Fee) \n$5.00 Spectators Fee for Non Skating Adults 18yrs+ Only (Plus Service Fee) \nTickets are non-refundable\, valid per listed time only and cannot be transferred to a different date or time! Ages 2-17yrs Old Without their Own Skates Must Pay for Rental to Enter. SKATE WAIVERS MUST BE SIGNED BY EVERYONE 18YRS+ ENTERING THE FACILITY UPON ARRIVAL. NO OUTSIDE FOOD\, DRINK\, CAKE OR DECOR ALLOWED.
URL:https://www.unitedskates.com/branch-brook-park/event/4th-of-july-summer-family-session/
CATEGORIES:Family Events,Public Skates,Special Events
ATTACH;FMTTYPE=image/jpeg:https://unitedskates-assets.sfo3.digitaloceanspaces.com/wp-content/uploads/sites/15/2022/05/4thofJuly-1200x900-1.jpg
END:VEVENT
BEGIN:VEVENT
DTSTART;TZID=America/New_York:20230705T170000
DTEND;TZID=America/New_York:20230705T190000
DTSTAMP:20260422T232615
CREATED:20230703T172450Z
LAST-MODIFIED:20230703T172936Z
UID:13133-1688576400-1688583600@www.unitedskates.com
SUMMARY:Wednesday Family Skate
DESCRIPTION:CLICK HERE TO PURCHASE TICKETS!\n$13.00 for Admission & Skate Rental (Plus Service Fee)  \n$8.00 Admission for those with their Own Skates (Plus Service Fee)  \n$5.00 Spectators Fee for Non Skating Adults 18yrs+ Only (Plus Service Fee)  \nFACE MASKS ARE NOW OPTIONAL BUT RECOMMENDED  \nNO OUTSIDE FOOD\, DRINK\, CAKE OR DECOR ALLOWED.
URL:https://www.unitedskates.com/branch-brook-park/event/wednesday-family-skate-2/2023-07-05/
CATEGORIES:Public Skates
ATTACH;FMTTYPE=image/jpeg:https://unitedskates-assets.sfo3.digitaloceanspaces.com/wp-content/uploads/sites/15/2022/05/Public-Skate-1200x900-1.jpg
END:VEVENT
BEGIN:VEVENT
DTSTART;TZID=America/New_York:20230706T210000
DTEND;TZID=America/New_York:20230707T010000
DTSTAMP:20260422T232615
CREATED:20220503T203942Z
LAST-MODIFIED:20230620T180812Z
UID:9187-1688677200-1688691600@www.unitedskates.com
SUMMARY:Adult Skate-1st Thursday
DESCRIPTION:CLICK HERE TO PURCHASE TICKETS\n\n\n\nEVERYONE MUST HAVE A TICKET TO ENTER WHETHER SKATING OR NOT \n\n\n\nLIMITED TICKETS AVAILABLE AT THE FACILITY WITH AT DOOR PRICING \n\n\n\n$20.00 for Admission & Skate Rental (Plus Service Fee)  \n\n\n\n$15.00 Admission for those with their Own Skates (Plus Service Fee)  \n\n\n\nNO SPECTATORS FEE AVAILABLE FOR THIS SESSION \n\n\n\nFACE MASKS ARE NOW OPTIONAL BUT RECOMMENDED  \n\n\n\nMUST BE 18YRS+ TO ATTEND WITH A VALID ID 
URL:https://www.unitedskates.com/branch-brook-park/event/adult-skate-night-1st-thursday-2023-07-06/
LOCATION:Branch Brook Park Roller Skating Center\, 7th Ave & Clifton Ave\, Newark\, NJ\, 07104\, United States
CATEGORIES:Adult Events,Public Skates,Special Events
ATTACH;FMTTYPE=image/jpeg:https://unitedskates-assets.sfo3.digitaloceanspaces.com/wp-content/uploads/sites/15/2022/05/288857C6-B819-4315-AFF2-61CCD0CA90E5.jpg
END:VEVENT
BEGIN:VEVENT
DTSTART;TZID=America/New_York:20230707T130000
DTEND;TZID=America/New_York:20230707T170000
DTSTAMP:20260422T232615
CREATED:20230622T165724Z
LAST-MODIFIED:20230622T171123Z
UID:12711-1688734800-1688749200@www.unitedskates.com
SUMMARY:SUMMER FUN SKATE
DESCRIPTION:CLICK HERE TO PURCHASE TICKETS!\nOPEN TO ALL AGES! PLEASE PAY ATTENTION TO TIMES BEFORE CHECKING OUT! \n$14.00 for Admission & Skate Rental (Plus Service Fee) \n$9.00 Admission for those with their Own Skates (Plus Service Fee) \n$5.00 Spectators Fee for Non Skating Adults 18yrs+ Only (Plus Service Fee) \nTickets are non-refundable\, valid per listed time only and cannot be transferred to a different date or time! Ages 2-17yrs Old Without their Own Skates Must Pay for Rental to Enter. SKATE WAIVERS MUST BE SIGNED BY EVERYONE 18YRS+ ENTERING THE FACILITY UPON ARRIVAL. NO OUTSIDE FOOD\, DRINK\, CAKE OR DECOR ALLOWED.
URL:https://www.unitedskates.com/branch-brook-park/event/summer-fun-skate-3-2023-07-07/
CATEGORIES:Public Skates
ATTACH;FMTTYPE=image/jpeg:https://unitedskates-assets.sfo3.digitaloceanspaces.com/wp-content/uploads/sites/15/2023/06/Summer-Fun-Skate-1200x1200-1.jpg
END:VEVENT
BEGIN:VEVENT
DTSTART;TZID=America/New_York:20230707T200000
DTEND;TZID=America/New_York:20230707T220000
DTSTAMP:20260422T232615
CREATED:20221031T155028Z
LAST-MODIFIED:20230622T211147Z
UID:10830-1688760000-1688767200@www.unitedskates.com
SUMMARY:K-POP SKATE NIGHT
DESCRIPTION:OPEN TO ALL AGES \nCLICK HERE TO PURCHASE A TICKET & GUARANTEE YOUR ENTRY\nEVERYONE MUST HAVE A TICKET TO ENTER WHETHER SKATING OR NOT – \n$16.00 for Admission & Skate Rental (Plus Service Fee) \n$11.00 Admission for those with their Own Skates (Plus Service Fee) \n$5.00 Spectators Fee for Non Skating Adults 18yrs+ Only (Plus Service Fee) \nFACE MASKS ARE NOW OPTIONAL BUT RECOMMENDED \nNO OUTSIDE FOOD\, DRINK\, CAKE OR DECOR ALLOWED.
URL:https://www.unitedskates.com/branch-brook-park/event/friday-late-night-skate-2023-07-07/
CATEGORIES:Family Events,Public Skates,Special Events
ATTACH;FMTTYPE=image/jpeg:https://unitedskates-assets.sfo3.digitaloceanspaces.com/wp-content/uploads/sites/15/2022/10/KPOP-Skate-2022-1200x1200-1.jpg
END:VEVENT
BEGIN:VEVENT
DTSTART;TZID=America/New_York:20230709T170000
DTEND;TZID=America/New_York:20230709T190000
DTSTAMP:20260422T232615
CREATED:20220503T205309Z
LAST-MODIFIED:20230629T164100Z
UID:9201-1688922000-1688929200@www.unitedskates.com
SUMMARY:Mario Bros Skate
DESCRIPTION:Open to All Ages \n\n\n\nCLICK HERE TO PRE-PURCHASE TICKETS & GUARANTEE ENTRY \n\n\n\n(Make Sure You REVIEW TIME BEFORE CHECKOUT) \n\n\n\nPLEASE NOTE: THERE ARE A LIMITED AMOUNT OF TICKETS SOLD AT THE DOOR!!!  \n\n\n\nPROOF OF VACCINATION NO LONGER REQUIRED \n\n\n\nFACE MASKS ARE NOW OPTIONAL BUT RECOMMENDED \n\n\n\nEVERYONE MUST HAVE A TICKET TO ENTER WHETHER SKATING OR NOT \n\n\n\n$16.00 for Admission & Skate Rental (Plus Service Fee)  \n\n\n\n$11.00 Admission for those with their Own Skates (Plus Service Fee)  \n\n\n\n$5.00 Spectators Fee for Non-Skating Adults 18yrs+ Only (Plus Service Fee) \nNO OUTSIDE FOOD\, DRINK\, CAKE OR DECOR ALLOWED WITHOUT A RESERVED BIRTHDAY PARTY.
URL:https://www.unitedskates.com/branch-brook-park/event/sunday-family-roller-skate-session-2-2023-07-09/
LOCATION:Branch Brook Park Roller Skating Center\, 7th Ave & Clifton Ave\, Newark\, NJ\, 07104\, United States
CATEGORIES:Family Events
ATTACH;FMTTYPE=image/jpeg:https://unitedskates-assets.sfo3.digitaloceanspaces.com/wp-content/uploads/sites/15/2023/03/MARIO-skate-2022-1200x1200-1.jpg
END:VEVENT
BEGIN:VEVENT
DTSTART;TZID=America/New_York:20230711T130000
DTEND;TZID=America/New_York:20230711T170000
DTSTAMP:20260422T232615
CREATED:20230622T165724Z
LAST-MODIFIED:20230622T171243Z
UID:12715-1689080400-1689094800@www.unitedskates.com
SUMMARY:SUMMER FUN SKATE
DESCRIPTION:CLICK HERE TO PURCHASE TICKETS!\nOPEN TO ALL AGES! PLEASE PAY ATTENTION TO TIMES BEFORE CHECKING OUT! \n$14.00 for Admission & Skate Rental (Plus Service Fee) \n$9.00 Admission for those with their Own Skates (Plus Service Fee) \n$5.00 Spectators Fee for Non Skating Adults 18yrs+ Only (Plus Service Fee) \nTickets are non-refundable\, valid per listed time only and cannot be transferred to a different date or time! Ages 2-17yrs Old Without their Own Skates Must Pay for Rental to Enter. SKATE WAIVERS MUST BE SIGNED BY EVERYONE 18YRS+ ENTERING THE FACILITY UPON ARRIVAL. NO OUTSIDE FOOD\, DRINK\, CAKE OR DECOR ALLOWED.
URL:https://www.unitedskates.com/branch-brook-park/event/summer-fun-skate-3-2023-07-11/
CATEGORIES:Public Skates
ATTACH;FMTTYPE=image/jpeg:https://unitedskates-assets.sfo3.digitaloceanspaces.com/wp-content/uploads/sites/15/2023/06/Summer-Fun-Skate-1200x1200-1.jpg
END:VEVENT
BEGIN:VEVENT
DTSTART;TZID=America/New_York:20230714T120000
DTEND;TZID=America/New_York:20230714T160000
DTSTAMP:20260422T232615
CREATED:20230622T165724Z
LAST-MODIFIED:20230627T225314Z
UID:12718-1689336000-1689350400@www.unitedskates.com
SUMMARY:LITTLE ROLLERS: DISNEY EDITION
DESCRIPTION:CLICK HERE TO PURCHASE TICKETS!\nOPEN TO ALL AGES! PLEASE PAY ATTENTION TO TIMES BEFORE CHECKING OUT! \n$14.00 for Admission & Skate Rental (Plus Service Fee) \n$9.00 Admission for those with their Own Skates (Plus Service Fee) \n$5.00 Spectators Fee for Non Skating Adults 18yrs+ Only (Plus Service Fee) \nTickets are non-refundable\, valid per listed time only and cannot be transferred to a different date or time! Ages 2-17yrs Old Without their Own Skates Must Pay for Rental to Enter. SKATE WAIVERS MUST BE SIGNED BY EVERYONE 18YRS+ ENTERING THE FACILITY UPON ARRIVAL. NO OUTSIDE FOOD\, DRINK\, CAKE OR DECOR ALLOWED.
URL:https://www.unitedskates.com/branch-brook-park/event/summer-fun-skate-3-2023-07-14/
CATEGORIES:Family Events,Public Skates,Special Events
ATTACH;FMTTYPE=image/jpeg:https://unitedskates-assets.sfo3.digitaloceanspaces.com/wp-content/uploads/sites/15/2023/06/Little-Roller-Skate-2023-rink-BBP-scaled.jpg
END:VEVENT
BEGIN:VEVENT
DTSTART;TZID=America/New_York:20230714T200000
DTEND;TZID=America/New_York:20230714T220000
DTSTAMP:20260422T232615
CREATED:20220503T204300Z
LAST-MODIFIED:20230622T211956Z
UID:9217-1689364800-1689372000@www.unitedskates.com
SUMMARY:FREESTYLE MUSIC SKATE
DESCRIPTION:OPEN TO ALL AGES \n\n\n\nCLICK HERE TO PURCHASE A TICKET & GUARANTEE YOUR ENTRY\n\n\n\nEVERYONE MUST HAVE A TICKET TO ENTER WHETHER SKATING OR NOT – \n\n\n\n\n\n$16.00 for Admission & Skate Rental (Plus Service Fee)  \n\n\n\n$11.00 Admission for those with their Own Skates (Plus Service Fee)  \n\n\n\n$5.00 Spectators Fee for Non Skating Adults 18yrs+ Only (Plus Service Fee)  \n\n\n\nFACE MASKS ARE NOW OPTIONAL BUT RECOMMENDED  \nNO OUTSIDE FOOD\, DRINK\, CAKE OR DECOR ALLOWED.
URL:https://www.unitedskates.com/branch-brook-park/event/late-night-skate-2023-07-14/
LOCATION:Branch Brook Park Roller Skating Center\, 7th Ave & Clifton Ave\, Newark\, NJ\, 07104\, United States
CATEGORIES:Family Events,Public Skates,Special Events
ATTACH;FMTTYPE=image/png:https://unitedskates-assets.sfo3.digitaloceanspaces.com/wp-content/uploads/sites/15/2022/05/freestyle.png
END:VEVENT
BEGIN:VEVENT
DTSTART;TZID=America/New_York:20230721T170000
DTEND;TZID=America/New_York:20230721T190000
DTSTAMP:20260422T232615
CREATED:20220503T204123Z
LAST-MODIFIED:20230622T212436Z
UID:9240-1689958800-1689966000@www.unitedskates.com
SUMMARY:Free Dinner with Spider-Man
DESCRIPTION:Open to All Ages \n\n\n\nCLICK HERE TO PURCHASE A TICKET & GUARANTEE YOUR ENTRY \n\n\n\nEVERYONE MUST HAVE A TICKET TO ENTER WHETHER SKATING OR NOT \n\n\n\n\n\n$16.00 for Admission & Skate Rental (Plus Service Fee)  \n\n\n\n$11.00 Admission for those with their Own Skates (Plus Service Fee)  \n\n\n\n$5.00 Spectators Fee for Non Skating Adults 18yrs+ Only (Plus Service Fee)  \n\n\n\nFACE MASKS ARE NOW OPTIONAL BUT RECOMMENDED  \nNO OUTSIDE FOOD\, DRINK\, CAKE OR DECOR ALLOWED.
URL:https://www.unitedskates.com/branch-brook-park/event/family-night-2023-07-21/
LOCATION:Branch Brook Park Roller Skating Center\, 7th Ave & Clifton Ave\, Newark\, NJ\, 07104\, United States
CATEGORIES:Family Events,Public Skates,Special Events
ATTACH;FMTTYPE=image/png:https://unitedskates-assets.sfo3.digitaloceanspaces.com/wp-content/uploads/sites/15/2022/05/with-spider-man.png
END:VEVENT
BEGIN:VEVENT
DTSTART;TZID=America/New_York:20230721T200000
DTEND;TZID=America/New_York:20230721T220000
DTSTAMP:20260422T232615
CREATED:20221031T155028Z
LAST-MODIFIED:20230622T212638Z
UID:10832-1689969600-1689976800@www.unitedskates.com
SUMMARY:Hip Hop Skate
DESCRIPTION:OPEN TO ALL AGES \nCLICK HERE TO PURCHASE A TICKET & GUARANTEE YOUR ENTRY\nEVERYONE MUST HAVE A TICKET TO ENTER WHETHER SKATING OR NOT – \n$16.00 for Admission & Skate Rental (Plus Service Fee) \n$11.00 Admission for those with their Own Skates (Plus Service Fee) \n$5.00 Spectators Fee for Non Skating Adults 18yrs+ Only (Plus Service Fee) \nFACE MASKS ARE NOW OPTIONAL BUT RECOMMENDED \nNO OUTSIDE FOOD\, DRINK\, CAKE OR DECOR ALLOWED.
URL:https://www.unitedskates.com/branch-brook-park/event/friday-late-night-skate-2023-07-21/
CATEGORIES:Family Events,Public Skates,Special Events
ATTACH;FMTTYPE=image/jpeg:https://unitedskates-assets.sfo3.digitaloceanspaces.com/wp-content/uploads/sites/15/2022/10/SAT-Hip-Hop-Skate-2022-1200x1200-1.jpg
END:VEVENT
BEGIN:VEVENT
DTSTART;TZID=America/New_York:20230727T130000
DTEND;TZID=America/New_York:20230727T170000
DTSTAMP:20260422T232615
CREATED:20230622T165724Z
LAST-MODIFIED:20230622T171349Z
UID:12731-1690462800-1690477200@www.unitedskates.com
SUMMARY:SUMMER FUN SKATE
DESCRIPTION:CLICK HERE TO PURCHASE TICKETS!\nOPEN TO ALL AGES! PLEASE PAY ATTENTION TO TIMES BEFORE CHECKING OUT! \n$14.00 for Admission & Skate Rental (Plus Service Fee) \n$9.00 Admission for those with their Own Skates (Plus Service Fee) \n$5.00 Spectators Fee for Non Skating Adults 18yrs+ Only (Plus Service Fee) \nTickets are non-refundable\, valid per listed time only and cannot be transferred to a different date or time! Ages 2-17yrs Old Without their Own Skates Must Pay for Rental to Enter. SKATE WAIVERS MUST BE SIGNED BY EVERYONE 18YRS+ ENTERING THE FACILITY UPON ARRIVAL. NO OUTSIDE FOOD\, DRINK\, CAKE OR DECOR ALLOWED.
URL:https://www.unitedskates.com/branch-brook-park/event/summer-fun-skate-3-2023-07-27/
CATEGORIES:Public Skates
ATTACH;FMTTYPE=image/jpeg:https://unitedskates-assets.sfo3.digitaloceanspaces.com/wp-content/uploads/sites/15/2023/06/Summer-Fun-Skate-1200x1200-1.jpg
END:VEVENT
BEGIN:VEVENT
DTSTART;TZID=America/New_York:20230728T170000
DTEND;TZID=America/New_York:20230728T190000
DTSTAMP:20260422T232615
CREATED:20220503T204123Z
LAST-MODIFIED:20230622T224127Z
UID:9279-1690563600-1690570800@www.unitedskates.com
SUMMARY:Friday Family Roller Skate
DESCRIPTION:Open to All Ages \n\n\n\nCLICK HERE TO PURCHASE A TICKET & GUARANTEE YOUR ENTRY \n\n\n\nEVERYONE MUST HAVE A TICKET TO ENTER WHETHER SKATING OR NOT \n\n\n\n$16.00 for Admission & Skate Rental (Plus Service Fee)  \n\n\n\n$11.00 Admission for those with their Own Skates (Plus Service Fee)  \n\n\n\n$5.00 Spectators Fee for Non Skating Adults 18yrs+ Only (Plus Service Fee)  \n\n\n\nFACE MASKS ARE NOW OPTIONAL BUT RECOMMENDED  \nNO OUTSIDE FOOD\, DRINK\, CAKE OR DECOR ALLOWED.
URL:https://www.unitedskates.com/branch-brook-park/event/family-night-2023-07-28/
LOCATION:Branch Brook Park Roller Skating Center\, 7th Ave & Clifton Ave\, Newark\, NJ\, 07104\, United States
CATEGORIES:Family Events
ATTACH;FMTTYPE=image/jpeg:https://unitedskates-assets.sfo3.digitaloceanspaces.com/wp-content/uploads/sites/15/2022/05/Family-Skate-1200x900-1.jpg
END:VEVENT
BEGIN:VEVENT
DTSTART;TZID=America/New_York:20230728T200000
DTEND;TZID=America/New_York:20230728T220000
DTSTAMP:20260422T232615
CREATED:20220503T204300Z
LAST-MODIFIED:20230628T213353Z
UID:9280-1690574400-1690581600@www.unitedskates.com
SUMMARY:FOR THE LOVERS - SLOW JAMS EDITION
DESCRIPTION:OPEN TO ALL AGES \n\n\n\nCLICK HERE TO PURCHASE A TICKET & GUARANTEE YOUR ENTRY\n\n\n\nEVERYONE MUST HAVE A TICKET TO ENTER WHETHER SKATING OR NOT – \n\n\n\n$16.00 for Admission & Skate Rental (Plus Service Fee)  \n\n\n\n$11.00 Admission for those with their Own Skates (Plus Service Fee)  \n\n\n\n$5.00 Spectators Fee for Non Skating Adults 18yrs+ Only (Plus Service Fee)  \n\n\n\nFACE MASKS ARE NOW OPTIONAL BUT RECOMMENDED  \nNO OUTSIDE FOOD\, DRINK\, CAKE OR DECOR ALLOWED.
URL:https://www.unitedskates.com/branch-brook-park/event/late-night-skate-2023-07-28/
LOCATION:Branch Brook Park Roller Skating Center\, 7th Ave & Clifton Ave\, Newark\, NJ\, 07104\, United States
CATEGORIES:Family Events,Public Skates,Special Events
ATTACH;FMTTYPE=image/jpeg:https://unitedskates-assets.sfo3.digitaloceanspaces.com/wp-content/uploads/sites/15/2022/05/Neon-Pink-White-Dreamy-Clean-Beauty-Brands-Sustainable-Beauty-Logo.jpg
END:VEVENT
BEGIN:VEVENT
DTSTART;TZID=America/New_York:20230729T140000
DTEND;TZID=America/New_York:20230729T160000
DTSTAMP:20260422T232615
CREATED:20220503T204644Z
LAST-MODIFIED:20230728T190542Z
UID:7496-1690639200-1690646400@www.unitedskates.com
SUMMARY:Mario Roller Skate Party
DESCRIPTION:Click Here to Purchase Ticket \n\n\n\nOPEN TO ALL AGES! \n\n\n\n(Make Sure You REVIEW TIME BEFORE CHECKOUT) \n\n\n\n\n\nFACE MASKS ARE NOW OPTIONAL BUT RECOMMENDED \n\n\n\nEVERYONE MUST HAVE A TICKET TO ENTER WHETHER SKATING OR NOT \n\n\n\n$16.00 for Admission & Skate Rental (Plus Service Fee)  \n\n\n\n$11.00 Admission for those with their Own Skates (Plus Service Fee)  \n\n\n\n$5.00 Spectators Fee for Non-Skating Adults 18yrs+ Only (Plus Service Fee)  \nNO OUTSIDE FOOD\, DRINK\, CAKE OR DECOR ALLOWED WITHOUT A RESERVED BIRTHDAY PARTY.
URL:https://www.unitedskates.com/branch-brook-park/event/saturday-family-roller-skate-session-2-2023-07-29/
LOCATION:Branch Brook Park Roller Skating Center\, 7th Ave & Clifton Ave\, Newark\, NJ\, 07104\, United States
CATEGORIES:Family Events,Public Skates,Special Events
ATTACH;FMTTYPE=image/jpeg:https://unitedskates-assets.sfo3.digitaloceanspaces.com/wp-content/uploads/sites/15/2022/05/miraculous-skate-bpp-tile-1.jpg
END:VEVENT
BEGIN:VEVENT
DTSTART;TZID=America/New_York:20230730T210000
DTEND;TZID=America/New_York:20230731T010000
DTSTAMP:20260422T232615
CREATED:20221031T160336Z
LAST-MODIFIED:20230725T184041Z
UID:12688-1690750800-1690765200@www.unitedskates.com
SUMMARY:Sunday Adult Skate
DESCRIPTION:CLICK HERE TO PURCHASE TICKETS\nEVERYONE MUST HAVE A TICKET TO ENTER \n\n\n\n\n\nALL TICKETS ARE FINAL SALE!!! \nTickets are Non-Refundable\, Non-Transferable & Only Valid for the Date & Time Listed Due to Strict Capacity Control \n$20.00 for Admission & Skate Rental (Plus Service Fee) \n$15.00 Admission for those with their Own Skates (Plus Service Fee) \nPRE-PURCHASED TICKETS ARE RECOMMENEDED AS DOOR PRICES ARE HIGHER  \nMust be 18yrs+ with a Valid ID to Attend- NO SPECTATORS FEE \nNO OUTSIDE FOOD\, DRINK\, CAKE OR DECOR ALLOWED WITHOUT A RESERVED BIRTHDAY PARTY. \nAll adults (18+)\, whether skating or not\, will need to fill out our waiver. CLICK HERE for Electronic waivers.
URL:https://www.unitedskates.com/branch-brook-park/event/sunday-adult-skate-2-2023-07-30/
CATEGORIES:Adult Events,Public Skates,Special Events
ATTACH;FMTTYPE=image/jpeg:https://unitedskates-assets.sfo3.digitaloceanspaces.com/wp-content/uploads/sites/15/2022/05/Adult-Skate-2022-1200x900-1.jpg
END:VEVENT
BEGIN:VEVENT
DTSTART;TZID=America/New_York:20230731T130000
DTEND;TZID=America/New_York:20230731T170000
DTSTAMP:20260422T232615
CREATED:20230622T165724Z
LAST-MODIFIED:20230626T192538Z
UID:12735-1690808400-1690822800@www.unitedskates.com
SUMMARY:SUMMER FUN SKATE
DESCRIPTION:CLICK HERE TO PURCHASE TICKETS!\nOPEN TO ALL AGES! PLEASE PAY ATTENTION TO TIMES BEFORE CHECKING OUT! \n$14.00 for Admission & Skate Rental (Plus Service Fee) \n$9.00 Admission for those with their Own Skates (Plus Service Fee) \n$5.00 Spectators Fee for Non Skating Adults 18yrs+ Only (Plus Service Fee) \nTickets are non-refundable\, valid per listed time only and cannot be transferred to a different date or time! Ages 2-17yrs Old Without their Own Skates Must Pay for Rental to Enter. SKATE WAIVERS MUST BE SIGNED BY EVERYONE 18YRS+ ENTERING THE FACILITY UPON ARRIVAL. NO OUTSIDE FOOD\, DRINK\, CAKE OR DECOR ALLOWED.
URL:https://www.unitedskates.com/branch-brook-park/event/summer-fun-skate-3-2023-07-31/
CATEGORIES:Public Skates
ATTACH;FMTTYPE=image/jpeg:https://unitedskates-assets.sfo3.digitaloceanspaces.com/wp-content/uploads/sites/15/2023/06/Summer-Fun-Skate-1200x1200-1.jpg
END:VEVENT
END:VCALENDAR