BEGIN:VCALENDAR
VERSION:2.0
PRODID:-//Rink 41 - Branch Brook Park Skating - ECPv6.15.20//NONSGML v1.0//EN
CALSCALE:GREGORIAN
METHOD:PUBLISH
X-WR-CALNAME:Rink 41 - Branch Brook Park Skating
X-ORIGINAL-URL:https://www.unitedskates.com/branch-brook-park
X-WR-CALDESC:Events for Rink 41 - Branch Brook Park Skating
REFRESH-INTERVAL;VALUE=DURATION:PT1H
X-Robots-Tag:noindex
X-PUBLISHED-TTL:PT1H
BEGIN:VTIMEZONE
TZID:America/New_York
BEGIN:DAYLIGHT
TZOFFSETFROM:-0500
TZOFFSETTO:-0400
TZNAME:EDT
DTSTART:20210314T070000
END:DAYLIGHT
BEGIN:STANDARD
TZOFFSETFROM:-0400
TZOFFSETTO:-0500
TZNAME:EST
DTSTART:20211107T060000
END:STANDARD
BEGIN:DAYLIGHT
TZOFFSETFROM:-0500
TZOFFSETTO:-0400
TZNAME:EDT
DTSTART:20220313T070000
END:DAYLIGHT
BEGIN:STANDARD
TZOFFSETFROM:-0400
TZOFFSETTO:-0500
TZNAME:EST
DTSTART:20221106T060000
END:STANDARD
BEGIN:DAYLIGHT
TZOFFSETFROM:-0500
TZOFFSETTO:-0400
TZNAME:EDT
DTSTART:20230312T070000
END:DAYLIGHT
BEGIN:STANDARD
TZOFFSETFROM:-0400
TZOFFSETTO:-0500
TZNAME:EST
DTSTART:20231105T060000
END:STANDARD
BEGIN:DAYLIGHT
TZOFFSETFROM:-0500
TZOFFSETTO:-0400
TZNAME:EDT
DTSTART:20240310T070000
END:DAYLIGHT
BEGIN:STANDARD
TZOFFSETFROM:-0400
TZOFFSETTO:-0500
TZNAME:EST
DTSTART:20241103T060000
END:STANDARD
END:VTIMEZONE
BEGIN:VEVENT
DTSTART;TZID=America/New_York:20221223T080000
DTEND;TZID=America/New_York:20230102T210000
DTSTAMP:20260425T233742
CREATED:20221128T205525Z
LAST-MODIFIED:20221128T205525Z
UID:11087-1671782400-1672693200@www.unitedskates.com
SUMMARY:Winter Break Roller Skating Schedule 12/22-1/2
DESCRIPTION:Winter Break Roller Skating is Thursday\, December 22nd 2022 through Monday\, January 2nd 2023. \nWe are OPEN EVERYDAY for Adults\, Kids\, Families & Friends to come skate with us. See our SPECIAL Days and Times list below. Plus check our our Special Events that make Roller Skating with us an experience worthy of Instagram. We are featuring events with Characters\, Glow Skates\, NYE Events\, Grinch Skates\, Adults Skates and so much more.. \nCLICK HERE view special Winter Break Schedule
URL:https://www.unitedskates.com/branch-brook-park/event/winter-break-roller-skating-schedule-12-22-1-2/
LOCATION:Branch Brook Park Roller Skating Center\, 7th Ave & Clifton Ave\, Newark\, NJ\, 07104\, United States
CATEGORIES:Adult Events,Family Events,Public Skates,Special Events
ATTACH;FMTTYPE=image/jpeg:https://unitedskates-assets.sfo3.digitaloceanspaces.com/wp-content/uploads/sites/15/2022/11/WB-skate-2022-1200x900-1.jpg
END:VEVENT
BEGIN:VEVENT
DTSTART;TZID=America/New_York:20230101T140000
DTEND;TZID=America/New_York:20230101T160000
DTSTAMP:20260425T233742
CREATED:20221028T231752Z
LAST-MODIFIED:20221214T202656Z
UID:10637-1672581600-1672588800@www.unitedskates.com
SUMMARY:New Years Day Skate
DESCRIPTION:CLICK HERE TO PURCHASE TICKETS! \n\n\n\nEVERYONE MUST HAVE A TICKET TO ENTER WHETHER SKATING OR NOT \n\n\n\n$15.00 for Admission & Skate Rental (Plus Service Fee) \n\n\n\n$10.00 Admission for those with their Own Skates (Plus Service Fee) \n\n\n\n$5.00 Spectators Fee for Non-Skating Adults 18yrs+ Only (Plus Service Fee) \nNO OUTSIDE FOOD\, DRINK\, CAKE OR DECOR ALLOWED WITHOUT A RESERVED BIRTHDAY PARTY.
URL:https://www.unitedskates.com/branch-brook-park/event/sunday-family-roller-skate-session-1-2-2023-01-01/
CATEGORIES:Family Events,Special Events
ATTACH;FMTTYPE=image/jpeg:https://unitedskates-assets.sfo3.digitaloceanspaces.com/wp-content/uploads/sites/15/2022/10/IMG-9502.jpg
END:VEVENT
BEGIN:VEVENT
DTSTART;TZID=America/New_York:20230101T170000
DTEND;TZID=America/New_York:20230101T190000
DTSTAMP:20260425T233742
CREATED:20221028T231953Z
LAST-MODIFIED:20221214T202756Z
UID:10880-1672592400-1672599600@www.unitedskates.com
SUMMARY:New Years Day Skate
DESCRIPTION:CLICK HERE TO PURCHASE TICKETS! \n\n\n\nEVERYONE MUST HAVE A TICKET TO ENTER WHETHER SKATING OR NOT \n\n\n\n$15.00 for Admission & Skate Rental (Plus Service Fee) \n\n\n\n$10.00 Admission for those with their Own Skates (Plus Service Fee) \n\n\n\n$5.00 Spectators Fee for Non-Skating Adults 18yrs+ Only (Plus Service Fee) \nNO OUTSIDE FOOD\, DRINK\, CAKE OR DECOR ALLOWED WITHOUT A RESERVED BIRTHDAY PARTY.
URL:https://www.unitedskates.com/branch-brook-park/event/sunday-family-roller-skate-session-2-2-2023-01-01/
CATEGORIES:Family Events,Special Events
ATTACH;FMTTYPE=image/jpeg:https://unitedskates-assets.sfo3.digitaloceanspaces.com/wp-content/uploads/sites/15/2022/10/IMG-9502.jpg
END:VEVENT
BEGIN:VEVENT
DTSTART;TZID=America/New_York:20230102T120000
DTEND;TZID=America/New_York:20230102T140000
DTSTAMP:20260425T233742
CREATED:20221209T190408Z
LAST-MODIFIED:20221214T203501Z
UID:11215-1672660800-1672668000@www.unitedskates.com
SUMMARY:Winter Break Family Skate
DESCRIPTION:CLICK HERE TO PURCHASE TICKETS!\nEVERYONE MUST HAVE A TICKET TO ENTER WHETHER SKATING OR NOT \n$14.00 for Admission & Skate Rental (Plus Service Fee) \n$9.00 Admission for those with their Own Skates (Plus Service Fee) \n$5.00 Spectators Fee for Non Skating Adults 18yrs+ Only (Plus Service Fee) \nNO OUTSIDE FOOD\, DRINK\, CAKE OR DECOR ALLOWED.
URL:https://www.unitedskates.com/branch-brook-park/event/winter-break-family-skate-7/
CATEGORIES:Family Events,Special Events
ATTACH;FMTTYPE=image/jpeg:https://unitedskates-assets.sfo3.digitaloceanspaces.com/wp-content/uploads/sites/15/2022/10/aff-skate-1200x900-2.jpg
END:VEVENT
BEGIN:VEVENT
DTSTART;TZID=America/New_York:20230102T150000
DTEND;TZID=America/New_York:20230102T170000
DTSTAMP:20260425T233742
CREATED:20220503T203604Z
LAST-MODIFIED:20221214T203602Z
UID:9976-1672671600-1672678800@www.unitedskates.com
SUMMARY:Winter Break Family Skate
DESCRIPTION:CLICK HERE TO PURCHASE TICKETS!\nEVERYONE MUST HAVE A TICKET TO ENTER WHETHER SKATING OR NOT \n$14.00 for Admission & Skate Rental (Plus Service Fee) \n$9.00 Admission for those with their Own Skates (Plus Service Fee) \n$5.00 Spectators Fee for Non Skating Adults 18yrs+ Only (Plus Service Fee) \nNO OUTSIDE FOOD\, DRINK\, CAKE OR DECOR ALLOWED.
URL:https://www.unitedskates.com/branch-brook-park/event/public-skate-2023-01-02/
LOCATION:Branch Brook Park Roller Skating Center\, 7th Ave & Clifton Ave\, Newark\, NJ\, 07104\, United States
CATEGORIES:Family Events,Public Skates,Special Events
ATTACH;FMTTYPE=image/jpeg:https://unitedskates-assets.sfo3.digitaloceanspaces.com/wp-content/uploads/sites/15/2022/10/aff-skate-1200x900-2.jpg
END:VEVENT
BEGIN:VEVENT
DTSTART;TZID=America/New_York:20230102T180000
DTEND;TZID=America/New_York:20230102T210000
DTSTAMP:20260425T233742
CREATED:20221031T160010Z
LAST-MODIFIED:20221214T204052Z
UID:10920-1672682400-1672693200@www.unitedskates.com
SUMMARY:Winter Break Family Session
DESCRIPTION:CLICK HERE TO PURCHASE TICKETS!\n$15.00 for Admission & Skate Rental (Plus Service Fee) \n$10.00 Admission for those with their Own Skates (Plus Service Fee) \n$5.00 Spectators Fee for Non Skating Adults 18yrs+ Only (Plus Service Fee) \nTickets are non-refundable\, valid per listed time only and cannot be transferred to a different date or time! Ages 2-17yrs Old Without their Own Skates Must Pay for Rental to Enter.  \nSKATE WAIVERS MUST BE SIGNED BY EVERYONE 18YRS+ ENTERING THE FACILITY UPON ARRIVAL. NO OUTSIDE FOOD\, DRINK\, CAKE OR DECOR ALLOWED.
URL:https://www.unitedskates.com/branch-brook-park/event/monday-family-skate-2023-01-02/
CATEGORIES:Family Events,Special Events
ATTACH;FMTTYPE=image/jpeg:https://unitedskates-assets.sfo3.digitaloceanspaces.com/wp-content/uploads/sites/15/2022/10/aff-skate-1200x900-2.jpg
END:VEVENT
BEGIN:VEVENT
DTSTART;TZID=America/New_York:20230105T203000
DTEND;TZID=America/New_York:20230106T003000
DTSTAMP:20260425T233742
CREATED:20221230T205944Z
LAST-MODIFIED:20221230T205944Z
UID:11347-1672950600-1672965000@www.unitedskates.com
SUMMARY:First Thursday Adult Night
DESCRIPTION:CLICK HERE TO PURCHASE TICKETS!\nEVERYONE MUST HAVE A TICKET TO ENTER WHETHER SKATING OR NOT \nLIMITED TICKETS AVAILABLE AT THE FACILITY WITH AT DOOR PRICING \n$20.00 for Admission & Skate Rental (Plus Service Fee) \n$15.00 Admission for those with their Own Skates (Plus Service Fee) \nFACE MASKS ARE NOW OPTIONAL BUT RECOMMENDED \nNO SPECTATORS FEE AVAILABLE FOR THIS SESSION \nMUST BE 18YRS+ TO ATTEND WITH A VALID ID NO OUTSIDE FOOD\, DRINK\, CAKE OR DECOR ALLOWED. All adults (18+)\, whether skating or not\, will need to fill out our waiver. CLICK HERE for Electronic waivers.
URL:https://www.unitedskates.com/branch-brook-park/event/first-thursday-adult-night/
CATEGORIES:Adult Events,Special Events
ATTACH;FMTTYPE=image/jpeg:https://unitedskates-assets.sfo3.digitaloceanspaces.com/wp-content/uploads/sites/15/2022/12/IMG-0369.jpg
END:VEVENT
BEGIN:VEVENT
DTSTART;TZID=America/New_York:20230112T203000
DTEND;TZID=America/New_York:20230112T233000
DTSTAMP:20260425T233742
CREATED:20221230T221556Z
LAST-MODIFIED:20230130T221814Z
UID:11352-1673555400-1673566200@www.unitedskates.com
SUMMARY:Thursday Adult Skate Night
DESCRIPTION:Click Here to Purchase Ticket \n\n\n\nEVERYONE MUST HAVE A TICKET TO ENTER WHETHER SKATING OR NOT \n\n\n\nLIMITED TICKETS AVAILABLE AT THE FACILITY WITH AT DOOR PRICING \n\n\n\n$18.00 for Admission & Skate Rental (Plus Service Fee) \n\n\n\n$13.00 Admission for those with their Own Skates (Plus Service Fee) \n\n\n\nFACE MASKS ARE NOW OPTIONAL BUT RECOMMENDED \n\n\n\nNO SPECTATORS FEE AVAILABLE FOR THIS SESSION \n\n\n\nFACE MASKS MANDATORY AT ALL TIMES \n\n\n\nMUST BE 18YRS+ TO ATTEND WITH A VALID ID NO OUTSIDE FOOD\, DRINK\, CAKE OR DECOR ALLOWED. All adults (18+)\, whether skating or not\, will need to fill out our waiver. CLICK HERE for Electronic waivers.
URL:https://www.unitedskates.com/branch-brook-park/event/thursday-adult-skate-night-2-2023-01-12/2023-01-12/
CATEGORIES:Adult Events,Public Skates
ATTACH;FMTTYPE=image/jpeg:https://unitedskates-assets.sfo3.digitaloceanspaces.com/wp-content/uploads/sites/15/2022/05/Adult-Skate-2022-1200x900-1.jpg
END:VEVENT
BEGIN:VEVENT
DTSTART;TZID=America/New_York:20230113T210000
DTEND;TZID=America/New_York:20230113T230000
DTSTAMP:20260425T233742
CREATED:20221031T155028Z
LAST-MODIFIED:20230106T000857Z
UID:10805-1673643600-1673650800@www.unitedskates.com
SUMMARY:Friday Night Fever Adult Skate Night
DESCRIPTION:CLICK HERE TO PURCHASE TICKETS!\nEVERYONE MUST HAVE A TICKET TO ENTER WHETHER SKATING OR NOT \nLIMITED TICKETS AVAILABLE AT THE FACILITY WITH AT DOOR PRICING \n$18.00 for Admission & Skate Rental (Plus Service Fee) \n$13.00 Admission for those with their Own Skates (Plus Service Fee) \nFACE MASKS ARE NOW OPTIONAL BUT RECOMMENDED \nNO SPECTATORS FEE AVAILABLE FOR THIS SESSION \nMUST BE 18YRS+ TO ATTEND WITH A VALID ID NO OUTSIDE FOOD\, DRINK\, CAKE OR DECOR ALLOWED. All adults (18+)\, whether skating or not\, will need to fill out our waiver. CLICK HERE for Electronic waivers.
URL:https://www.unitedskates.com/branch-brook-park/event/friday-late-night-skate-2023-01-13/
CATEGORIES:Adult Events,Special Events
ATTACH;FMTTYPE=image/jpeg:https://unitedskates-assets.sfo3.digitaloceanspaces.com/wp-content/uploads/sites/15/2022/10/friday-night-fever-2023-1200x900-1.jpg
END:VEVENT
BEGIN:VEVENT
DTSTART;TZID=America/New_York:20230116T120000
DTEND;TZID=America/New_York:20230116T140000
DTSTAMP:20260425T233742
CREATED:20221222T190454Z
LAST-MODIFIED:20221222T190454Z
UID:11312-1673870400-1673877600@www.unitedskates.com
SUMMARY:Dr. Martin Luther King Jr. Skate
DESCRIPTION:CLICK HERE TO PURCHASE TICKETS!\n$13.00 for Admission & Skate Rental (Plus Service Fee)  \n$8.00 Admission for those with their Own Skates (Plus Service Fee)  \n$5.00 Spectators Fee for Non Skating Adults 18yrs+ Only (Plus Service Fee)  \nTickets are non-refundable\, valid per listed time only and cannot be transferred to a different date or time! Ages 2-17yrs Old Without their Own Skates Must Pay for Rental to Enter. SKATE WAIVERS MUST BE SIGNED BY EVERYONE 18YRS+ ENTERING THE FACILITY UPON ARRIVAL. NO OUTSIDE FOOD\, DRINK\, CAKE OR DECOR ALLOWED.
URL:https://www.unitedskates.com/branch-brook-park/event/dr-martin-luther-king-jr-skate/
CATEGORIES:Special Events
ATTACH;FMTTYPE=image/jpeg:https://unitedskates-assets.sfo3.digitaloceanspaces.com/wp-content/uploads/sites/15/2022/12/IMG-9931.jpg
END:VEVENT
BEGIN:VEVENT
DTSTART;TZID=America/New_York:20230116T150000
DTEND;TZID=America/New_York:20230116T170000
DTSTAMP:20260425T233742
CREATED:20221222T191124Z
LAST-MODIFIED:20230116T200420Z
UID:11318-1673881200-1673888400@www.unitedskates.com
SUMMARY:Dr. Martin Luther King Jr. Skate
DESCRIPTION:CLICK HERE TO PURCHASE TICKETS!\n$13.00 for Admission & Skate Rental (Plus Service Fee) \n$8.00 Admission for those with their Own Skates (Plus Service Fee) \n$5.00 Spectators Fee for Non Skating Adults 18yrs+ Only (Plus Service Fee) \nTickets are non-refundable\, valid per listed time only and cannot be transferred to a different date or time! Ages 2-17yrs Old Without their Own Skates Must Pay for Rental to Enter. SKATE WAIVERS MUST BE SIGNED BY EVERYONE 18YRS+ ENTERING THE FACILITY UPON ARRIVAL. NO OUTSIDE FOOD\, DRINK\, CAKE OR DECOR ALLOWED.
URL:https://www.unitedskates.com/branch-brook-park/event/events-on-sale-dr-martin-luther-king-jr-skate/
CATEGORIES:Family Events,Public Skates,Special Events
ATTACH;FMTTYPE=image/jpeg:https://unitedskates-assets.sfo3.digitaloceanspaces.com/wp-content/uploads/sites/15/2022/12/IMG-9931.jpg
END:VEVENT
BEGIN:VEVENT
DTSTART;TZID=America/New_York:20230116T180000
DTEND;TZID=America/New_York:20230116T200000
DTSTAMP:20260425T233742
CREATED:20220503T203604Z
LAST-MODIFIED:20230116T200652Z
UID:9978-1673892000-1673899200@www.unitedskates.com
SUMMARY:Dr. Martin Luther King Jr. Skate
DESCRIPTION:CLICK HERE TO PURCHASE TICKETS!\n\n\n\n$13.00 for Admission & Skate Rental (Plus Service Fee) \n$8.00 Admission for those with their Own Skates (Plus Service Fee) \n$5.00 Spectators Fee for Non Skating Adults 18yrs+ Only (Plus Service Fee) \nTickets are non-refundable\, valid per listed time only and cannot be transferred to a different date or time! Ages 2-17yrs Old Without their Own Skates Must Pay for Rental to Enter. SKATE WAIVERS MUST BE SIGNED BY EVERYONE 18YRS+ ENTERING THE FACILITY UPON ARRIVAL. NO OUTSIDE FOOD\, DRINK\, CAKE OR DECOR ALLOWED.
URL:https://www.unitedskates.com/branch-brook-park/event/public-skate-2023-01-16/
LOCATION:Branch Brook Park Roller Skating Center\, 7th Ave & Clifton Ave\, Newark\, NJ\, 07104\, United States
CATEGORIES:Family Events,Public Skates,Special Events
ATTACH;FMTTYPE=image/jpeg:https://unitedskates-assets.sfo3.digitaloceanspaces.com/wp-content/uploads/sites/15/2022/12/IMG-9931.jpg
END:VEVENT
BEGIN:VEVENT
DTSTART;TZID=America/New_York:20230116T210000
DTEND;TZID=America/New_York:20230116T230000
DTSTAMP:20260425T233742
CREATED:20221229T215811Z
LAST-MODIFIED:20221229T220113Z
UID:11334-1673902800-1673910000@www.unitedskates.com
SUMMARY:Sounds of the Diaspora Adult Night
DESCRIPTION:Click Here to Purchase Tickets\nEVERYONE MUST HAVE A TICKET TO ENTER WHETHER SKATING OR NOT \nLIMITED TICKETS AVAILABLE AT THE FACILITY WITH AT DOOR PRICING \n$18.00 for Admission & Skate Rental (Plus Service Fee) \n$13.00 Admission for those with their Own Skates (Plus Service Fee) \nFACE MASKS ARE NOW OPTIONAL BUT RECOMMENDED \nNO SPECTATORS FEE AVAILABLE FOR THIS SESSION \nMUST BE 18YRS+ TO ATTEND WITH A VALID ID NO OUTSIDE FOOD\, DRINK\, CAKE OR DECOR ALLOWED. All adults (18+)\, whether skating or not\, will need to fill out our waiver. CLICK HERE for Electronic waivers.
URL:https://www.unitedskates.com/branch-brook-park/event/sounds-of-the-diaspora-adult-night/
CATEGORIES:Adult Events,Special Events
ATTACH;FMTTYPE=image/jpeg:https://unitedskates-assets.sfo3.digitaloceanspaces.com/wp-content/uploads/sites/15/2022/12/Diaspora-adult-skate-2023-1200x900-1.jpg
END:VEVENT
BEGIN:VEVENT
DTSTART;TZID=America/New_York:20230120T210000
DTEND;TZID=America/New_York:20230120T230000
DTSTAMP:20260425T233742
CREATED:20221031T155028Z
LAST-MODIFIED:20221229T221500Z
UID:10806-1674248400-1674255600@www.unitedskates.com
SUMMARY:New R & B Skate
DESCRIPTION:OPEN TO ALL AGES \nCLICK HERE TO PURCHASE A TICKET & GUARANTEE YOUR ENTRY\nEVERYONE MUST HAVE A TICKET TO ENTER WHETHER SKATING OR NOT – \n$15.00 for Admission & Skate Rental (Plus Service Fee) \n$10.00 Admission for those with their Own Skates (Plus Service Fee) \n$5.00 Spectators Fee for Non Skating Adults 18yrs+ Only (Plus Service Fee) \nFACE MASKS ARE NOW OPTIONAL BUT RECOMMENDED \nNO OUTSIDE FOOD\, DRINK\, CAKE OR DECOR ALLOWED.
URL:https://www.unitedskates.com/branch-brook-park/event/friday-late-night-skate-2023-01-20/
CATEGORIES:Family Events,Special Events
ATTACH;FMTTYPE=image/jpeg:https://unitedskates-assets.sfo3.digitaloceanspaces.com/wp-content/uploads/sites/15/2022/10/New-R-B-Skate-2023-1200x900-1-e1709570057292.jpg
END:VEVENT
BEGIN:VEVENT
DTSTART;TZID=America/New_York:20230127T210000
DTEND;TZID=America/New_York:20230128T000000
DTSTAMP:20260425T233742
CREATED:20221031T155028Z
LAST-MODIFIED:20230106T000426Z
UID:10807-1674853200-1674864000@www.unitedskates.com
SUMMARY:Una Casa Latina Adult Skate Night
DESCRIPTION:18 YEARS OLD OR OLDER WITH A VALID FORM OF ID! \nCLICK HERE TO PURCHASE A TICKET & GUARANTEE YOUR ENTRY\nEVERYONE MUST HAVE A TICKET TO ENTER WHETHER SKATING OR NOT – \nDUE TO HIGH DEMAND TICKETS WILL NOT BE AVAILABLE TO PURCAHSE AT THE DOOR! PRE-PURCHASED TICKETS ONLY! \n$18.00 for Admission & Skate Rental (Plus Service Fee) \n$13.00 Admission for those with their Own Skates (Plus Service Fee) \nFACE MASKS ARE NOW OPTIONAL BUT RECOMMENDED \nNO OUTSIDE FOOD\, DRINK\, CAKE OR DECOR ALLOWED.
URL:https://www.unitedskates.com/branch-brook-park/event/friday-late-night-skate-2023-01-27/
CATEGORIES:Adult Events,Special Events
ATTACH;FMTTYPE=image/jpeg:https://unitedskates-assets.sfo3.digitaloceanspaces.com/wp-content/uploads/sites/15/2022/10/Una-Casa-Latina-adult-skate-1200x900-1.jpg
END:VEVENT
BEGIN:VEVENT
DTSTART;TZID=America/New_York:20230131T190000
DTEND;TZID=America/New_York:20230131T200000
DTSTAMP:20260425T233742
CREATED:20230130T221001Z
LAST-MODIFIED:20230622T225929Z
UID:11576-1675191600-1675195200@www.unitedskates.com
SUMMARY:Advanced Adult Skate Lessons
DESCRIPTION:CLICK HERE TO PURCHASE TICKETS\nMust be 18 years + to attend these lessons – followed by the adult session from 7-10pm \nLessons are available for following levels: \nIntermediate & Advanced Only \nLessons are $20.00 a person plus tax and service fees. Our lessons will be led by Boot Camp Cory LLC\, skate rental is included and wrist guard rental. After your skate lesson you receive GUARANTEED entry to the Tuesday Night Adult Skate Session from 7:00pm-10:00pm to continue enhancing your skate skills. \nPRE-PURCHASED TICKETS ARE RECOMMENEDED AS DOOR PRICES ARE HIGHER \nNO OUTSIDE FOOD\, DRINK\, CAKE OR DECOR ALLOWED. \n 
URL:https://www.unitedskates.com/branch-brook-park/event/advanced-adult-skate-lessons/2023-01-31/
CATEGORIES:Adult Events,Lessons
ATTACH;FMTTYPE=image/jpeg:https://unitedskates-assets.sfo3.digitaloceanspaces.com/wp-content/uploads/sites/15/2022/04/Event-Skate-Lessons.jpg
END:VEVENT
END:VCALENDAR