BEGIN:VCALENDAR
VERSION:2.0
PRODID:-//Rink 41 - Branch Brook Park Skating - ECPv6.15.20//NONSGML v1.0//EN
CALSCALE:GREGORIAN
METHOD:PUBLISH
X-ORIGINAL-URL:https://www.unitedskates.com/branch-brook-park
X-WR-CALDESC:Events for Rink 41 - Branch Brook Park Skating
REFRESH-INTERVAL;VALUE=DURATION:PT1H
X-Robots-Tag:noindex
X-PUBLISHED-TTL:PT1H
BEGIN:VTIMEZONE
TZID:America/New_York
BEGIN:DAYLIGHT
TZOFFSETFROM:-0500
TZOFFSETTO:-0400
TZNAME:EDT
DTSTART:20250309T070000
END:DAYLIGHT
BEGIN:STANDARD
TZOFFSETFROM:-0400
TZOFFSETTO:-0500
TZNAME:EST
DTSTART:20251102T060000
END:STANDARD
BEGIN:DAYLIGHT
TZOFFSETFROM:-0500
TZOFFSETTO:-0400
TZNAME:EDT
DTSTART:20260308T070000
END:DAYLIGHT
BEGIN:STANDARD
TZOFFSETFROM:-0400
TZOFFSETTO:-0500
TZNAME:EST
DTSTART:20261101T060000
END:STANDARD
BEGIN:DAYLIGHT
TZOFFSETFROM:-0500
TZOFFSETTO:-0400
TZNAME:EDT
DTSTART:20270314T070000
END:DAYLIGHT
BEGIN:STANDARD
TZOFFSETFROM:-0400
TZOFFSETTO:-0500
TZNAME:EST
DTSTART:20271107T060000
END:STANDARD
END:VTIMEZONE
BEGIN:VEVENT
DTSTART;TZID=America/New_York:20260424T180000
DTEND;TZID=America/New_York:20260424T200000
DTSTAMP:20260424T230448
CREATED:20260114T193037Z
LAST-MODIFIED:20260224T205213Z
UID:22984-1777053600-1777060800@www.unitedskates.com
SUMMARY:Flash Deal Fridays Family
DESCRIPTION:🛼 All Ages Skate Session \n⏰ 6:00 PM – 8:00 PM \n🎟️ Admission: \n\n$10 online | $12 at the door (Plus Tax)\n\n🛼 Skate Rental: \n\n$6 (required for ages 2–17 without their own skates) \n\n👀 Non-Skating Adults (18+): \n\n$5 chaperone fee (not valid for children)\n\n📝 Waivers required for all guests entering (ages 2+ must be listed). Must be completed the day of visit. \n🚫 No outside food\, drinks\, cakes\, or décor \n⚠️ All tickets final sale and valid for the listed date and time only | Group rates must be booked in advance
URL:https://www.unitedskates.com/branch-brook-park/event/flash-deal-fridays-family-2026-04-24/
CATEGORIES:Family Events,Public Skates
ATTACH;FMTTYPE=image/png:https://unitedskates-assets.sfo3.digitaloceanspaces.com/wp-content/uploads/sites/15/2026/01/Black-Green-Modern-Black-Friday-Sale-Promotion-Instagram-Post-Real-Estate-Flyer-1.png
END:VEVENT
BEGIN:VEVENT
DTSTART;TZID=America/New_York:20260424T203000
DTEND;TZID=America/New_York:20260424T223000
DTSTAMP:20260424T230448
CREATED:20260114T193245Z
LAST-MODIFIED:20260302T213716Z
UID:23036-1777062600-1777069800@www.unitedskates.com
SUMMARY:Hip-Hop and R&B Skate
DESCRIPTION:🛼 BRINGING THE VIBES ALL SESSION \nAll Ages Skate Session \n⏰ 8:30 PM – 10:30 PM \n🎟️ Admission: \n\n$10 online | $12 at the door (Plus Tax)\n\n🛼 Skate Rental: \n\n$6 (required for ages 2–17 without their own skates) \n\n👀 Non-Skating Adults (18+): \n\n$5 chaperone fee (not valid for children)\n\n📝 Waivers required for all guests entering (ages 2+ must be listed). Must be completed the day of visit. \n🚫 No outside food\, drinks\, cakes\, or décor \n⚠️ All tickets final sale and valid for the listed date and time only | Group rates must be booked in advance
URL:https://www.unitedskates.com/branch-brook-park/event/hip-hop-and-rb-skate-2-2026-04-24/
CATEGORIES:Family Events,Public Skates
ATTACH;FMTTYPE=image/png:https://unitedskates-assets.sfo3.digitaloceanspaces.com/wp-content/uploads/sites/15/2025/11/Hip-Hop-4-1.png
END:VEVENT
BEGIN:VEVENT
DTSTART;TZID=America/New_York:20260424T230000
DTEND;TZID=America/New_York:20260425T030000
DTSTAMP:20260424T230448
CREATED:20260325T211353Z
LAST-MODIFIED:20260422T180105Z
UID:24449-1777071600-1777086000@www.unitedskates.com
SUMMARY:Lit Nation - Day 1 Adult Skate Night
DESCRIPTION:YOU MUST BE 18YRS+ WITH A VALID GOVERNMENT ISSUED ID TO ATTEND THIS EVENT – Online pricing will only be honored for international guests who provide a valid government-issued photo ID from their country at check-in. \n$29.00 for Admission & Skate Rental (Plus Service Fee & Tax) \n$23.00 Admission for those with their Own Skates (Plus Service Fee & Tax) \nNO SPECTATORS FEE AVAILABLE FOR ADULT NIGHTS \nSAVE MONEY & PRE-PURCHASE YOUR TICKET ONLINE\, AS DOOR PRICES ARE $2.00 MORE! \nPRE-PURCHASED TICKETS ARE RECOMMENDED AS WAIT TIMES ARE EXPECTED IF PURCHASING TICKETS AT THE FACILITY \nThere are NO Refunds Tickets are Valid per Listed Time Only & Can’t be Transferred To a Different Date or Time! \nALL GUESTS MUST SIGN WAIVERS IN ORDER TO ENTER! Please note: ALL guests must present a valid form of a government-issued ID.\nNO OUTSIDE FOOD\, DRINK\, CAKE OR DECOR ALLOWED.
URL:https://www.unitedskates.com/branch-brook-park/event/lit-nation-day-2-adult-skate-night/
CATEGORIES:Adult Events,Public Skates,Special Events
ATTACH;FMTTYPE=image/jpeg:https://unitedskates-assets.sfo3.digitaloceanspaces.com/wp-content/uploads/sites/15/2026/03/IMG_7034.jpg
END:VEVENT
BEGIN:VEVENT
DTSTART;TZID=America/New_York:20260425T110000
DTEND;TZID=America/New_York:20260425T140000
DTSTAMP:20260424T230448
CREATED:20251113T202146Z
LAST-MODIFIED:20260224T213849Z
UID:22374-1777114800-1777125600@www.unitedskates.com
SUMMARY:Saturday Family Roller Skating
DESCRIPTION:🛼 All Ages Skate Session \n⏰ 11:00 AM – 2:00 PM \n🎟️ Admission: \n\n$15 online | $17 at the door (Plus Tax)\n\n🛼 Skate Rental: \n\n$6 (required for ages 2–17 without their own skates)\n\n👀 Non-Skating Adults (18+): \n\n$5 chaperone fee (not valid for children)\n\n📝 Waivers required for all guests entering (ages 2+ must be listed). Must be completed the day of visit. \n🚫 No outside food\, drinks\, cakes\, or décor \n⚠️ All tickets final sale and valid for the listed date and time only | Group rates must be booked in advance \nON SATURDAYS AFTER 6PM – All minors (17 years old and younger) that are entering MUST have an adult chaperone 21yrs+ with a government issued ID. NO DROP-OFFS!
URL:https://www.unitedskates.com/branch-brook-park/event/saturday-family-roller-skating-6-2026-04-25/
CATEGORIES:Family Events,Public Skates
ATTACH;FMTTYPE=image/png:https://unitedskates-assets.sfo3.digitaloceanspaces.com/wp-content/uploads/sites/15/2024/12/Public-Skate.png
END:VEVENT
BEGIN:VEVENT
DTSTART;TZID=America/New_York:20260425T150000
DTEND;TZID=America/New_York:20260425T180000
DTSTAMP:20260424T230448
CREATED:20251204T204628Z
LAST-MODIFIED:20260303T181718Z
UID:22569-1777129200-1777140000@www.unitedskates.com
SUMMARY:Hello Kitty Spring Break
DESCRIPTION:🛼 All Ages Skate Session \n⏰ 3:00 PM – 6:00 PM \n🎟️ Admission: \n\n$15 online | $17 at the door (Plus Tax)\n\n🛼 Skate Rental: \n\n$6 (required for ages 2–17 without their own skates)\n\n👀 Non-Skating Adults (18+): \n\n$5 chaperone fee (not valid for children)\n\n📝 Waivers required for all guests entering (ages 2+ must be listed). Must be completed the day of visit. \n🚫 No outside food\, drinks\, cakes\, or décor \n⚠️ All tickets final sale and valid for the listed date and time only | Group rates must be booked in advance \nON SATURDAYS AFTER 6PM – All minors (17 years old and younger) that are entering MUST have an adult chaperone 21yrs+ with a government issued ID. NO DROP-OFFS!
URL:https://www.unitedskates.com/branch-brook-park/event/saturday-family-roller-skating-2-4-2026-04-25/
CATEGORIES:Family Events,Public Skates,Special Events
ATTACH;FMTTYPE=image/jpeg:https://unitedskates-assets.sfo3.digitaloceanspaces.com/wp-content/uploads/sites/15/2025/12/IMG_6372.jpeg
END:VEVENT
BEGIN:VEVENT
DTSTART;TZID=America/New_York:20260425T190000
DTEND;TZID=America/New_York:20260425T220000
DTSTAMP:20260424T230448
CREATED:20251204T204847Z
LAST-MODIFIED:20260302T162239Z
UID:22617-1777143600-1777154400@www.unitedskates.com
SUMMARY:Saturday Family Roller Skating 3
DESCRIPTION:🛼 All Ages Skate Session \n⏰ 7:00 PM – 10:00 PM \n🎟️ Admission: \n\n$15 online | $17 at the door (Plus Tax)\n\n🛼 Skate Rental: \n\n$6 (required for ages 2–17 without their own skates)\n\n👀 Non-Skating Adults (18+): \n\n$5 chaperone fee (not valid for children)\n\n📝 Waivers required for all guests entering (ages 2+ must be listed). Must be completed the day of visit. \n🚫 No outside food\, drinks\, cakes\, or décor \n⚠️ All tickets final sale and valid for the listed date and time only | Group rates must be booked in advance \nON SATURDAYS AFTER 6PM – All minors (17 years old and younger) that are entering MUST have an adult chaperone 21yrs+ with a government issued ID. NO DROP-OFFS!
URL:https://www.unitedskates.com/branch-brook-park/event/saturday-family-roller-skating-3-4/2026-04-25/
CATEGORIES:Family Events,Public Skates
ATTACH;FMTTYPE=image/png:https://unitedskates-assets.sfo3.digitaloceanspaces.com/wp-content/uploads/sites/15/2024/12/Public-Skate.png
END:VEVENT
BEGIN:VEVENT
DTSTART;TZID=America/New_York:20260425T230000
DTEND;TZID=America/New_York:20260426T030000
DTSTAMP:20260424T230448
CREATED:20260325T211541Z
LAST-MODIFIED:20260422T180207Z
UID:24453-1777158000-1777172400@www.unitedskates.com
SUMMARY:Lit Nation - Day 2 Sunday Adult Skate Night
DESCRIPTION:YOU MUST BE 18YRS+ WITH A VALID GOVERNMENT ISSUED ID TO ATTEND THIS EVENT – Online pricing will only be honored for international guests who provide a valid government-issued photo ID from their country at check-in. \n$29.00 for Admission & Skate Rental (Plus Service Fee & Tax) \n$23.00 Admission for those with their Own Skates (Plus Service Fee & Tax) \nNO SPECTATORS FEE AVAILABLE FOR ADULT NIGHTS \nSAVE MONEY & PRE-PURCHASE YOUR TICKET ONLINE\, AS DOOR PRICES ARE $2.00 MORE! \nPRE-PURCHASED TICKETS ARE RECOMMENDED AS WAIT TIMES ARE EXPECTED IF PURCHASING TICKETS AT THE FACILITY \nThere are NO Refunds Tickets are Valid per Listed Time Only & Can’t be Transferred To a Different Date or Time! \nALL GUESTS MUST SIGN WAIVERS IN ORDER TO ENTER! Please note: ALL guests must present a valid form of a government-issued ID.\nNO OUTSIDE FOOD\, DRINK\, CAKE OR DECOR ALLOWED.
URL:https://www.unitedskates.com/branch-brook-park/event/lit-nation-day-2-sunday-adult-skate-night/
CATEGORIES:Adult Events,Public Skates,Special Events
ATTACH;FMTTYPE=image/jpeg:https://unitedskates-assets.sfo3.digitaloceanspaces.com/wp-content/uploads/sites/15/2026/03/IMG_7034.jpg
END:VEVENT
BEGIN:VEVENT
DTSTART;TZID=America/New_York:20260426T120000
DTEND;TZID=America/New_York:20260426T150000
DTSTAMP:20260424T230448
CREATED:20260127T155717Z
LAST-MODIFIED:20260302T191442Z
UID:23494-1777204800-1777215600@www.unitedskates.com
SUMMARY:Glow Roll Extravaganza
DESCRIPTION:🛼 All Ages Skate Session \n⏰ 12:00 PM – 3:00 PM \n🎟️ Admission: \n\n$15 online | $17 at the door (Plus Tax)\n\n🛼 Skate Rental: \n\n$6 (required for ages 2–17 without their own skates)\n\n👀 Non-Skating Adults (18+): \n\n$5 chaperone fee (not valid for children)\n\n📝 Waivers required for all guests entering (ages 2+ must be listed). Must be completed the day of visit. \n🚫 No outside food\, drinks\, cakes\, or décor \n⚠️ All tickets final sale and valid for the listed date and time only | Group rates must be booked in advance
URL:https://www.unitedskates.com/branch-brook-park/event/glow-roll-extravaganza/2026-04-26/
CATEGORIES:Family Events,Public Skates,Special Events
ATTACH;FMTTYPE=image/png:https://unitedskates-assets.sfo3.digitaloceanspaces.com/wp-content/uploads/sites/15/2025/10/gre-2026.png
END:VEVENT
BEGIN:VEVENT
DTSTART;TZID=America/New_York:20260426T160000
DTEND;TZID=America/New_York:20260426T190000
DTSTAMP:20260424T230448
CREATED:20251113T142655Z
LAST-MODIFIED:20260302T165322Z
UID:21977-1777219200-1777230000@www.unitedskates.com
SUMMARY:Sunday Family Roller Skating
DESCRIPTION:🛼 All Ages Skate Session \n⏰ 4:00 PM – 7:00 PM \n🎟️ Admission: \n\n$15 online | $17 at the door (Plus Tax)\n\n🛼 Skate Rental: \n\n$6 (required for ages 2–17 without their own skates)\n\n👀 Non-Skating Adults (18+): \n\n$5 chaperone fee (not valid for children)\n\n📝 Waivers required for all guests entering (ages 2+ must be listed). Must be completed the day of visit. \n🚫 No outside food\, drinks\, cakes\, or décor \n⚠️ All tickets final sale and valid for the listed date and time only | Group rates must be booked in advance
URL:https://www.unitedskates.com/branch-brook-park/event/sunday-family-roller-skating-2/2026-04-26/
CATEGORIES:Family Events,Public Skates
ATTACH;FMTTYPE=image/png:https://unitedskates-assets.sfo3.digitaloceanspaces.com/wp-content/uploads/sites/15/2024/12/Public-Skate.png
END:VEVENT
BEGIN:VEVENT
DTSTART;TZID=America/New_York:20260426T200000
DTEND;TZID=America/New_York:20260427T000000
DTSTAMP:20260424T230448
CREATED:20251113T182518Z
LAST-MODIFIED:20260422T180311Z
UID:22316-1777233600-1777248000@www.unitedskates.com
SUMMARY:Lit Nation - Day 3 Sunday Adult Skate Night
DESCRIPTION:YOU MUST BE 18YRS+ WITH A VALID GOVERNMENT ISSUED ID TO ATTEND THIS EVENT – Online pricing will only be honored for international guests who provide a valid government-issued photo ID from their country at check-in. \n$26.00 for Admission & Skate Rental (Plus Service Fee & Tax) \n$20.00 Admission for those with their Own Skates (Plus Service Fee & Tax) \nNO SPECTATORS FEE AVAILABLE FOR ADULT NIGHTS \nSAVE MONEY & PRE-PURCHASE YOUR TICKET ONLINE\, AS DOOR PRICES ARE $2.00 MORE! \nPRE-PURCHASED TICKETS ARE RECOMMENDED AS WAIT TIMES ARE EXPECTED IF PURCHASING TICKETS AT THE FACILITY \nThere are NO Refunds Tickets are Valid per Listed Time Only & Can’t be Transferred To a Different Date or Time! \nALL GUESTS MUST SIGN WAIVERS IN ORDER TO ENTER! Please note: ALL guests must present a valid form of a government-issued ID.\nNO OUTSIDE FOOD\, DRINK\, CAKE OR DECOR ALLOWED.
URL:https://www.unitedskates.com/branch-brook-park/event/sunday-adult-skate-night-5-2026-04-26/
CATEGORIES:Adult Events,Public Skates,Special Events
ATTACH;FMTTYPE=image/jpeg:https://unitedskates-assets.sfo3.digitaloceanspaces.com/wp-content/uploads/sites/15/2025/11/IMG_7034.jpg
END:VEVENT
BEGIN:VEVENT
DTSTART;TZID=America/New_York:20260427T180000
DTEND;TZID=America/New_York:20260427T210000
DTSTAMP:20260424T230448
CREATED:20260114T193652Z
LAST-MODIFIED:20260326T163646Z
UID:23137-1777312800-1777323600@www.unitedskates.com
SUMMARY:Monday Discounted Family Skate Night
DESCRIPTION:🛼 All Ages Skate Session \n⏰ 6:00 PM – 9:00 PM \n🎟️ Admission: \n\n $6 online | $8 at the door (Plus Tax)\n\n🛼 Skate Rental: \n\n $6 (required for ages 2–17 without their own skates) \n\n👀 Non-Skating Adults (18+): \n\n $5 chaperone fee (not valid for children)\n\n📝 Waivers required for all guests entering (ages 2+ must be listed). Must be completed the day of visit. \n🚫 No outside food\, drinks\, cakes\, or décor \n⚠️ All tickets final sale and valid for the listed date and time only | Group rates must be booked in advance
URL:https://www.unitedskates.com/branch-brook-park/event/monday-discounted-family-skate-night-4/2026-04-27/
CATEGORIES:Family Events,Public Skates
ATTACH;FMTTYPE=image/jpeg:https://unitedskates-assets.sfo3.digitaloceanspaces.com/wp-content/uploads/sites/15/2025/07/DISCOOUNTMONDAYDREAM.jpg
END:VEVENT
BEGIN:VEVENT
DTSTART;TZID=America/New_York:20260428T190000
DTEND;TZID=America/New_York:20260428T200000
DTSTAMP:20260424T230448
CREATED:20260224T201704Z
LAST-MODIFIED:20260224T201704Z
UID:23793-1777402800-1777406400@www.unitedskates.com
SUMMARY:Tuesday Adult Skate Lessons
DESCRIPTION:🛼 Adult Skate Session \nYou must be 18yrs+ to Attend with a Valid Government Issued ID \n⏰ 7:00 PM – 8:00 PM \n🎟️ Admission: \n\n$22 online | $24 at the door\n\n🛼 Skate Rental included with lessons with admission into the following session \n👀 No Chaperone Fee for this Time Frame \n📝 Waivers required for all adults entering the facility. Must be completed the day of visit. \n🚫 No outside food\, drinks\, cakes\, or décor \n⚠️ All tickets final sale and valid for the listed date and time only | Group rates must be booked in advance
URL:https://www.unitedskates.com/branch-brook-park/event/tuesday-adult-skate-lessons/2026-04-28/
CATEGORIES:Adult Events,Lessons,Public Skates
ATTACH;FMTTYPE=image/jpeg:https://unitedskates-assets.sfo3.digitaloceanspaces.com/wp-content/uploads/sites/15/2026/01/Copy-of-Adult-Skate-Lessons.jpg
END:VEVENT
BEGIN:VEVENT
DTSTART;TZID=America/New_York:20260428T200000
DTEND;TZID=America/New_York:20260429T000000
DTSTAMP:20260424T230448
CREATED:20260224T201218Z
LAST-MODIFIED:20260422T140401Z
UID:23752-1777406400-1777420800@www.unitedskates.com
SUMMARY:Last Tuesday Adult Skate Night
DESCRIPTION:🛼 Adult Skate Session  \nYou must be 18yrs+ to Attend with a Valid Government Issued ID \n⏰ 8:00 PM – 12:00 AM \n🎟️ Admission: \n\n $15 online | $17 at the door\n\n🛼 Skate Rental: \n\n $6 (required for those without their own skates)\n\n👀 No Chaperone Fee for this Time Frame \n📝 Waivers required for all adults entering the facility. Must be completed the day of visit. \n🚫 No outside food\, drinks\, cakes\, or décor \n⚠️ All tickets final sale and valid for the listed date and time only | Group rates must be booked in advance
URL:https://www.unitedskates.com/branch-brook-park/event/tuesday-adult-skate-night-8-2026-04-28/
CATEGORIES:Adult Events,Public Skates
ATTACH;FMTTYPE=image/png:https://unitedskates-assets.sfo3.digitaloceanspaces.com/wp-content/uploads/sites/15/2024/12/Adult-Night-Tu-THu.png
END:VEVENT
BEGIN:VEVENT
DTSTART;TZID=America/New_York:20260430T203000
DTEND;TZID=America/New_York:20260430T233000
DTSTAMP:20260424T230448
CREATED:20260114T200640Z
LAST-MODIFIED:20260224T202632Z
UID:23240-1777581000-1777591800@www.unitedskates.com
SUMMARY:Thursday Adult Skate Night
DESCRIPTION:🛼 Adult Skate Session  \nYou must be 18yrs+ to Attend with a Valid Government Issued ID \n⏰ 8:30 PM – 11:30 PM \n🎟️ Admission: \n\n$15 online | $17 at the door\n\n🛼 Skate Rental: \n\n$6 (required for those without their own skates)\n\n👀 No Chaperone Fee for this Time Frame \n📝 Waivers required for all adults entering the facility. Must be completed the day of visit. \n🚫 No outside food\, drinks\, cakes\, or décor \n⚠️ All tickets final sale and valid for the listed date and time only | Group rates must be booked in advance
URL:https://www.unitedskates.com/branch-brook-park/event/thursday-adult-skate-night-13-2026-04-30/
CATEGORIES:Family Events,Public Skates
ATTACH;FMTTYPE=image/jpeg:https://unitedskates-assets.sfo3.digitaloceanspaces.com/wp-content/uploads/sites/15/2026/01/DREAMTHURSDAY26.jpeg
END:VEVENT
END:VCALENDAR