BEGIN:VCALENDAR
VERSION:2.0
PRODID:-//Rink 41 - Branch Brook Park Skating - ECPv6.15.20//NONSGML v1.0//EN
CALSCALE:GREGORIAN
METHOD:PUBLISH
X-WR-CALNAME:Rink 41 - Branch Brook Park Skating
X-ORIGINAL-URL:https://www.unitedskates.com/branch-brook-park
X-WR-CALDESC:Events for Rink 41 - Branch Brook Park Skating
REFRESH-INTERVAL;VALUE=DURATION:PT1H
X-Robots-Tag:noindex
X-PUBLISHED-TTL:PT1H
BEGIN:VTIMEZONE
TZID:America/New_York
BEGIN:DAYLIGHT
TZOFFSETFROM:-0500
TZOFFSETTO:-0400
TZNAME:EDT
DTSTART:20250309T070000
END:DAYLIGHT
BEGIN:STANDARD
TZOFFSETFROM:-0400
TZOFFSETTO:-0500
TZNAME:EST
DTSTART:20251102T060000
END:STANDARD
BEGIN:DAYLIGHT
TZOFFSETFROM:-0500
TZOFFSETTO:-0400
TZNAME:EDT
DTSTART:20260308T070000
END:DAYLIGHT
BEGIN:STANDARD
TZOFFSETFROM:-0400
TZOFFSETTO:-0500
TZNAME:EST
DTSTART:20261101T060000
END:STANDARD
BEGIN:DAYLIGHT
TZOFFSETFROM:-0500
TZOFFSETTO:-0400
TZNAME:EDT
DTSTART:20270314T070000
END:DAYLIGHT
BEGIN:STANDARD
TZOFFSETFROM:-0400
TZOFFSETTO:-0500
TZNAME:EST
DTSTART:20271107T060000
END:STANDARD
END:VTIMEZONE
BEGIN:VEVENT
DTSTART;TZID=America/New_York:20260305T200000
DTEND;TZID=America/New_York:20260306T010000
DTSTAMP:20260425T111012
CREATED:20251010T195541Z
LAST-MODIFIED:20251020T154232Z
UID:21462-1772740800-1772758800@www.unitedskates.com
SUMMARY:First Thursday Adult Skate Night Dream Bash
DESCRIPTION:CLICK HERE TO PURCHASE TICKETS!\nAdult Night at Branch Brook Park Skating Center  \nYOU MUST BE 18yrs+ WITH A VALID GOVERNMENT ISSUED ID TO ATTEND \n$23.00 for Admission & Skate Rental (Plus Service Fee) \n$17.00 Admission for those with their Own Skates (Plus Service Fee) \nNO SPECTATORS FEE AVAILABLE FOR ADULT NIGHTS \nSAVE MONEY & PRE-PURCHASE YOUR TICKET ONLINE\, AS DOOR PRICES ARE $1.00 MORE! \nPRE-PURCHASED TICKETS ARE RECOMMENEDED AS WAIT TIMES ARE EXPECTED IF PURCHASING TICKETS AT THE FACILITY \nThere are NO Refunds Tickets are Valid per Listed Time Only & Can’t be Transferred To a Different Date or Time! \nALL GUESTS MUST SIGN WAIVERS IN ORDER TO ENTER! Please note: ALL guests must present a valid form of a government-issued ID. \nNO OUTSIDE FOOD\, DRINK\, CAKE OR DECOR ALLOWED.
URL:https://www.unitedskates.com/branch-brook-park/event/first-thursday-adult-skate-night-dream-bash/
CATEGORIES:Adult Events,Public Skates,Special Events
ATTACH;FMTTYPE=image/png:https://unitedskates-assets.sfo3.digitaloceanspaces.com/wp-content/uploads/sites/15/2025/10/MONEYDREAM26.1.png
END:VEVENT
END:VCALENDAR