BEGIN:VCALENDAR
VERSION:2.0
PRODID:-//Rink 41 - Branch Brook Park Skating - ECPv6.15.20//NONSGML v1.0//EN
CALSCALE:GREGORIAN
METHOD:PUBLISH
X-WR-CALNAME:Rink 41 - Branch Brook Park Skating
X-ORIGINAL-URL:https://www.unitedskates.com/branch-brook-park
X-WR-CALDESC:Events for Rink 41 - Branch Brook Park Skating
REFRESH-INTERVAL;VALUE=DURATION:PT1H
X-Robots-Tag:noindex
X-PUBLISHED-TTL:PT1H
BEGIN:VTIMEZONE
TZID:America/New_York
BEGIN:DAYLIGHT
TZOFFSETFROM:-0500
TZOFFSETTO:-0400
TZNAME:EDT
DTSTART:20250309T070000
END:DAYLIGHT
BEGIN:STANDARD
TZOFFSETFROM:-0400
TZOFFSETTO:-0500
TZNAME:EST
DTSTART:20251102T060000
END:STANDARD
BEGIN:DAYLIGHT
TZOFFSETFROM:-0500
TZOFFSETTO:-0400
TZNAME:EDT
DTSTART:20260308T070000
END:DAYLIGHT
BEGIN:STANDARD
TZOFFSETFROM:-0400
TZOFFSETTO:-0500
TZNAME:EST
DTSTART:20261101T060000
END:STANDARD
BEGIN:DAYLIGHT
TZOFFSETFROM:-0500
TZOFFSETTO:-0400
TZNAME:EDT
DTSTART:20270314T070000
END:DAYLIGHT
BEGIN:STANDARD
TZOFFSETFROM:-0400
TZOFFSETTO:-0500
TZNAME:EST
DTSTART:20271107T060000
END:STANDARD
END:VTIMEZONE
BEGIN:VEVENT
DTSTART;TZID=America/New_York:20260221T110000
DTEND;TZID=America/New_York:20260221T140000
DTSTAMP:20260425T131049
CREATED:20251024T164714Z
LAST-MODIFIED:20251024T164714Z
UID:21614-1771671600-1771682400@www.unitedskates.com
SUMMARY:Saturday Family Roller Skating
DESCRIPTION:OPEN TO ALL AGES \nCLICK HERE TO PURCHASE A TICKET & GUARANTEE YOUR ENTRY\n\n11:00am-2:00pm\n\nALL TICKETS ARE FINAL SALE!!! \nTickets are Non-Refundable\, Non-Transferable & Only Valid for the Date & Time Listed Due to Strict Capacity Control \n$21.00 for Admission & Skate Rental (Plus Service Fees) \n$15.00 Admission with your Own Skates (Plus Service Fees) \n$5.00 Spectators Fee for Non Skating Adults 18yrs+ Only (Plus Service Fees) \nALL GUESTS MUST SIGN WAIVERS! Please note: ALL guests starting from the age of 2 years old must be indicated on the waiver forms whether skating or not.\nNO OUTSIDE FOOD\, DRINK\, CAKE OR DECOR ALLOWED. \nPRE-PURCHASED TICKETS ARE RECOMMENEDED AS WAIT TIMES ARE EXPECTED IF PURCHASING TICKETS AT THE FACILITY \nPlease Note Ages 2-17 without Skates Must Purchase Skate Rental & Everyone Whether they are Skating or Not. No Refunds or Transfers Will Apply Towards Ticket Purchases. \nON SATURDAYS AFTER 6PM – All minors (17 years old and younger) that are entering MUST have an adult chaperone 21yrs+ with a government issued ID. NO DROP-OFFS!
URL:https://www.unitedskates.com/branch-brook-park/event/saturday-family-roller-skating-4-2026-02-21/
CATEGORIES:Family Events,Public Skates
ATTACH;FMTTYPE=image/png:https://unitedskates-assets.sfo3.digitaloceanspaces.com/wp-content/uploads/sites/15/2024/12/Public-Skate.png
END:VEVENT
BEGIN:VEVENT
DTSTART;TZID=America/New_York:20260221T150000
DTEND;TZID=America/New_York:20260221T180000
DTSTAMP:20260425T131049
CREATED:20251204T204628Z
LAST-MODIFIED:20260302T162802Z
UID:22560-1771686000-1771696800@www.unitedskates.com
SUMMARY:Saturday Family Roller Skating 2
DESCRIPTION:🛼 All Ages Skate Session \n⏰ 3:00 PM – 6:00 PM \n🎟️ Admission: \n\n$15 online | $17 at the door (Plus Tax)\n\n🛼 Skate Rental: \n\n$6 (required for ages 2–17 without their own skates)\n\n👀 Non-Skating Adults (18+): \n\n$5 chaperone fee (not valid for children)\n\n📝 Waivers required for all guests entering (ages 2+ must be listed). Must be completed the day of visit. \n🚫 No outside food\, drinks\, cakes\, or décor \n⚠️ All tickets final sale and valid for the listed date and time only | Group rates must be booked in advance \nON SATURDAYS AFTER 6PM – All minors (17 years old and younger) that are entering MUST have an adult chaperone 21yrs+ with a government issued ID. NO DROP-OFFS!
URL:https://www.unitedskates.com/branch-brook-park/event/saturday-family-roller-skating-2-4/2026-02-21/
CATEGORIES:Family Events,Public Skates,Special Events
ATTACH;FMTTYPE=image/png:https://unitedskates-assets.sfo3.digitaloceanspaces.com/wp-content/uploads/sites/15/2024/12/Public-Skate.png
END:VEVENT
BEGIN:VEVENT
DTSTART;TZID=America/New_York:20260221T190000
DTEND;TZID=America/New_York:20260221T220000
DTSTAMP:20260425T131049
CREATED:20251204T204847Z
LAST-MODIFIED:20260302T162226Z
UID:22608-1771700400-1771711200@www.unitedskates.com
SUMMARY:Saturday Family Roller Skating 3
DESCRIPTION:🛼 All Ages Skate Session \n⏰ 7:00 PM – 10:00 PM \n🎟️ Admission: \n\n$15 online | $17 at the door (Plus Tax)\n\n🛼 Skate Rental: \n\n$6 (required for ages 2–17 without their own skates)\n\n👀 Non-Skating Adults (18+): \n\n$5 chaperone fee (not valid for children)\n\n📝 Waivers required for all guests entering (ages 2+ must be listed). Must be completed the day of visit. \n🚫 No outside food\, drinks\, cakes\, or décor \n⚠️ All tickets final sale and valid for the listed date and time only | Group rates must be booked in advance \nON SATURDAYS AFTER 6PM – All minors (17 years old and younger) that are entering MUST have an adult chaperone 21yrs+ with a government issued ID. NO DROP-OFFS!
URL:https://www.unitedskates.com/branch-brook-park/event/saturday-family-roller-skating-3-4/2026-02-21/
CATEGORIES:Family Events,Public Skates
ATTACH;FMTTYPE=image/png:https://unitedskates-assets.sfo3.digitaloceanspaces.com/wp-content/uploads/sites/15/2024/12/Public-Skate.png
END:VEVENT
END:VCALENDAR