BEGIN:VCALENDAR
VERSION:2.0
PRODID:-//Rink 41 - Branch Brook Park Skating - ECPv6.15.20//NONSGML v1.0//EN
CALSCALE:GREGORIAN
METHOD:PUBLISH
X-WR-CALNAME:Rink 41 - Branch Brook Park Skating
X-ORIGINAL-URL:https://www.unitedskates.com/branch-brook-park
X-WR-CALDESC:Events for Rink 41 - Branch Brook Park Skating
REFRESH-INTERVAL;VALUE=DURATION:PT1H
X-Robots-Tag:noindex
X-PUBLISHED-TTL:PT1H
BEGIN:VTIMEZONE
TZID:America/New_York
BEGIN:DAYLIGHT
TZOFFSETFROM:-0500
TZOFFSETTO:-0400
TZNAME:EDT
DTSTART:20240310T070000
END:DAYLIGHT
BEGIN:STANDARD
TZOFFSETFROM:-0400
TZOFFSETTO:-0500
TZNAME:EST
DTSTART:20241103T060000
END:STANDARD
BEGIN:DAYLIGHT
TZOFFSETFROM:-0500
TZOFFSETTO:-0400
TZNAME:EDT
DTSTART:20250309T070000
END:DAYLIGHT
BEGIN:STANDARD
TZOFFSETFROM:-0400
TZOFFSETTO:-0500
TZNAME:EST
DTSTART:20251102T060000
END:STANDARD
BEGIN:DAYLIGHT
TZOFFSETFROM:-0500
TZOFFSETTO:-0400
TZNAME:EDT
DTSTART:20260308T070000
END:DAYLIGHT
BEGIN:STANDARD
TZOFFSETFROM:-0400
TZOFFSETTO:-0500
TZNAME:EST
DTSTART:20261101T060000
END:STANDARD
BEGIN:DAYLIGHT
TZOFFSETFROM:-0500
TZOFFSETTO:-0400
TZNAME:EDT
DTSTART:20270314T070000
END:DAYLIGHT
BEGIN:STANDARD
TZOFFSETFROM:-0400
TZOFFSETTO:-0500
TZNAME:EST
DTSTART:20271107T060000
END:STANDARD
END:VTIMEZONE
BEGIN:VEVENT
DTSTART;TZID=America/New_York:20251219T180000
DTEND;TZID=America/New_York:20260105T000000
DTSTAMP:20260425T210042
CREATED:20251202T032958Z
LAST-MODIFIED:20251202T032958Z
UID:22523-1766167200-1767571200@www.unitedskates.com
SUMMARY:Winter Break Skate Schedule — School’s Out\, Time to Roll!
DESCRIPTION:School’s out and the fun begins! Join us every day of Winter Break for themed skate sessions\, great music\, family events\, and special holiday celebrations. \nFrom Christmas Eve Skate to New Year’s Eve Parties\, we’ve got something for everyone. \nGet your tickets early and roll into the holiday fun! \nGET TICKETS HERE
URL:https://www.unitedskates.com/branch-brook-park/event/winter-break-skate-schedule-schools-out-time-to-roll/
CATEGORIES:Family Events,Public Skates,Special Events
ATTACH;FMTTYPE=image/jpeg:https://unitedskates-assets.sfo3.digitaloceanspaces.com/wp-content/uploads/sites/15/2025/12/Rink-41-Winter-Break-2025-1.jpg
END:VEVENT
BEGIN:VEVENT
DTSTART;TZID=America/New_York:20251223T130000
DTEND;TZID=America/New_York:20251223T150000
DTSTAMP:20260425T210042
CREATED:20251118T191958Z
LAST-MODIFIED:20251118T200128Z
UID:22413-1766494800-1766502000@www.unitedskates.com
SUMMARY:Santa's Holiday Kickoff Skate
DESCRIPTION:OPEN TO ALL AGES \nCLICK HERE TO PURCHASE TICKETS!\n1:00PM-3:00PM \n$18.00 for Admission & Skate Rental (Plus Service Fees) \n$12.00 Admission with your Own Skates (Plus Service Fees) \n$5.00 Spectators Fee for Non Skating Adults 18yrs+ Only (Plus Service Fees) NOTE: This ticket is NOT Valid for a Non-Skating Child 17 & Under \nSAVE MONEY & PRE-PURCHASE YOUR TICKET ONLINE\, AS DOOR PRICES ARE $1.00 MORE! \nEVERYONE WHETHER SKATING OR NOT MUST HAVE A TICKET TO ENTER: Please Note Ages 2-17 without Skates Must Purchase Skate Rental! \nALL GUESTS MUST SIGN WAIVERS! Please note: ALL guests starting from the age of 2 years old must be indicated on the waiver forms whether skating or not.\nNO OUTSIDE FOOD\, DRINK\, CAKE OR DECOR ALLOWED. \nPRE-PURCHASED TICKETS ARE RECOMMENEDED AS WAIT TIMES ARE EXPECTED IF PURCHASING TICKETS AT THE FACILITY \nALL TICKETS ARE FINAL SALE! Tickets are Non-Refundable\, Non-Transferable & Only Valid for the Date & Time Listed Due to Strict Capacity Control \nON SATURDAYS AFTER 6PM – All minors (17 years old and younger) that are entering MUST have an adult chaperone 21yrs+ with a government issued ID. NO DROP-OFFS!
URL:https://www.unitedskates.com/branch-brook-park/event/santas-holiday-kickoff-skate/
CATEGORIES:Family Events,Public Skates,Special Events
ATTACH;FMTTYPE=image/jpeg:https://unitedskates-assets.sfo3.digitaloceanspaces.com/wp-content/uploads/sites/15/2025/11/KICK-OFF.jpg
END:VEVENT
BEGIN:VEVENT
DTSTART;TZID=America/New_York:20251223T160000
DTEND;TZID=America/New_York:20251223T180000
DTSTAMP:20260425T210042
CREATED:20251118T192556Z
LAST-MODIFIED:20251118T200202Z
UID:22417-1766505600-1766512800@www.unitedskates.com
SUMMARY:Santa's Holiday Kickoff Skate 2
DESCRIPTION:OPEN TO ALL AGES \nCLICK HERE TO PURCHASE TICKETS!\n4:00PM-6:00PM \n$18.00 for Admission & Skate Rental (Plus Service Fees) \n$12.00 Admission with your Own Skates (Plus Service Fees) \n$5.00 Spectators Fee for Non Skating Adults 18yrs+ Only (Plus Service Fees) NOTE: This ticket is NOT Valid for a Non-Skating Child 17 & Under \nSAVE MONEY & PRE-PURCHASE YOUR TICKET ONLINE\, AS DOOR PRICES ARE $1.00 MORE! \nEVERYONE WHETHER SKATING OR NOT MUST HAVE A TICKET TO ENTER: Please Note Ages 2-17 without Skates Must Purchase Skate Rental! \nALL GUESTS MUST SIGN WAIVERS! Please note: ALL guests starting from the age of 2 years old must be indicated on the waiver forms whether skating or not.\nNO OUTSIDE FOOD\, DRINK\, CAKE OR DECOR ALLOWED. \nPRE-PURCHASED TICKETS ARE RECOMMENEDED AS WAIT TIMES ARE EXPECTED IF PURCHASING TICKETS AT THE FACILITY \nALL TICKETS ARE FINAL SALE! Tickets are Non-Refundable\, Non-Transferable & Only Valid for the Date & Time Listed Due to Strict Capacity Control \nON SATURDAYS AFTER 6PM – All minors (17 years old and younger) that are entering MUST have an adult chaperone 21yrs+ with a government issued ID. NO DROP-OFFS!
URL:https://www.unitedskates.com/branch-brook-park/event/santas-holiday-kickoff-skate-2/
CATEGORIES:Family Events,Public Skates,Special Events
ATTACH;FMTTYPE=image/jpeg:https://unitedskates-assets.sfo3.digitaloceanspaces.com/wp-content/uploads/sites/15/2025/11/KICK-OFF.jpg
END:VEVENT
END:VCALENDAR