BEGIN:VCALENDAR
VERSION:2.0
PRODID:-//Rink 41 - Branch Brook Park Skating - ECPv6.15.20//NONSGML v1.0//EN
CALSCALE:GREGORIAN
METHOD:PUBLISH
X-WR-CALNAME:Rink 41 - Branch Brook Park Skating
X-ORIGINAL-URL:https://www.unitedskates.com/branch-brook-park
X-WR-CALDESC:Events for Rink 41 - Branch Brook Park Skating
REFRESH-INTERVAL;VALUE=DURATION:PT1H
X-Robots-Tag:noindex
X-PUBLISHED-TTL:PT1H
BEGIN:VTIMEZONE
TZID:America/New_York
BEGIN:DAYLIGHT
TZOFFSETFROM:-0500
TZOFFSETTO:-0400
TZNAME:EDT
DTSTART:20240310T070000
END:DAYLIGHT
BEGIN:STANDARD
TZOFFSETFROM:-0400
TZOFFSETTO:-0500
TZNAME:EST
DTSTART:20241103T060000
END:STANDARD
BEGIN:DAYLIGHT
TZOFFSETFROM:-0500
TZOFFSETTO:-0400
TZNAME:EDT
DTSTART:20250309T070000
END:DAYLIGHT
BEGIN:STANDARD
TZOFFSETFROM:-0400
TZOFFSETTO:-0500
TZNAME:EST
DTSTART:20251102T060000
END:STANDARD
BEGIN:DAYLIGHT
TZOFFSETFROM:-0500
TZOFFSETTO:-0400
TZNAME:EDT
DTSTART:20260308T070000
END:DAYLIGHT
BEGIN:STANDARD
TZOFFSETFROM:-0400
TZOFFSETTO:-0500
TZNAME:EST
DTSTART:20261101T060000
END:STANDARD
BEGIN:DAYLIGHT
TZOFFSETFROM:-0500
TZOFFSETTO:-0400
TZNAME:EDT
DTSTART:20270314T070000
END:DAYLIGHT
BEGIN:STANDARD
TZOFFSETFROM:-0400
TZOFFSETTO:-0500
TZNAME:EST
DTSTART:20271107T060000
END:STANDARD
END:VTIMEZONE
BEGIN:VEVENT
DTSTART;TZID=America/New_York:20251219T180000
DTEND;TZID=America/New_York:20260105T000000
DTSTAMP:20260425T220525
CREATED:20251202T032958Z
LAST-MODIFIED:20251202T032958Z
UID:22523-1766167200-1767571200@www.unitedskates.com
SUMMARY:Winter Break Skate Schedule — School’s Out\, Time to Roll!
DESCRIPTION:School’s out and the fun begins! Join us every day of Winter Break for themed skate sessions\, great music\, family events\, and special holiday celebrations. \nFrom Christmas Eve Skate to New Year’s Eve Parties\, we’ve got something for everyone. \nGet your tickets early and roll into the holiday fun! \nGET TICKETS HERE
URL:https://www.unitedskates.com/branch-brook-park/event/winter-break-skate-schedule-schools-out-time-to-roll/
CATEGORIES:Family Events,Public Skates,Special Events
ATTACH;FMTTYPE=image/jpeg:https://unitedskates-assets.sfo3.digitaloceanspaces.com/wp-content/uploads/sites/15/2025/12/Rink-41-Winter-Break-2025-1.jpg
END:VEVENT
BEGIN:VEVENT
DTSTART;TZID=America/New_York:20251221T160000
DTEND;TZID=America/New_York:20251221T190000
DTSTAMP:20260425T220525
CREATED:20251113T142655Z
LAST-MODIFIED:20260302T165307Z
UID:21959-1766332800-1766343600@www.unitedskates.com
SUMMARY:Sunday Family Roller Skating
DESCRIPTION:🛼 All Ages Skate Session \n⏰ 4:00 PM – 7:00 PM \n🎟️ Admission: \n\n$15 online | $17 at the door (Plus Tax)\n\n🛼 Skate Rental: \n\n$6 (required for ages 2–17 without their own skates)\n\n👀 Non-Skating Adults (18+): \n\n$5 chaperone fee (not valid for children)\n\n📝 Waivers required for all guests entering (ages 2+ must be listed). Must be completed the day of visit. \n🚫 No outside food\, drinks\, cakes\, or décor \n⚠️ All tickets final sale and valid for the listed date and time only | Group rates must be booked in advance
URL:https://www.unitedskates.com/branch-brook-park/event/sunday-family-roller-skating-2/2025-12-21/
CATEGORIES:Family Events,Public Skates
ATTACH;FMTTYPE=image/png:https://unitedskates-assets.sfo3.digitaloceanspaces.com/wp-content/uploads/sites/15/2024/12/Public-Skate.png
END:VEVENT
BEGIN:VEVENT
DTSTART;TZID=America/New_York:20251221T200000
DTEND;TZID=America/New_York:20251222T000000
DTSTAMP:20260425T220525
CREATED:20251113T182518Z
LAST-MODIFIED:20260402T163212Z
UID:22298-1766347200-1766361600@www.unitedskates.com
SUMMARY:Sunday Adult Skate Night
DESCRIPTION:YOU MUST BE 18YRS+ WITH A VALID GOVERNMENT ISSUED ID TO ATTEND THIS EVENT \n$22.00 for Admission & Skate Rental / $24.00 DOOR PRICE (Plus Service Fee & Tax) \n$16.00 Admission for those with their Own Skates / $18.00 DOOR PRICE (Plus Service Fee & Tax) \nNO SPECTATORS FEE AVAILABLE FOR ADULT NIGHTS \nSAVE MONEY & PRE-PURCHASE YOUR TICKET ONLINE\, AS DOOR PRICES ARE $1.00 MORE! \nPRE-PURCHASED TICKETS ARE RECOMMENDED AS WAIT TIMES ARE EXPECTED IF PURCHASING TICKETS AT THE FACILITY \nThere are NO Refunds Tickets are Valid per Listed Time Only & Can’t be Transferred To a Different Date or Time! \nALL GUESTS MUST SIGN WAIVERS IN ORDER TO ENTER! Please note: ALL guests must present a valid form of a government-issued ID.\nNO OUTSIDE FOOD\, DRINK\, CAKE OR DECOR ALLOWED.
URL:https://www.unitedskates.com/branch-brook-park/event/sunday-adult-skate-night-5/2025-12-21/
CATEGORIES:Adult Events,Public Skates
ATTACH;FMTTYPE=image/png:https://unitedskates-assets.sfo3.digitaloceanspaces.com/wp-content/uploads/sites/15/2024/12/Adult-Night-Sunday.png
END:VEVENT
END:VCALENDAR