BEGIN:VCALENDAR
VERSION:2.0
PRODID:-//Rink 41 - Branch Brook Park Skating - ECPv6.15.20//NONSGML v1.0//EN
CALSCALE:GREGORIAN
METHOD:PUBLISH
X-WR-CALNAME:Rink 41 - Branch Brook Park Skating
X-ORIGINAL-URL:https://www.unitedskates.com/branch-brook-park
X-WR-CALDESC:Events for Rink 41 - Branch Brook Park Skating
REFRESH-INTERVAL;VALUE=DURATION:PT1H
X-Robots-Tag:noindex
X-PUBLISHED-TTL:PT1H
BEGIN:VTIMEZONE
TZID:America/New_York
BEGIN:DAYLIGHT
TZOFFSETFROM:-0500
TZOFFSETTO:-0400
TZNAME:EDT
DTSTART:20240310T070000
END:DAYLIGHT
BEGIN:STANDARD
TZOFFSETFROM:-0400
TZOFFSETTO:-0500
TZNAME:EST
DTSTART:20241103T060000
END:STANDARD
BEGIN:DAYLIGHT
TZOFFSETFROM:-0500
TZOFFSETTO:-0400
TZNAME:EDT
DTSTART:20250309T070000
END:DAYLIGHT
BEGIN:STANDARD
TZOFFSETFROM:-0400
TZOFFSETTO:-0500
TZNAME:EST
DTSTART:20251102T060000
END:STANDARD
BEGIN:DAYLIGHT
TZOFFSETFROM:-0500
TZOFFSETTO:-0400
TZNAME:EDT
DTSTART:20260308T070000
END:DAYLIGHT
BEGIN:STANDARD
TZOFFSETFROM:-0400
TZOFFSETTO:-0500
TZNAME:EST
DTSTART:20261101T060000
END:STANDARD
END:VTIMEZONE
BEGIN:VEVENT
DTSTART;TZID=America/New_York:20251026T120000
DTEND;TZID=America/New_York:20251026T150000
DTSTAMP:20260426T003417
CREATED:20251024T172018Z
LAST-MODIFIED:20260125T145818Z
UID:21625-1761480000-1761490800@www.unitedskates.com
SUMMARY:Sunday Family Skate
DESCRIPTION:Open to All Ages!\n\n12:00pm-3:00pm\n\nALL TICKETS ARE FINAL SALE!!! \nTickets are Non-Refundable\, Non-Transferable & Only Valid for the Date & Time Listed Due to Strict Capacity Control \n$21.00 for Admission & Skate Rental (Plus Service Fees) \n$15.00 Admission with your Own Skates (Plus Service Fees) \n$5.00 Spectators Fee for Non Skating Adults 18yrs+ Only (Plus Service Fees) \nALL GUESTS MUST SIGN WAIVERS! Please note: ALL guests starting from the age of 2 years old must be indicated on the waiver forms whether skating or not.\nNO OUTSIDE FOOD\, DRINK\, CAKE OR DECOR ALLOWED. \nPRE-PURCHASED TICKETS ARE RECOMMENEDED AS WAIT TIMES ARE EXPECTED IF PURCHASING TICKETS AT THE FACILITY \nPlease Note Ages 2-17 without Skates Must Purchase Skate Rental & Everyone Whether they are Skating or Not. No Refunds or Transfers Will Apply Towards Ticket Purchases.
URL:https://www.unitedskates.com/branch-brook-park/event/sunday-family-skate-3/
CATEGORIES:Family Events,Public Skates
ATTACH;FMTTYPE=image/jpeg:https://unitedskates-assets.sfo3.digitaloceanspaces.com/wp-content/uploads/sites/15/2024/12/Glow-in-the-Dark-Skate-2025-41.jpg
END:VEVENT
BEGIN:VEVENT
DTSTART;TZID=America/New_York:20251026T160000
DTEND;TZID=America/New_York:20251026T190000
DTSTAMP:20260426T003417
CREATED:20250501T200014Z
LAST-MODIFIED:20250501T200014Z
UID:21105-1761494400-1761505200@www.unitedskates.com
SUMMARY:Sunday Family Roller Skating
DESCRIPTION:OPEN TO ALL AGES \nCLICK HERE TO PURCHASE A TICKET & GUARANTEE YOUR ENTRY\n\n4:00PM-7:00PM\n\n$21.00 for Admission & Skate Rental (Plus Service Fees) \n$15.00 Admission with your Own Skates (Plus Service Fees) \n$5.00 Spectators Fee for Non Skating Adults 18yrs+ Only (Plus Service Fees) NOTE: This ticket is NOT Valid for a Non-Skating Child 17 & Under \nSAVE MONEY & PRE-PURCHASE YOUR TICKET ONLINE\, AS DOOR PRICES ARE $1.00 MORE! \nEVERYONE WHETHER SKATING OR NOT MUST HAVE A TICKET TO ENTER: Please Note Ages 2-17 without Skates Must Purchase Skate Rental! \nALL GUESTS MUST SIGN WAIVERS! Please note: ALL guests starting from the age of 2 years old must be indicated on the waiver forms whether skating or not.\nNO OUTSIDE FOOD\, DRINK\, CAKE OR DECOR ALLOWED. \nPRE-PURCHASED TICKETS ARE RECOMMENEDED AS WAIT TIMES ARE EXPECTED IF PURCHASING TICKETS AT THE FACILITY \nALL TICKETS ARE FINAL SALE! Tickets are Non-Refundable\, Non-Transferable & Only Valid for the Date & Time Listed Due to Strict Capacity Control
URL:https://www.unitedskates.com/branch-brook-park/event/sunday-family-roller-skating/2025-10-26/
CATEGORIES:Family Events,Public Skates
ATTACH;FMTTYPE=image/png:https://unitedskates-assets.sfo3.digitaloceanspaces.com/wp-content/uploads/sites/15/2024/12/Public-Skate.png
END:VEVENT
BEGIN:VEVENT
DTSTART;TZID=America/New_York:20251026T200000
DTEND;TZID=America/New_York:20251027T000000
DTSTAMP:20260426T003417
CREATED:20241203T183130Z
LAST-MODIFIED:20241203T183130Z
UID:21116-1761508800-1761523200@www.unitedskates.com
SUMMARY:Sunday Adult Skate Night
DESCRIPTION:CLICK HERE TO PURCHASE TICKETS\nYOU MUST BE 18YRS+ WITH A VALID GOVERNMENT ISSUED ID TO ATTEND THIS EVENT \n$22.00 for Admission & Skate Rental (Plus Service Fee & Tax) \n$16.00 Admission for those with their Own Skates (Plus Service Fee & Tax) \nNO SPECTATORS FEE AVAILABLE FOR ADULT NIGHTS \nSAVE MONEY & PRE-PURCHASE YOUR TICKET ONLINE\, AS DOOR PRICES ARE $1.00 MORE! \nPRE-PURCHASED TICKETS ARE RECOMMENDED AS WAIT TIMES ARE EXPECTED IF PURCHASING TICKETS AT THE FACILITY \nThere are NO Refunds Tickets are Valid per Listed Time Only & Can’t be Transferred To a Different Date or Time! \nALL GUESTS MUST SIGN WAIVERS IN ORDER TO ENTER! Please note: ALL guests must present a valid form of a government-issued ID.\nNO OUTSIDE FOOD\, DRINK\, CAKE OR DECOR ALLOWED.
URL:https://www.unitedskates.com/branch-brook-park/event/sunday-adult-skate-night-4/2025-10-26/
CATEGORIES:Adult Events,Public Skates
ATTACH;FMTTYPE=image/png:https://unitedskates-assets.sfo3.digitaloceanspaces.com/wp-content/uploads/sites/15/2024/12/Adult-Night-Sunday.png
END:VEVENT
END:VCALENDAR