BEGIN:VCALENDAR
VERSION:2.0
PRODID:-//Rink 41 - Branch Brook Park Skating - ECPv6.15.20//NONSGML v1.0//EN
CALSCALE:GREGORIAN
METHOD:PUBLISH
X-ORIGINAL-URL:https://www.unitedskates.com/branch-brook-park
X-WR-CALDESC:Events for Rink 41 - Branch Brook Park Skating
REFRESH-INTERVAL;VALUE=DURATION:PT1H
X-Robots-Tag:noindex
X-PUBLISHED-TTL:PT1H
BEGIN:VTIMEZONE
TZID:America/New_York
BEGIN:DAYLIGHT
TZOFFSETFROM:-0500
TZOFFSETTO:-0400
TZNAME:EDT
DTSTART:20250309T070000
END:DAYLIGHT
BEGIN:STANDARD
TZOFFSETFROM:-0400
TZOFFSETTO:-0500
TZNAME:EST
DTSTART:20251102T060000
END:STANDARD
BEGIN:DAYLIGHT
TZOFFSETFROM:-0500
TZOFFSETTO:-0400
TZNAME:EDT
DTSTART:20260308T070000
END:DAYLIGHT
BEGIN:STANDARD
TZOFFSETFROM:-0400
TZOFFSETTO:-0500
TZNAME:EST
DTSTART:20261101T060000
END:STANDARD
BEGIN:DAYLIGHT
TZOFFSETFROM:-0500
TZOFFSETTO:-0400
TZNAME:EDT
DTSTART:20270314T070000
END:DAYLIGHT
BEGIN:STANDARD
TZOFFSETFROM:-0400
TZOFFSETTO:-0500
TZNAME:EST
DTSTART:20271107T060000
END:STANDARD
END:VTIMEZONE
BEGIN:VEVENT
DTSTART;TZID=America/New_York:20260203T180000
DTEND;TZID=America/New_York:20260203T190000
DTSTAMP:20260422T072855
CREATED:20251024T172628Z
LAST-MODIFIED:20251024T172628Z
UID:21697-1770141600-1770145200@www.unitedskates.com
SUMMARY:Advanced Adult Skate Lessons
DESCRIPTION:CLICK HERE TO PURCHASE TICKETS!\nADVANCED ADULT SKATE LESSONS \nMUST BE 18YRS+ WITH A GOVERNMENT ISSUED ID TO ATTEND THESE LESSONS FOLLOWED BY THE ADULT SESSION FROM 7:00PM-10:00PM \nLESSONS ARE AVAILABLE FOR FOLLOWING LEVELS: \nIntermediate & Advance ONLY \nWHEN? \nEVERY Tuesday from 6:00pm-7:00pm. LAST TUESDAY OF THE MONTH LESSONS ARE FROM 7PM-8PM. \nHOW MUCH? WHATS INCLUDED? \nLessons are $22.00 a person plus tax and service fees. Our lessons will be lead by Boot Camp Cory LLC\, skate rental is included and wrist guard rental. After your skate lesson you receive GUARANTEED entry to the Tuesday Night Adult Skate Session from 7:00pm-10:00pm to continue enhancing your skate skills. LAST TUESDAY SESSION IS 8:00pm-12:00am \nSAVE MONEY & PRE-PURCHASE YOUR TICKET ONLINE\, AS DOOR PRICES ARE $1.00 MORE! \nHOW DO I SIGN UP? \nEVERYONE entering the facility for lessons must have a ticket valid for the date and time of the upcoming lesson or must purchase at the door the day of. \nALL GUESTS MUST SIGN WAIVERS! Please note: ALL guests must present a valid form of a government-issued ID.
URL:https://www.unitedskates.com/branch-brook-park/event/advanced-adult-skate-lessons-6/2026-02-03/
CATEGORIES:Adult Events,Lessons
ATTACH;FMTTYPE=image/png:https://unitedskates-assets.sfo3.digitaloceanspaces.com/wp-content/uploads/sites/15/2025/10/Adult-Skate-Lessons-1.png
END:VEVENT
BEGIN:VEVENT
DTSTART;TZID=America/New_York:20260207T100000
DTEND;TZID=America/New_York:20260207T110000
DTSTAMP:20260422T072855
CREATED:20251113T153443Z
LAST-MODIFIED:20260402T161812Z
UID:22197-1770458400-1770462000@www.unitedskates.com
SUMMARY:Saturday Roller Skating Lessons
DESCRIPTION:🛼 Adult Skate Session \nOPEN TO ALL AGES!\nLESSONS ARE AVAILABLE FOR ALL SKATE LEVELS:\n\nBeginner\nIntermediate\nAdvanced\n\n⏰ 10:00 AM – 11:00 AM \n🎟️ Admission: \n\n$22 online | $24 at the door\n\n🛼 Skate Rental included with lessons with admission into the following session \n📝 Waivers required for all adults entering the facility. Must be completed the day of visit. \n🚫 No outside food\, drinks\, cakes\, or décor \n⚠️ All tickets final sale and valid for the listed date and time only | Group rates must be booked in advance \nHOW MUCH? WHATS INCLUDED?\nLessons are $22.00 a person plus tax and service fees. Our lessons lead by professional\nskate instructors include skate rental\, wrist guard and skate mate rental. After your lesson\nyou receive GUARANTEED entry to our Saturday Public Session from 11:00am-2:00pm to\ncontinue enhancing your skate skills.\nSAVE MONEY & PRE-PURCHASE YOUR TICKET ONLINE\, AS DOOR PRICES ARE $2.00 MORE! \nHOW DO I SIGN UP?\nEVERYONE entering the facility for lessons must have a ticket valid for the date and time\nof the upcoming lesson. Tickets for the lessons are released every Monday for that\nupcoming Saturday. Tickets can also be purchased at the door the day of but you can save\nmoney by buying in advance straight off of our website. \nIMPORTANT THINGS TO KNOW:\n ALL THREE CLASSES WILL TAKE PLACE IN SEPERATE AREAS OF THE\nSKATE FLOOR WITH ONE INSTRUCTOR FOR EACH GROUP LEVEL\n TICKETS ARE NON-TRANSFERABLE!!! \n SKATE LESSONS ARE RECOMMENDED FOR AGES 3 YEARS OLD & OLDER\n EVERYONE WHETHER THEY ARE SKATING OR NOT MUST HAVE A\nTICKET TO ENTER\n SPECTATORS TICKETS ARE VALID FOR ADULTS 18YRS+ ONLY \nAll guests (children & adults)\, whether skating or not\, must sign a waiver online. Children can\nbe added to the accompanying adults waiver. The waiver is only valid for the date listed upon\nsubmission.
URL:https://www.unitedskates.com/branch-brook-park/event/saturday-roller-skating-lessons-10/2026-02-07/
CATEGORIES:Lessons
ATTACH;FMTTYPE=image/png:https://unitedskates-assets.sfo3.digitaloceanspaces.com/wp-content/uploads/sites/15/2024/08/Skate-Lessons.png
END:VEVENT
BEGIN:VEVENT
DTSTART;TZID=America/New_York:20260210T180000
DTEND;TZID=America/New_York:20260210T190000
DTSTAMP:20260422T072855
CREATED:20251024T172628Z
LAST-MODIFIED:20251024T172628Z
UID:21698-1770746400-1770750000@www.unitedskates.com
SUMMARY:Advanced Adult Skate Lessons
DESCRIPTION:CLICK HERE TO PURCHASE TICKETS!\nADVANCED ADULT SKATE LESSONS \nMUST BE 18YRS+ WITH A GOVERNMENT ISSUED ID TO ATTEND THESE LESSONS FOLLOWED BY THE ADULT SESSION FROM 7:00PM-10:00PM \nLESSONS ARE AVAILABLE FOR FOLLOWING LEVELS: \nIntermediate & Advance ONLY \nWHEN? \nEVERY Tuesday from 6:00pm-7:00pm. LAST TUESDAY OF THE MONTH LESSONS ARE FROM 7PM-8PM. \nHOW MUCH? WHATS INCLUDED? \nLessons are $22.00 a person plus tax and service fees. Our lessons will be lead by Boot Camp Cory LLC\, skate rental is included and wrist guard rental. After your skate lesson you receive GUARANTEED entry to the Tuesday Night Adult Skate Session from 7:00pm-10:00pm to continue enhancing your skate skills. LAST TUESDAY SESSION IS 8:00pm-12:00am \nSAVE MONEY & PRE-PURCHASE YOUR TICKET ONLINE\, AS DOOR PRICES ARE $1.00 MORE! \nHOW DO I SIGN UP? \nEVERYONE entering the facility for lessons must have a ticket valid for the date and time of the upcoming lesson or must purchase at the door the day of. \nALL GUESTS MUST SIGN WAIVERS! Please note: ALL guests must present a valid form of a government-issued ID.
URL:https://www.unitedskates.com/branch-brook-park/event/advanced-adult-skate-lessons-6/2026-02-10/
CATEGORIES:Adult Events,Lessons
ATTACH;FMTTYPE=image/png:https://unitedskates-assets.sfo3.digitaloceanspaces.com/wp-content/uploads/sites/15/2025/10/Adult-Skate-Lessons-1.png
END:VEVENT
BEGIN:VEVENT
DTSTART;TZID=America/New_York:20260214T100000
DTEND;TZID=America/New_York:20260214T110000
DTSTAMP:20260422T072855
CREATED:20251113T153443Z
LAST-MODIFIED:20260402T161812Z
UID:22198-1771063200-1771066800@www.unitedskates.com
SUMMARY:Saturday Roller Skating Lessons
DESCRIPTION:🛼 Adult Skate Session \nOPEN TO ALL AGES!\nLESSONS ARE AVAILABLE FOR ALL SKATE LEVELS:\n\nBeginner\nIntermediate\nAdvanced\n\n⏰ 10:00 AM – 11:00 AM \n🎟️ Admission: \n\n$22 online | $24 at the door\n\n🛼 Skate Rental included with lessons with admission into the following session \n📝 Waivers required for all adults entering the facility. Must be completed the day of visit. \n🚫 No outside food\, drinks\, cakes\, or décor \n⚠️ All tickets final sale and valid for the listed date and time only | Group rates must be booked in advance \nHOW MUCH? WHATS INCLUDED?\nLessons are $22.00 a person plus tax and service fees. Our lessons lead by professional\nskate instructors include skate rental\, wrist guard and skate mate rental. After your lesson\nyou receive GUARANTEED entry to our Saturday Public Session from 11:00am-2:00pm to\ncontinue enhancing your skate skills.\nSAVE MONEY & PRE-PURCHASE YOUR TICKET ONLINE\, AS DOOR PRICES ARE $2.00 MORE! \nHOW DO I SIGN UP?\nEVERYONE entering the facility for lessons must have a ticket valid for the date and time\nof the upcoming lesson. Tickets for the lessons are released every Monday for that\nupcoming Saturday. Tickets can also be purchased at the door the day of but you can save\nmoney by buying in advance straight off of our website. \nIMPORTANT THINGS TO KNOW:\n ALL THREE CLASSES WILL TAKE PLACE IN SEPERATE AREAS OF THE\nSKATE FLOOR WITH ONE INSTRUCTOR FOR EACH GROUP LEVEL\n TICKETS ARE NON-TRANSFERABLE!!! \n SKATE LESSONS ARE RECOMMENDED FOR AGES 3 YEARS OLD & OLDER\n EVERYONE WHETHER THEY ARE SKATING OR NOT MUST HAVE A\nTICKET TO ENTER\n SPECTATORS TICKETS ARE VALID FOR ADULTS 18YRS+ ONLY \nAll guests (children & adults)\, whether skating or not\, must sign a waiver online. Children can\nbe added to the accompanying adults waiver. The waiver is only valid for the date listed upon\nsubmission.
URL:https://www.unitedskates.com/branch-brook-park/event/saturday-roller-skating-lessons-10/2026-02-14/
CATEGORIES:Lessons
ATTACH;FMTTYPE=image/png:https://unitedskates-assets.sfo3.digitaloceanspaces.com/wp-content/uploads/sites/15/2024/08/Skate-Lessons.png
END:VEVENT
BEGIN:VEVENT
DTSTART;TZID=America/New_York:20260217T180000
DTEND;TZID=America/New_York:20260217T190000
DTSTAMP:20260422T072855
CREATED:20251024T172628Z
LAST-MODIFIED:20251024T172628Z
UID:21699-1771351200-1771354800@www.unitedskates.com
SUMMARY:Advanced Adult Skate Lessons
DESCRIPTION:CLICK HERE TO PURCHASE TICKETS!\nADVANCED ADULT SKATE LESSONS \nMUST BE 18YRS+ WITH A GOVERNMENT ISSUED ID TO ATTEND THESE LESSONS FOLLOWED BY THE ADULT SESSION FROM 7:00PM-10:00PM \nLESSONS ARE AVAILABLE FOR FOLLOWING LEVELS: \nIntermediate & Advance ONLY \nWHEN? \nEVERY Tuesday from 6:00pm-7:00pm. LAST TUESDAY OF THE MONTH LESSONS ARE FROM 7PM-8PM. \nHOW MUCH? WHATS INCLUDED? \nLessons are $22.00 a person plus tax and service fees. Our lessons will be lead by Boot Camp Cory LLC\, skate rental is included and wrist guard rental. After your skate lesson you receive GUARANTEED entry to the Tuesday Night Adult Skate Session from 7:00pm-10:00pm to continue enhancing your skate skills. LAST TUESDAY SESSION IS 8:00pm-12:00am \nSAVE MONEY & PRE-PURCHASE YOUR TICKET ONLINE\, AS DOOR PRICES ARE $1.00 MORE! \nHOW DO I SIGN UP? \nEVERYONE entering the facility for lessons must have a ticket valid for the date and time of the upcoming lesson or must purchase at the door the day of. \nALL GUESTS MUST SIGN WAIVERS! Please note: ALL guests must present a valid form of a government-issued ID.
URL:https://www.unitedskates.com/branch-brook-park/event/advanced-adult-skate-lessons-6/2026-02-17/
CATEGORIES:Adult Events,Lessons
ATTACH;FMTTYPE=image/png:https://unitedskates-assets.sfo3.digitaloceanspaces.com/wp-content/uploads/sites/15/2025/10/Adult-Skate-Lessons-1.png
END:VEVENT
BEGIN:VEVENT
DTSTART;TZID=America/New_York:20260221T100000
DTEND;TZID=America/New_York:20260221T110000
DTSTAMP:20260422T072855
CREATED:20251113T153443Z
LAST-MODIFIED:20260402T161812Z
UID:22199-1771668000-1771671600@www.unitedskates.com
SUMMARY:Saturday Roller Skating Lessons
DESCRIPTION:🛼 Adult Skate Session \nOPEN TO ALL AGES!\nLESSONS ARE AVAILABLE FOR ALL SKATE LEVELS:\n\nBeginner\nIntermediate\nAdvanced\n\n⏰ 10:00 AM – 11:00 AM \n🎟️ Admission: \n\n$22 online | $24 at the door\n\n🛼 Skate Rental included with lessons with admission into the following session \n📝 Waivers required for all adults entering the facility. Must be completed the day of visit. \n🚫 No outside food\, drinks\, cakes\, or décor \n⚠️ All tickets final sale and valid for the listed date and time only | Group rates must be booked in advance \nHOW MUCH? WHATS INCLUDED?\nLessons are $22.00 a person plus tax and service fees. Our lessons lead by professional\nskate instructors include skate rental\, wrist guard and skate mate rental. After your lesson\nyou receive GUARANTEED entry to our Saturday Public Session from 11:00am-2:00pm to\ncontinue enhancing your skate skills.\nSAVE MONEY & PRE-PURCHASE YOUR TICKET ONLINE\, AS DOOR PRICES ARE $2.00 MORE! \nHOW DO I SIGN UP?\nEVERYONE entering the facility for lessons must have a ticket valid for the date and time\nof the upcoming lesson. Tickets for the lessons are released every Monday for that\nupcoming Saturday. Tickets can also be purchased at the door the day of but you can save\nmoney by buying in advance straight off of our website. \nIMPORTANT THINGS TO KNOW:\n ALL THREE CLASSES WILL TAKE PLACE IN SEPERATE AREAS OF THE\nSKATE FLOOR WITH ONE INSTRUCTOR FOR EACH GROUP LEVEL\n TICKETS ARE NON-TRANSFERABLE!!! \n SKATE LESSONS ARE RECOMMENDED FOR AGES 3 YEARS OLD & OLDER\n EVERYONE WHETHER THEY ARE SKATING OR NOT MUST HAVE A\nTICKET TO ENTER\n SPECTATORS TICKETS ARE VALID FOR ADULTS 18YRS+ ONLY \nAll guests (children & adults)\, whether skating or not\, must sign a waiver online. Children can\nbe added to the accompanying adults waiver. The waiver is only valid for the date listed upon\nsubmission.
URL:https://www.unitedskates.com/branch-brook-park/event/saturday-roller-skating-lessons-10/2026-02-21/
CATEGORIES:Lessons
ATTACH;FMTTYPE=image/png:https://unitedskates-assets.sfo3.digitaloceanspaces.com/wp-content/uploads/sites/15/2024/08/Skate-Lessons.png
END:VEVENT
BEGIN:VEVENT
DTSTART;TZID=America/New_York:20260224T190000
DTEND;TZID=America/New_York:20260224T200000
DTSTAMP:20260422T072855
CREATED:20251024T172628Z
LAST-MODIFIED:20251230T183007Z
UID:21700-1771959600-1771963200@www.unitedskates.com
SUMMARY:Last Tuesday Advanced Adult Skate Lessons
DESCRIPTION:ADVANCED ADULT SKATE LESSONS \nMUST BE 18YRS+ WITH A GOVERNMENT ISSUED ID TO ATTEND THESE LESSONS FOLLOWED BY THE ADULT SESSION FROM 7:00PM-10:00PM \nLESSONS ARE AVAILABLE FOR FOLLOWING LEVELS: \nIntermediate & Advance ONLY \nWHEN? \nEVERY Tuesday from 6:00pm-7:00pm. LAST TUESDAY OF THE MONTH LESSONS ARE FROM 7PM-8PM. \nHOW MUCH? WHATS INCLUDED? \nLessons are $22.00 a person plus tax and service fees. Our lessons will be lead by Boot Camp Cory LLC\, skate rental is included and wrist guard rental. After your skate lesson you receive GUARANTEED entry to the Tuesday Night Adult Skate Session from 7:00pm-10:00pm to continue enhancing your skate skills. LAST TUESDAY SESSION IS 8:00pm-12:00am \nSAVE MONEY & PRE-PURCHASE YOUR TICKET ONLINE\, AS DOOR PRICES ARE $1.00 MORE! \nHOW DO I SIGN UP? \nEVERYONE entering the facility for lessons must have a ticket valid for the date and time of the upcoming lesson or must purchase at the door the day of. \nALL GUESTS MUST SIGN WAIVERS! Please note: ALL guests must present a valid form of a government-issued ID.
URL:https://www.unitedskates.com/branch-brook-park/event/advanced-adult-skate-lessons-6-2026-02-24/
CATEGORIES:Adult Events,Lessons,Special Events
ATTACH;FMTTYPE=image/png:https://unitedskates-assets.sfo3.digitaloceanspaces.com/wp-content/uploads/sites/15/2025/10/Adult-Skate-Lessons-1.png
END:VEVENT
BEGIN:VEVENT
DTSTART;TZID=America/New_York:20260228T100000
DTEND;TZID=America/New_York:20260228T110000
DTSTAMP:20260422T072855
CREATED:20251113T153443Z
LAST-MODIFIED:20260402T161813Z
UID:22200-1772272800-1772276400@www.unitedskates.com
SUMMARY:Saturday Roller Skating Lessons
DESCRIPTION:🛼 Adult Skate Session \nOPEN TO ALL AGES!\nLESSONS ARE AVAILABLE FOR ALL SKATE LEVELS:\n\nBeginner\nIntermediate\nAdvanced\n\n⏰ 10:00 AM – 11:00 AM \n🎟️ Admission: \n\n$22 online | $24 at the door\n\n🛼 Skate Rental included with lessons with admission into the following session \n📝 Waivers required for all adults entering the facility. Must be completed the day of visit. \n🚫 No outside food\, drinks\, cakes\, or décor \n⚠️ All tickets final sale and valid for the listed date and time only | Group rates must be booked in advance \nHOW MUCH? WHATS INCLUDED?\nLessons are $22.00 a person plus tax and service fees. Our lessons lead by professional\nskate instructors include skate rental\, wrist guard and skate mate rental. After your lesson\nyou receive GUARANTEED entry to our Saturday Public Session from 11:00am-2:00pm to\ncontinue enhancing your skate skills.\nSAVE MONEY & PRE-PURCHASE YOUR TICKET ONLINE\, AS DOOR PRICES ARE $2.00 MORE! \nHOW DO I SIGN UP?\nEVERYONE entering the facility for lessons must have a ticket valid for the date and time\nof the upcoming lesson. Tickets for the lessons are released every Monday for that\nupcoming Saturday. Tickets can also be purchased at the door the day of but you can save\nmoney by buying in advance straight off of our website. \nIMPORTANT THINGS TO KNOW:\n ALL THREE CLASSES WILL TAKE PLACE IN SEPERATE AREAS OF THE\nSKATE FLOOR WITH ONE INSTRUCTOR FOR EACH GROUP LEVEL\n TICKETS ARE NON-TRANSFERABLE!!! \n SKATE LESSONS ARE RECOMMENDED FOR AGES 3 YEARS OLD & OLDER\n EVERYONE WHETHER THEY ARE SKATING OR NOT MUST HAVE A\nTICKET TO ENTER\n SPECTATORS TICKETS ARE VALID FOR ADULTS 18YRS+ ONLY \nAll guests (children & adults)\, whether skating or not\, must sign a waiver online. Children can\nbe added to the accompanying adults waiver. The waiver is only valid for the date listed upon\nsubmission.
URL:https://www.unitedskates.com/branch-brook-park/event/saturday-roller-skating-lessons-10/2026-02-28/
CATEGORIES:Lessons
ATTACH;FMTTYPE=image/png:https://unitedskates-assets.sfo3.digitaloceanspaces.com/wp-content/uploads/sites/15/2024/08/Skate-Lessons.png
END:VEVENT
END:VCALENDAR