BEGIN:VCALENDAR
VERSION:2.0
PRODID:-//Rink 41 - Branch Brook Park Skating - ECPv6.15.20//NONSGML v1.0//EN
CALSCALE:GREGORIAN
METHOD:PUBLISH
X-ORIGINAL-URL:https://www.unitedskates.com/branch-brook-park
X-WR-CALDESC:Events for Rink 41 - Branch Brook Park Skating
REFRESH-INTERVAL;VALUE=DURATION:PT1H
X-Robots-Tag:noindex
X-PUBLISHED-TTL:PT1H
BEGIN:VTIMEZONE
TZID:America/New_York
BEGIN:DAYLIGHT
TZOFFSETFROM:-0500
TZOFFSETTO:-0400
TZNAME:EDT
DTSTART:20250309T070000
END:DAYLIGHT
BEGIN:STANDARD
TZOFFSETFROM:-0400
TZOFFSETTO:-0500
TZNAME:EST
DTSTART:20251102T060000
END:STANDARD
BEGIN:DAYLIGHT
TZOFFSETFROM:-0500
TZOFFSETTO:-0400
TZNAME:EDT
DTSTART:20260308T070000
END:DAYLIGHT
BEGIN:STANDARD
TZOFFSETFROM:-0400
TZOFFSETTO:-0500
TZNAME:EST
DTSTART:20261101T060000
END:STANDARD
BEGIN:DAYLIGHT
TZOFFSETFROM:-0500
TZOFFSETTO:-0400
TZNAME:EDT
DTSTART:20270314T070000
END:DAYLIGHT
BEGIN:STANDARD
TZOFFSETFROM:-0400
TZOFFSETTO:-0500
TZNAME:EST
DTSTART:20271107T060000
END:STANDARD
END:VTIMEZONE
BEGIN:VEVENT
DTSTART;TZID=America/New_York:20260403T180000
DTEND;TZID=America/New_York:20260412T203000
DTSTAMP:20260425T114747
CREATED:20260305T125846Z
LAST-MODIFIED:20260305T125846Z
UID:24433-1775239200-1776025800@www.unitedskates.com
SUMMARY:Spring Break Skate Schedule | April 3 – April 12
DESCRIPTION:Spring Break fun is rolling into Branch Brook Park Roller Skating Center! Join us for exciting public skate sessions\, themed events\, glow skates\, family skate times\, and special character appearances throughout the week. It’s the perfect place for kids and families to celebrate Spring Break\, stay active\, and make unforgettable memories on wheels! 🛼✨
URL:https://www.unitedskates.com/branch-brook-park/event/spring-break-skate-schedule-april-3-april-12/
LOCATION:Branch Brook Park Roller Skating Center\, 7th Ave & Clifton Ave\, Newark\, NJ\, 07104\, United States
CATEGORIES:Adult Events,Family Events,Public Skates,Special Events
ATTACH;FMTTYPE=image/jpeg:https://unitedskates-assets.sfo3.digitaloceanspaces.com/wp-content/uploads/sites/15/2026/03/41-Spring-Break-2026-front-1.jpg
END:VEVENT
BEGIN:VEVENT
DTSTART;TZID=America/New_York:20260412T120000
DTEND;TZID=America/New_York:20260412T150000
DTSTAMP:20260425T114747
CREATED:20260127T155717Z
LAST-MODIFIED:20260302T222658Z
UID:23492-1775995200-1776006000@www.unitedskates.com
SUMMARY:Glow Roll Extravaganza
DESCRIPTION:🛼 All Ages Skate Session \n⏰ 12:00 PM – 3:00 PM \n🎟️ Admission: \n\n$15 online | $17 at the door (Plus Tax)\n\n🛼 Skate Rental: \n\n$6 (required for ages 2–17 without their own skates)\n\n👀 Non-Skating Adults (18+): \n\n$5 chaperone fee (not valid for children)\n\n📝 Waivers required for all guests entering (ages 2+ must be listed). Must be completed the day of visit. \n🚫 No outside food\, drinks\, cakes\, or décor \n⚠️ All tickets final sale and valid for the listed date and time only | Group rates must be booked in advance
URL:https://www.unitedskates.com/branch-brook-park/event/glow-roll-extravaganza-2026-04-12/
CATEGORIES:Family Events,Public Skates,Special Events
ATTACH;FMTTYPE=image/png:https://unitedskates-assets.sfo3.digitaloceanspaces.com/wp-content/uploads/sites/15/2026/01/Copy-of-End-of-Summer-Camp-Glow-Party-Flyer-1.png
END:VEVENT
BEGIN:VEVENT
DTSTART;TZID=America/New_York:20260412T160000
DTEND;TZID=America/New_York:20260412T190000
DTSTAMP:20260425T114747
CREATED:20251113T142655Z
LAST-MODIFIED:20260302T165321Z
UID:21975-1776009600-1776020400@www.unitedskates.com
SUMMARY:Sunday Family Roller Skating
DESCRIPTION:🛼 All Ages Skate Session \n⏰ 4:00 PM – 7:00 PM \n🎟️ Admission: \n\n$15 online | $17 at the door (Plus Tax)\n\n🛼 Skate Rental: \n\n$6 (required for ages 2–17 without their own skates)\n\n👀 Non-Skating Adults (18+): \n\n$5 chaperone fee (not valid for children)\n\n📝 Waivers required for all guests entering (ages 2+ must be listed). Must be completed the day of visit. \n🚫 No outside food\, drinks\, cakes\, or décor \n⚠️ All tickets final sale and valid for the listed date and time only | Group rates must be booked in advance
URL:https://www.unitedskates.com/branch-brook-park/event/sunday-family-roller-skating-2/2026-04-12/
CATEGORIES:Family Events,Public Skates
ATTACH;FMTTYPE=image/png:https://unitedskates-assets.sfo3.digitaloceanspaces.com/wp-content/uploads/sites/15/2024/12/Public-Skate.png
END:VEVENT
END:VCALENDAR