BEGIN:VCALENDAR
VERSION:2.0
PRODID:-//Rink 41 - Branch Brook Park Skating - ECPv6.15.20//NONSGML v1.0//EN
CALSCALE:GREGORIAN
METHOD:PUBLISH
X-WR-CALNAME:Rink 41 - Branch Brook Park Skating
X-ORIGINAL-URL:https://www.unitedskates.com/branch-brook-park
X-WR-CALDESC:Events for Rink 41 - Branch Brook Park Skating
REFRESH-INTERVAL;VALUE=DURATION:PT1H
X-Robots-Tag:noindex
X-PUBLISHED-TTL:PT1H
BEGIN:VTIMEZONE
TZID:America/New_York
BEGIN:DAYLIGHT
TZOFFSETFROM:-0500
TZOFFSETTO:-0400
TZNAME:EDT
DTSTART:20230312T070000
END:DAYLIGHT
BEGIN:STANDARD
TZOFFSETFROM:-0400
TZOFFSETTO:-0500
TZNAME:EST
DTSTART:20231105T060000
END:STANDARD
BEGIN:DAYLIGHT
TZOFFSETFROM:-0500
TZOFFSETTO:-0400
TZNAME:EDT
DTSTART:20240310T070000
END:DAYLIGHT
BEGIN:STANDARD
TZOFFSETFROM:-0400
TZOFFSETTO:-0500
TZNAME:EST
DTSTART:20241103T060000
END:STANDARD
BEGIN:DAYLIGHT
TZOFFSETFROM:-0500
TZOFFSETTO:-0400
TZNAME:EDT
DTSTART:20250309T070000
END:DAYLIGHT
BEGIN:STANDARD
TZOFFSETFROM:-0400
TZOFFSETTO:-0500
TZNAME:EST
DTSTART:20251102T060000
END:STANDARD
END:VTIMEZONE
BEGIN:VEVENT
DTSTART;TZID=America/New_York:20240715T120000
DTEND;TZID=America/New_York:20240715T160000
DTSTAMP:20260421T220840
CREATED:20240515T225824Z
LAST-MODIFIED:20240515T225824Z
UID:17624-1721044800-1721059200@www.unitedskates.com
SUMMARY:Summer Fun Skate
DESCRIPTION:OPEN TO ALL AGES! \nCLICK HERE TO PURCHASE TICKETS!\nEVERYONE MUST HAVE A TICKET TO ENTER WHETHER SKATING OR NOT – \n$16.00 for Admission & Skate Rental (Plus Service Fee) \n$10.00 Admission for those with their Own Skates (Plus Service Fee) \n$5.00 Spectators Fee for Non Skating Adults 18yrs+ Only (Plus Service Fee) \nFACE MASKS ARE NOW OPTIONAL BUT RECOMMENDED \nNO OUTSIDE FOOD\, DRINK\, CAKE OR DECOR ALLOWED. \nAll guests (children & adults)\, whether skating or not\, must sign a waiver online. Children can be added to the accompanying adults waiver. The waiver is only valid for the date listed upon submission.
URL:https://www.unitedskates.com/branch-brook-park/event/summer-fun-skate-6/
CATEGORIES:Public Skates
ATTACH;FMTTYPE=image/jpeg:https://unitedskates-assets.sfo3.digitaloceanspaces.com/wp-content/uploads/sites/15/2024/05/Summer-Fun-Skate-1200x1200-1.jpg
END:VEVENT
END:VCALENDAR