BEGIN:VCALENDAR
VERSION:2.0
PRODID:-//Rink 41 - Branch Brook Park Skating - ECPv6.15.20//NONSGML v1.0//EN
CALSCALE:GREGORIAN
METHOD:PUBLISH
X-WR-CALNAME:Rink 41 - Branch Brook Park Skating
X-ORIGINAL-URL:https://www.unitedskates.com/branch-brook-park
X-WR-CALDESC:Events for Rink 41 - Branch Brook Park Skating
REFRESH-INTERVAL;VALUE=DURATION:PT1H
X-Robots-Tag:noindex
X-PUBLISHED-TTL:PT1H
BEGIN:VTIMEZONE
TZID:America/New_York
BEGIN:DAYLIGHT
TZOFFSETFROM:-0500
TZOFFSETTO:-0400
TZNAME:EDT
DTSTART:20230312T070000
END:DAYLIGHT
BEGIN:STANDARD
TZOFFSETFROM:-0400
TZOFFSETTO:-0500
TZNAME:EST
DTSTART:20231105T060000
END:STANDARD
BEGIN:DAYLIGHT
TZOFFSETFROM:-0500
TZOFFSETTO:-0400
TZNAME:EDT
DTSTART:20240310T070000
END:DAYLIGHT
BEGIN:STANDARD
TZOFFSETFROM:-0400
TZOFFSETTO:-0500
TZNAME:EST
DTSTART:20241103T060000
END:STANDARD
BEGIN:DAYLIGHT
TZOFFSETFROM:-0500
TZOFFSETTO:-0400
TZNAME:EDT
DTSTART:20250309T070000
END:DAYLIGHT
BEGIN:STANDARD
TZOFFSETFROM:-0400
TZOFFSETTO:-0500
TZNAME:EST
DTSTART:20251102T060000
END:STANDARD
END:VTIMEZONE
BEGIN:VEVENT
DTSTART;TZID=America/New_York:20240713T103000
DTEND;TZID=America/New_York:20240713T113000
DTSTAMP:20260422T222414
CREATED:20240426T202826Z
LAST-MODIFIED:20240426T202826Z
UID:17441-1720866600-1720870200@www.unitedskates.com
SUMMARY:Saturday Roller Skating Lessons
DESCRIPTION:CLICK HERE TO PURCHASE TICKETS!\nALL LEVELS WELCOME! \n$20.00 for Skate Lessons immediately followed by Admission for our 11:30am-2:30pm family session to continue practicing. \nALL GUESTS MUST SIGN WAIVERS! Please note: ALL guests starting from the age of 2 years old must be indicated on the waiver forms whether skating or not. 
URL:https://www.unitedskates.com/branch-brook-park/event/saturday-roller-skating-lessons-3/
CATEGORIES:Family Events,Lessons
ATTACH;FMTTYPE=image/jpeg:https://unitedskates-assets.sfo3.digitaloceanspaces.com/wp-content/uploads/sites/15/2022/04/Event-Skate-Lessons.jpg
END:VEVENT
BEGIN:VEVENT
DTSTART;TZID=America/New_York:20240713T113000
DTEND;TZID=America/New_York:20240713T143000
DTSTAMP:20260422T222414
CREATED:20240426T203214Z
LAST-MODIFIED:20240426T203214Z
UID:17453-1720870200-1720881000@www.unitedskates.com
SUMMARY:Saturday Family Roller Skating Session 1
DESCRIPTION:Click Here to Purchase Tickets \nOPEN TO ALL AGES! \n(Make Sure You REVIEW TIME BEFORE CHECKOUT) \nPLEASE NOTE: THERE ARE A LIMITED AMOUNT OF TICKETS SOLD AT THE DOOR!!! \nEVERYONE MUST HAVE A TICKET TO ENTER WHETHER SKATING OR NOT \n$19.00 for Admission & Skate Rental (Plus Service Fee) \n$13.00 Admission for those with their Own Skates (Plus Service Fee) \n$5.00 Spectators Fee for Non-Skating Adults 18yrs+ Only (Plus Service Fee) \nALL GUESTS MUST SIGN WAIVERS! Please note: ALL guests starting from the age of 2 years old must be indicated on the waiver forms whether skating or not. \nNO OUTSIDE FOOD\, DRINK\, CAKE OR DECOR ALLOWED WITHOUT A RESERVED BIRTHDAY PARTY.
URL:https://www.unitedskates.com/branch-brook-park/event/saturday-family-roller-skating-session-1-2/
CATEGORIES:Family Events,Public Skates
ATTACH;FMTTYPE=image/jpeg:https://unitedskates-assets.sfo3.digitaloceanspaces.com/wp-content/uploads/sites/15/2022/05/Family-Skate-1200x900-1.jpg
END:VEVENT
BEGIN:VEVENT
DTSTART;TZID=America/New_York:20240713T150000
DTEND;TZID=America/New_York:20240713T180000
DTSTAMP:20260422T222414
CREATED:20240426T212855Z
LAST-MODIFIED:20240426T212855Z
UID:17465-1720882800-1720893600@www.unitedskates.com
SUMMARY:Saturday Family Roller Skating Center Session 2
DESCRIPTION:Click Here to Purchase Tickets \nOPEN TO ALL AGES! \n(Make Sure You REVIEW TIME BEFORE CHECKOUT) \nPLEASE NOTE: THERE ARE A LIMITED AMOUNT OF TICKETS SOLD AT THE DOOR!!! \nEVERYONE MUST HAVE A TICKET TO ENTER WHETHER SKATING OR NOT \n$19.00 for Admission & Skate Rental (Plus Service Fee) \n$13.00 Admission for those with their Own Skates (Plus Service Fee) \n$5.00 Spectators Fee for Non-Skating Adults 18yrs+ Only (Plus Service Fee) \nALL GUESTS MUST SIGN WAIVERS! Please note: ALL guests starting from the age of 2 years old must be indicated on the waiver forms whether skating or not. \nNO OUTSIDE FOOD\, DRINK\, CAKE OR DECOR ALLOWED WITHOUT A RESERVED BIRTHDAY PARTY.
URL:https://www.unitedskates.com/branch-brook-park/event/saturday-family-roller-skating-center-session-2/
CATEGORIES:Family Events,Public Skates
ATTACH;FMTTYPE=image/jpeg:https://unitedskates-assets.sfo3.digitaloceanspaces.com/wp-content/uploads/sites/15/2022/05/Family-Skate-1200x900-1.jpg
END:VEVENT
BEGIN:VEVENT
DTSTART;TZID=America/New_York:20240713T190000
DTEND;TZID=America/New_York:20240713T220000
DTSTAMP:20260422T222414
CREATED:20240426T213152Z
LAST-MODIFIED:20240515T224519Z
UID:17477-1720897200-1720908000@www.unitedskates.com
SUMMARY:Neon Glow Skate
DESCRIPTION:Click Here to Purchase Tickets \nOPEN TO ALL AGES! \n(Make Sure You REVIEW TIME BEFORE CHECKOUT) \nPLEASE NOTE: THERE ARE A LIMITED AMOUNT OF TICKETS SOLD AT THE DOOR!!! \nEVERYONE MUST HAVE A TICKET TO ENTER WHETHER SKATING OR NOT \n$19.00 for Admission & Skate Rental (Plus Service Fee) \n$13.00 Admission for those with their Own Skates (Plus Service Fee) \n$5.00 Spectators Fee for Non-Skating Adults 18yrs+ Only (Plus Service Fee) \nALL GUESTS MUST SIGN WAIVERS! Please note: ALL guests starting from the age of 2 years old must be indicated on the waiver forms whether skating or not. \nNO OUTSIDE FOOD\, DRINK\, CAKE OR DECOR ALLOWED WITHOUT A RESERVED BIRTHDAY PARTY.
URL:https://www.unitedskates.com/branch-brook-park/event/saturday-family-roller-skating-session-3-2/
CATEGORIES:Family Events,Public Skates,Special Events
ATTACH;FMTTYPE=image/jpeg:https://unitedskates-assets.sfo3.digitaloceanspaces.com/wp-content/uploads/sites/15/2024/04/NEON-GLOW-SKATE.jpg
END:VEVENT
END:VCALENDAR