BEGIN:VCALENDAR
VERSION:2.0
PRODID:-//Rink 41 - Branch Brook Park Skating - ECPv6.15.20//NONSGML v1.0//EN
CALSCALE:GREGORIAN
METHOD:PUBLISH
X-WR-CALNAME:Rink 41 - Branch Brook Park Skating
X-ORIGINAL-URL:https://www.unitedskates.com/branch-brook-park
X-WR-CALDESC:Events for Rink 41 - Branch Brook Park Skating
REFRESH-INTERVAL;VALUE=DURATION:PT1H
X-Robots-Tag:noindex
X-PUBLISHED-TTL:PT1H
BEGIN:VTIMEZONE
TZID:America/New_York
BEGIN:DAYLIGHT
TZOFFSETFROM:-0500
TZOFFSETTO:-0400
TZNAME:EDT
DTSTART:20230312T070000
END:DAYLIGHT
BEGIN:STANDARD
TZOFFSETFROM:-0400
TZOFFSETTO:-0500
TZNAME:EST
DTSTART:20231105T060000
END:STANDARD
BEGIN:DAYLIGHT
TZOFFSETFROM:-0500
TZOFFSETTO:-0400
TZNAME:EDT
DTSTART:20240310T070000
END:DAYLIGHT
BEGIN:STANDARD
TZOFFSETFROM:-0400
TZOFFSETTO:-0500
TZNAME:EST
DTSTART:20241103T060000
END:STANDARD
BEGIN:DAYLIGHT
TZOFFSETFROM:-0500
TZOFFSETTO:-0400
TZNAME:EDT
DTSTART:20250309T070000
END:DAYLIGHT
BEGIN:STANDARD
TZOFFSETFROM:-0400
TZOFFSETTO:-0500
TZNAME:EST
DTSTART:20251102T060000
END:STANDARD
END:VTIMEZONE
BEGIN:VEVENT
DTSTART;TZID=America/New_York:20240702T120000
DTEND;TZID=America/New_York:20240702T160000
DTSTAMP:20260421T220834
CREATED:20240515T223059Z
LAST-MODIFIED:20240515T223059Z
UID:17601-1719921600-1719936000@www.unitedskates.com
SUMMARY:Summer Fun Skate
DESCRIPTION:OPEN TO ALL AGES! \nCLICK HERE TO PURCHASE TICKETS!\nEVERYONE MUST HAVE A TICKET TO ENTER WHETHER SKATING OR NOT – \n$16.00 for Admission & Skate Rental (Plus Service Fee) \n$10.00 Admission for those with their Own Skates (Plus Service Fee) \n$5.00 Spectators Fee for Non Skating Adults 18yrs+ Only (Plus Service Fee) \nFACE MASKS ARE NOW OPTIONAL BUT RECOMMENDED \nNO OUTSIDE FOOD\, DRINK\, CAKE OR DECOR ALLOWED. \nAll guests (children & adults)\, whether skating or not\, must sign a waiver online. Children can be added to the accompanying adults waiver. The waiver is only valid for the date listed upon submission.
URL:https://www.unitedskates.com/branch-brook-park/event/summer-fun-skate-5/
CATEGORIES:Public Skates
ATTACH;FMTTYPE=image/jpeg:https://unitedskates-assets.sfo3.digitaloceanspaces.com/wp-content/uploads/sites/15/2024/05/Summer-Fun-Skate-1200x1200-1.jpg
END:VEVENT
BEGIN:VEVENT
DTSTART;TZID=America/New_York:20240702T180000
DTEND;TZID=America/New_York:20240702T190000
DTSTAMP:20260421T220834
CREATED:20240426T200156Z
LAST-MODIFIED:20240822T173832Z
UID:17376-1719943200-1719946800@www.unitedskates.com
SUMMARY:Advanced Adult Skate Lessons
DESCRIPTION:CLICK HERE TO PURCHASE TICKETS\nMust be 18 years + to attend these lessons – followed by the adult session from 7-10pm \nLessons are available for following levels: \nIntermediate & Advanced Only \nLessons are $22.00 a person plus tax and service fees. Our lessons will be led by Boot Camp Cory LLC\, skate rental is included and wrist guard rental. After your skate lesson you receive GUARANTEED entry to the Tuesday Night Adult Skate Session to continue enhancing your skate skills. \nPRE-PURCHASED TICKETS ARE RECOMMENEDED AS DOOR PRICES ARE HIGHER \nNO OUTSIDE FOOD\, DRINK\, CAKE OR DECOR ALLOWED.
URL:https://www.unitedskates.com/branch-brook-park/event/advanced-adult-skate-lessons-3/
CATEGORIES:Adult Events,Lessons
ATTACH;FMTTYPE=image/jpeg:https://unitedskates-assets.sfo3.digitaloceanspaces.com/wp-content/uploads/sites/15/2022/04/Event-Skate-Lessons.jpg
END:VEVENT
BEGIN:VEVENT
DTSTART;TZID=America/New_York:20240702T190000
DTEND;TZID=America/New_York:20240702T220000
DTSTAMP:20260421T220834
CREATED:20240426T200528Z
LAST-MODIFIED:20240426T200528Z
UID:17388-1719946800-1719957600@www.unitedskates.com
SUMMARY:Tuesday Adult Skate Night
DESCRIPTION:Click Here to Purchase Tickets \nEVERYONE MUST HAVE A TICKET TO ENTER WHETHER SKATING OR NOT \nLIMITED TICKETS AVAILABLE AT THE FACILITY WITH AT DOOR PRICING \n$20.00 for Admission & Skate Rental (Plus Service Fee) \n$14.00 Admission for those with their Own Skates (Plus Service Fee) \nFACE MASKS ARE NOW OPTIONAL BUT RECOMMENDED \nNO SPECTATORS FEE AVAILABLE FOR THIS SESSION \nMUST BE 18YRS+ TO ATTEND WITH A VALID ID NO OUTSIDE FOOD\, DRINK\, CAKE OR DECOR ALLOWED. All adults (18+)\, whether skating or not\, will need to fill out our waiver. CLICK HERE for Electronic waivers.
URL:https://www.unitedskates.com/branch-brook-park/event/tuesday-adult-skate-night-4/
ATTACH;FMTTYPE=image/jpeg:https://unitedskates-assets.sfo3.digitaloceanspaces.com/wp-content/uploads/sites/15/2022/05/Adult-Skate-1200x900-v2.jpg
END:VEVENT
END:VCALENDAR