BEGIN:VCALENDAR
VERSION:2.0
PRODID:-//Rink 41 - Branch Brook Park Skating - ECPv6.15.20//NONSGML v1.0//EN
CALSCALE:GREGORIAN
METHOD:PUBLISH
X-WR-CALNAME:Rink 41 - Branch Brook Park Skating
X-ORIGINAL-URL:https://www.unitedskates.com/branch-brook-park
X-WR-CALDESC:Events for Rink 41 - Branch Brook Park Skating
REFRESH-INTERVAL;VALUE=DURATION:PT1H
X-Robots-Tag:noindex
X-PUBLISHED-TTL:PT1H
BEGIN:VTIMEZONE
TZID:America/New_York
BEGIN:DAYLIGHT
TZOFFSETFROM:-0500
TZOFFSETTO:-0400
TZNAME:EDT
DTSTART:20230312T070000
END:DAYLIGHT
BEGIN:STANDARD
TZOFFSETFROM:-0400
TZOFFSETTO:-0500
TZNAME:EST
DTSTART:20231105T060000
END:STANDARD
BEGIN:DAYLIGHT
TZOFFSETFROM:-0500
TZOFFSETTO:-0400
TZNAME:EDT
DTSTART:20240310T070000
END:DAYLIGHT
BEGIN:STANDARD
TZOFFSETFROM:-0400
TZOFFSETTO:-0500
TZNAME:EST
DTSTART:20241103T060000
END:STANDARD
BEGIN:DAYLIGHT
TZOFFSETFROM:-0500
TZOFFSETTO:-0400
TZNAME:EDT
DTSTART:20250309T070000
END:DAYLIGHT
BEGIN:STANDARD
TZOFFSETFROM:-0400
TZOFFSETTO:-0500
TZNAME:EST
DTSTART:20251102T060000
END:STANDARD
END:VTIMEZONE
BEGIN:VEVENT
DTSTART;TZID=America/New_York:20240527T120000
DTEND;TZID=America/New_York:20240527T140000
DTSTAMP:20260421T060444
CREATED:20240325T200121Z
LAST-MODIFIED:20240426T194136Z
UID:17099-1716811200-1716818400@www.unitedskates.com
SUMMARY:Memorial Day Skate
DESCRIPTION:OPEN TO ALL AGES \nCLICK HERE TO PURCHASE TICKETS!\nEVERYONE MUST HAVE A TICKET TO ENTER WHETHER SKATING OR NOT \n$19.00 for Admission & Skate Rental (Plus Service Fee) \n$13.00 Admission for those with their Own Skates (Plus Service Fee) \n$5.00 Spectators Fee for Non Skating Adults 18yrs+ Only (Plus Service Fee) \nALL GUESTS MUST SIGN WAIVERS! Please note: ALL guests starting from the age of 2 years old must be indicated on the waiver forms whether skating or not. \nNO OUTSIDE FOOD\, DRINK\, CAKE OR DECOR ALLOWED.
URL:https://www.unitedskates.com/branch-brook-park/event/memorial-day-skate-3/
CATEGORIES:Family Events,Public Skates,Special Events
ATTACH;FMTTYPE=image/png:https://unitedskates-assets.sfo3.digitaloceanspaces.com/wp-content/uploads/sites/15/2024/03/Memorial-Day.png
END:VEVENT
BEGIN:VEVENT
DTSTART;TZID=America/New_York:20240527T150000
DTEND;TZID=America/New_York:20240527T170000
DTSTAMP:20260421T060444
CREATED:20240325T200551Z
LAST-MODIFIED:20240426T194233Z
UID:17105-1716822000-1716829200@www.unitedskates.com
SUMMARY:Memorial Day Skate
DESCRIPTION:OPEN TO ALL AGES \nCLICK HERE TO PURCHASE TICKETS!\nEVERYONE MUST HAVE A TICKET TO ENTER WHETHER SKATING OR NOT \n$19.00 for Admission & Skate Rental (Plus Service Fee) \n$13.00 Admission for those with their Own Skates (Plus Service Fee) \n$5.00 Spectators Fee for Non Skating Adults 18yrs+ Only (Plus Service Fee) \nALL GUESTS MUST SIGN WAIVERS! Please note: ALL guests starting from the age of 2 years old must be indicated on the waiver forms whether skating or not. \nNO OUTSIDE FOOD\, DRINK\, CAKE OR DECOR ALLOWED.
URL:https://www.unitedskates.com/branch-brook-park/event/memorial-day-skate-4/
CATEGORIES:Family Events,Public Skates,Special Events
ATTACH;FMTTYPE=image/png:https://unitedskates-assets.sfo3.digitaloceanspaces.com/wp-content/uploads/sites/15/2024/03/Memorial-Day.png
END:VEVENT
BEGIN:VEVENT
DTSTART;TZID=America/New_York:20240527T180000
DTEND;TZID=America/New_York:20240527T200000
DTSTAMP:20260421T060444
CREATED:20240311T185722Z
LAST-MODIFIED:20240426T194326Z
UID:16993-1716832800-1716840000@www.unitedskates.com
SUMMARY:Memorial Day Skate
DESCRIPTION:CLICK HERE TO PURCHASE TICKETS!\nOPEN TO ALL AGES! \n$19.00 for Admission & Skate Rental (Plus Service Fee) \n$13.00 Admission for those with their Own Skates (Plus Service Fee) \n$5.00 Spectators Fee for Non Skating Adults 18yrs+ Only (Plus Service Fee) \nTickets are non-refundable\, valid per listed time only and cannot be transferred to a different date or time! Ages 2-17yrs Old Without their Own Skates Must Pay for Rental to Enter. \nALL GUESTS MUST SIGN WAIVERS! Please note: ALL guests starting from the age of 2 years old must be indicated on the waiver forms whether skating or not. 
URL:https://www.unitedskates.com/branch-brook-park/event/monday-family-skate-2024-05-27/
CATEGORIES:Family Events,Public Skates,Special Events
ATTACH;FMTTYPE=image/png:https://unitedskates-assets.sfo3.digitaloceanspaces.com/wp-content/uploads/sites/15/2024/03/Memorial-Day.png
END:VEVENT
END:VCALENDAR