BEGIN:VCALENDAR
VERSION:2.0
PRODID:-//Rink 41 - Branch Brook Park Skating - ECPv6.15.20//NONSGML v1.0//EN
CALSCALE:GREGORIAN
METHOD:PUBLISH
X-ORIGINAL-URL:https://www.unitedskates.com/branch-brook-park
X-WR-CALDESC:Events for Rink 41 - Branch Brook Park Skating
REFRESH-INTERVAL;VALUE=DURATION:PT1H
X-Robots-Tag:noindex
X-PUBLISHED-TTL:PT1H
BEGIN:VTIMEZONE
TZID:America/New_York
BEGIN:DAYLIGHT
TZOFFSETFROM:-0500
TZOFFSETTO:-0400
TZNAME:EDT
DTSTART:20230312T070000
END:DAYLIGHT
BEGIN:STANDARD
TZOFFSETFROM:-0400
TZOFFSETTO:-0500
TZNAME:EST
DTSTART:20231105T060000
END:STANDARD
BEGIN:DAYLIGHT
TZOFFSETFROM:-0500
TZOFFSETTO:-0400
TZNAME:EDT
DTSTART:20240310T070000
END:DAYLIGHT
BEGIN:STANDARD
TZOFFSETFROM:-0400
TZOFFSETTO:-0500
TZNAME:EST
DTSTART:20241103T060000
END:STANDARD
BEGIN:DAYLIGHT
TZOFFSETFROM:-0500
TZOFFSETTO:-0400
TZNAME:EDT
DTSTART:20250309T070000
END:DAYLIGHT
BEGIN:STANDARD
TZOFFSETFROM:-0400
TZOFFSETTO:-0500
TZNAME:EST
DTSTART:20251102T060000
END:STANDARD
END:VTIMEZONE
BEGIN:VEVENT
DTSTART;TZID=America/New_York:20240504T150000
DTEND;TZID=America/New_York:20240504T180000
DTSTAMP:20260420T151003
CREATED:20240313T212033Z
LAST-MODIFIED:20240504T134023Z
UID:17007-1714834800-1714845600@www.unitedskates.com
SUMMARY:Lunch with Bluey Skate
DESCRIPTION:Click Here to Purchase Tickets  \nOPEN TO ALL AGES! PRE-PURCHASED TICKETS ARE SOLD OUT! \n(Make Sure You REVIEW TIME BEFORE CHECKOUT) \nPLEASE NOTE: THERE ARE A LIMITED AMOUNT OF TICKETS SOLD AT THE DOOR! Tickets purchased at the door DO NOT include the meal deal! \nEVERYONE MUST HAVE A TICKET TO ENTER WHETHER SKATING OR NOT. \n$19.00 for Admission & Skate Rental (Plus Service Fee) \n$13.00 Admission for those with their Own Skates (Plus Service Fee) \n$5.00 Spectators Fee for Non-Skating Adults 18yrs+ Only (Plus Service Fee) \nNO OUTSIDE FOOD\, DRINK\, CAKE OR DECOR ALLOWED WITHOUT A RESERVED BIRTHDAY PARTY.
URL:https://www.unitedskates.com/branch-brook-park/event/saturday-family-roller-skate-session-2-7-2024-05-04/
CATEGORIES:Family Events,Public Skates,Special Events
END:VEVENT
END:VCALENDAR