BEGIN:VCALENDAR
VERSION:2.0
PRODID:-//Rink 41 - Branch Brook Park Skating - ECPv6.15.20//NONSGML v1.0//EN
CALSCALE:GREGORIAN
METHOD:PUBLISH
X-ORIGINAL-URL:https://www.unitedskates.com/branch-brook-park
X-WR-CALDESC:Events for Rink 41 - Branch Brook Park Skating
REFRESH-INTERVAL;VALUE=DURATION:PT1H
X-Robots-Tag:noindex
X-PUBLISHED-TTL:PT1H
BEGIN:VTIMEZONE
TZID:America/New_York
BEGIN:DAYLIGHT
TZOFFSETFROM:-0500
TZOFFSETTO:-0400
TZNAME:EDT
DTSTART:20230312T070000
END:DAYLIGHT
BEGIN:STANDARD
TZOFFSETFROM:-0400
TZOFFSETTO:-0500
TZNAME:EST
DTSTART:20231105T060000
END:STANDARD
BEGIN:DAYLIGHT
TZOFFSETFROM:-0500
TZOFFSETTO:-0400
TZNAME:EDT
DTSTART:20240310T070000
END:DAYLIGHT
BEGIN:STANDARD
TZOFFSETFROM:-0400
TZOFFSETTO:-0500
TZNAME:EST
DTSTART:20241103T060000
END:STANDARD
BEGIN:DAYLIGHT
TZOFFSETFROM:-0500
TZOFFSETTO:-0400
TZNAME:EDT
DTSTART:20250309T070000
END:DAYLIGHT
BEGIN:STANDARD
TZOFFSETFROM:-0400
TZOFFSETTO:-0500
TZNAME:EST
DTSTART:20251102T060000
END:STANDARD
END:VTIMEZONE
BEGIN:VEVENT
DTSTART;TZID=America/New_York:20240426T170000
DTEND;TZID=America/New_York:20240426T190000
DTSTAMP:20260420T150952
CREATED:20240304T171431Z
LAST-MODIFIED:20240426T171827Z
UID:16879-1714150800-1714158000@www.unitedskates.com
SUMMARY:Spongebob Skate Party
DESCRIPTION:OPEN TO ALL AGES \nCLICK HERE TO PURCHASE A TICKET & GUARANTEE YOUR ENTRY\nEVERYONE MUST HAVE A TICKET TO ENTER WHETHER SKATING OR NOT – \n$19.00 for Admission & Skate Rental (Plus Service Fee) \n$13.00 Admission for those with their Own Skates (Plus Service Fee) \n$5.00 Spectators Fee for Non Skating Adults 18yrs+ Only (Plus Service Fee) \nALL GUESTS MUST SIGN WAIVERS! Please note: ALL guests starting from the age of 2 years old must be indicated on the waiver forms whether skating or not. \nNO OUTSIDE FOOD\, DRINK\, CAKE OR DECOR ALLOWED.
URL:https://www.unitedskates.com/branch-brook-park/event/friday-night-roller-skating-2-2024-04-26/
CATEGORIES:Family Events,Public Skates,Special Events
ATTACH;FMTTYPE=image/png:https://unitedskates-assets.sfo3.digitaloceanspaces.com/wp-content/uploads/sites/15/2024/03/Screenshot-2024-03-04-124214.png
END:VEVENT
BEGIN:VEVENT
DTSTART;TZID=America/New_York:20240426T200000
DTEND;TZID=America/New_York:20240426T220000
DTSTAMP:20260420T150952
CREATED:20240426T174400Z
LAST-MODIFIED:20240426T174400Z
UID:17203-1714161600-1714168800@www.unitedskates.com
SUMMARY:Friday Late Night Family Skate
DESCRIPTION:OPEN TO ALL AGES \nCLICK HERE TO PURCHASE A TICKET & GUARANTEE YOUR ENTRY\nEVERYONE MUST HAVE A TICKET TO ENTER WHETHER SKATING OR NOT – \n$19.00 for Admission & Skate Rental (Plus Service Fee) \n$13.00 Admission for those with their Own Skates (Plus Service Fee) \n$5.00 Spectators Fee for Non Skating Adults 18yrs+ Only (Plus Service Fee) \nALL GUESTS MUST SIGN WAIVERS! Please note: ALL guests starting from the age of 2 years old must be indicated on the waiver forms whether skating or not. \nNO OUTSIDE FOOD\, DRINK\, CAKE OR DECOR ALLOWED.
URL:https://www.unitedskates.com/branch-brook-park/event/friday-late-night-family-skate-2/
CATEGORIES:Family Events,Public Skates
ATTACH;FMTTYPE=image/jpeg:https://unitedskates-assets.sfo3.digitaloceanspaces.com/wp-content/uploads/sites/15/2022/05/Family-Skate-1200x900-1.jpg
END:VEVENT
END:VCALENDAR