BEGIN:VCALENDAR
VERSION:2.0
PRODID:-//Rink 41 - Branch Brook Park Skating - ECPv6.15.20//NONSGML v1.0//EN
CALSCALE:GREGORIAN
METHOD:PUBLISH
X-ORIGINAL-URL:https://www.unitedskates.com/branch-brook-park
X-WR-CALDESC:Events for Rink 41 - Branch Brook Park Skating
REFRESH-INTERVAL;VALUE=DURATION:PT1H
X-Robots-Tag:noindex
X-PUBLISHED-TTL:PT1H
BEGIN:VTIMEZONE
TZID:America/New_York
BEGIN:DAYLIGHT
TZOFFSETFROM:-0500
TZOFFSETTO:-0400
TZNAME:EDT
DTSTART:20230312T070000
END:DAYLIGHT
BEGIN:STANDARD
TZOFFSETFROM:-0400
TZOFFSETTO:-0500
TZNAME:EST
DTSTART:20231105T060000
END:STANDARD
BEGIN:DAYLIGHT
TZOFFSETFROM:-0500
TZOFFSETTO:-0400
TZNAME:EDT
DTSTART:20240310T070000
END:DAYLIGHT
BEGIN:STANDARD
TZOFFSETFROM:-0400
TZOFFSETTO:-0500
TZNAME:EST
DTSTART:20241103T060000
END:STANDARD
BEGIN:DAYLIGHT
TZOFFSETFROM:-0500
TZOFFSETTO:-0400
TZNAME:EDT
DTSTART:20250309T070000
END:DAYLIGHT
BEGIN:STANDARD
TZOFFSETFROM:-0400
TZOFFSETTO:-0500
TZNAME:EST
DTSTART:20251102T060000
END:STANDARD
END:VTIMEZONE
BEGIN:VEVENT
DTSTART;TZID=America/New_York:20240407T120000
DTEND;TZID=America/New_York:20240407T150000
DTSTAMP:20260420T223350
CREATED:20231026T170943Z
LAST-MODIFIED:20240207T173117Z
UID:15658-1712491200-1712502000@www.unitedskates.com
SUMMARY:Bagels with Bluey
DESCRIPTION:Open to All Ages \n\n\n\nCLICK HERE TO PURCHASE TICKETS!\n\n\n\n(Make Sure You REVIEW TIME BEFORE CHECKOUT) \n\n\n\nPLEASE NOTE: THERE ARE A LIMITED AMOUNT OF TICKETS SOLD AT THE DOOR!!! \n\n\n\n\n\nEVERYONE MUST HAVE A TICKET TO ENTER WHETHER SKATING OR NOT \n\n\n\n$19.00 for Admission & Skate Rental (Plus Service Fee) \n\n\n\n$13.00 Admission for those with their Own Skates (Plus Service Fee) \n\n\n\n$5.00 Spectators Fee for Non-Skating Adults 18yrs+ Only (Plus Service Fee) NO OUTSIDE FOOD\, DRINK\, CAKE OR DECOR ALLOWED WITHOUT A RESERVED BIRTHDAY PARTY.
URL:https://www.unitedskates.com/branch-brook-park/event/sunday-family-roller-skate-session-1-3-2024-04-07/
END:VEVENT
BEGIN:VEVENT
DTSTART;TZID=America/New_York:20240407T160000
DTEND;TZID=America/New_York:20240407T190000
DTSTAMP:20260420T223350
CREATED:20240126T215157Z
LAST-MODIFIED:20240131T224614Z
UID:16439-1712505600-1712516400@www.unitedskates.com
SUMMARY:Sunday Family Roller Skate Session
DESCRIPTION:Open to All Ages \nCLICK HERE TO PRE-PURCHASE TICKETS & GUARANTEE ENTRY \n(Make Sure You REVIEW TIME BEFORE CHECKOUT) \nPLEASE NOTE: THERE ARE A LIMITED AMOUNT OF TICKETS SOLD AT THE DOOR!!! \nEVERYONE MUST HAVE A TICKET TO ENTER WHETHER SKATING OR NOT \n$19.00 for Admission & Skate Rental (Plus Service Fee) \n$13.00 Admission for those with their Own Skates (Plus Service Fee) \n$5.00 Spectators Fee for Non-Skating Adults 18yrs+ Only (Plus Service Fee) \nNO OUTSIDE FOOD\, DRINK\, CAKE OR DECOR ALLOWED WITHOUT A RESERVED BIRTHDAY PARTY.
URL:https://www.unitedskates.com/branch-brook-park/event/sunday-family-roller-skate-session-2-4-2024-04-07/
CATEGORIES:Public Skates
ATTACH;FMTTYPE=image/jpeg:https://unitedskates-assets.sfo3.digitaloceanspaces.com/wp-content/uploads/sites/15/2022/05/Family-Skate-1200x900-1.jpg
END:VEVENT
END:VCALENDAR