BEGIN:VCALENDAR
VERSION:2.0
PRODID:-//Rink 41 - Branch Brook Park Skating - ECPv6.15.20//NONSGML v1.0//EN
CALSCALE:GREGORIAN
METHOD:PUBLISH
X-WR-CALNAME:Rink 41 - Branch Brook Park Skating
X-ORIGINAL-URL:https://www.unitedskates.com/branch-brook-park
X-WR-CALDESC:Events for Rink 41 - Branch Brook Park Skating
REFRESH-INTERVAL;VALUE=DURATION:PT1H
X-Robots-Tag:noindex
X-PUBLISHED-TTL:PT1H
BEGIN:VTIMEZONE
TZID:America/New_York
BEGIN:DAYLIGHT
TZOFFSETFROM:-0500
TZOFFSETTO:-0400
TZNAME:EDT
DTSTART:20230312T070000
END:DAYLIGHT
BEGIN:STANDARD
TZOFFSETFROM:-0400
TZOFFSETTO:-0500
TZNAME:EST
DTSTART:20231105T060000
END:STANDARD
BEGIN:DAYLIGHT
TZOFFSETFROM:-0500
TZOFFSETTO:-0400
TZNAME:EDT
DTSTART:20240310T070000
END:DAYLIGHT
BEGIN:STANDARD
TZOFFSETFROM:-0400
TZOFFSETTO:-0500
TZNAME:EST
DTSTART:20241103T060000
END:STANDARD
BEGIN:DAYLIGHT
TZOFFSETFROM:-0500
TZOFFSETTO:-0400
TZNAME:EDT
DTSTART:20250309T070000
END:DAYLIGHT
BEGIN:STANDARD
TZOFFSETFROM:-0400
TZOFFSETTO:-0500
TZNAME:EST
DTSTART:20251102T060000
END:STANDARD
END:VTIMEZONE
BEGIN:VEVENT
DTSTART;TZID=America/New_York:20240329T140000
DTEND;TZID=America/New_York:20240329T160000
DTSTAMP:20260420T034057
CREATED:20240131T220921Z
LAST-MODIFIED:20240131T221142Z
UID:16500-1711720800-1711728000@www.unitedskates.com
SUMMARY:Spring Break Kick-Off Skate
DESCRIPTION:OPEN TO ALL AGES \n\n\n\nCLICK HERE TO PURCHASE A TICKET & GUARANTEE YOUR ENTRY\n\n\n\nEVERYONE MUST HAVE A TICKET TO ENTER WHETHER SKATING OR NOT – \n\n\n\n\n\n$19.00 for Admission & Skate Rental (Plus Service Fee) \n\n\n\n$13.00 Admission for those with their Own Skates (Plus Service Fee) \n\n\n\n$5.00 Spectators Fee for Non Skating Adults 18yrs+ Only (Plus Service Fee) \n\n\n\nFACE MASKS ARE NOW OPTIONAL BUT RECOMMENDED NO OUTSIDE FOOD\, DRINK\, CAKE OR DECOR ALLOWED.
URL:https://www.unitedskates.com/branch-brook-park/event/spring-break-kick-off-skate/
CATEGORIES:Family Events,Public Skates,Special Events
ATTACH;FMTTYPE=image/jpeg:https://unitedskates-assets.sfo3.digitaloceanspaces.com/wp-content/uploads/sites/15/2023/12/spring-kick-off-2023-1200x1200-1.jpg
END:VEVENT
BEGIN:VEVENT
DTSTART;TZID=America/New_York:20240329T170000
DTEND;TZID=America/New_York:20240329T190000
DTSTAMP:20260420T034057
CREATED:20231208T194840Z
LAST-MODIFIED:20240329T201104Z
UID:15959-1711731600-1711738800@www.unitedskates.com
SUMMARY:Spring Break Kick-Off Skate
DESCRIPTION:Open to All Ages \nCLICK HERE TO PURCHASE A TICKET & GUARANTEE YOUR ENTRY \nEVERYONE MUST HAVE A TICKET TO ENTER WHETHER SKATING OR NOT \n$19.00 for Admission & Skate Rental (Plus Service Fee) \n$13.00 Admission for those with their Own Skates (Plus Service Fee) \n$5.00 Spectators Fee for Non Skating Adults 18yrs+ Only (Plus Service Fee) \nFACE MASKS ARE NOW OPTIONAL BUT RECOMMENDED \nNO OUTSIDE FOOD\, DRINK\, CAKE OR DECOR ALLOWED.
URL:https://www.unitedskates.com/branch-brook-park/event/friday-family-skate-2024-03-29/
CATEGORIES:Family Events,Public Skates,Special Events
ATTACH;FMTTYPE=image/jpeg:https://unitedskates-assets.sfo3.digitaloceanspaces.com/wp-content/uploads/sites/15/2023/12/spring-kick-off-2023-1200x1200-1.jpg
END:VEVENT
BEGIN:VEVENT
DTSTART;TZID=America/New_York:20240329T200000
DTEND;TZID=America/New_York:20240329T220000
DTSTAMP:20260420T034057
CREATED:20220503T204300Z
LAST-MODIFIED:20240329T201915Z
UID:11909-1711742400-1711749600@www.unitedskates.com
SUMMARY:Spring Break Kick-Off Skate
DESCRIPTION:OPEN TO ALL AGES \n\n\n\nCLICK HERE TO PURCHASE A TICKET & GUARANTEE YOUR ENTRY\n\n\n\nEVERYONE MUST HAVE A TICKET TO ENTER WHETHER SKATING OR NOT – \n\n\n\n\n\n$19.00 for Admission & Skate Rental (Plus Service Fee)  \n\n\n\n$13.00 Admission for those with their Own Skates (Plus Service Fee)  \n\n\n\n$5.00 Spectators Fee for Non Skating Adults 18yrs+ Only (Plus Service Fee)  \n\n\n\nFACE MASKS ARE NOW OPTIONAL BUT RECOMMENDED  \nNO OUTSIDE FOOD\, DRINK\, CAKE OR DECOR ALLOWED.
URL:https://www.unitedskates.com/branch-brook-park/event/late-night-skate-2024-03-29/
LOCATION:Branch Brook Park Roller Skating Center\, 7th Ave & Clifton Ave\, Newark\, NJ\, 07104\, United States
CATEGORIES:Family Events,Public Skates,Special Events
ATTACH;FMTTYPE=image/jpeg:https://unitedskates-assets.sfo3.digitaloceanspaces.com/wp-content/uploads/sites/15/2023/12/spring-kick-off-2023-1200x1200-1.jpg
END:VEVENT
END:VCALENDAR