BEGIN:VCALENDAR
VERSION:2.0
PRODID:-//Rink 41 - Branch Brook Park Skating - ECPv6.15.20//NONSGML v1.0//EN
CALSCALE:GREGORIAN
METHOD:PUBLISH
X-WR-CALNAME:Rink 41 - Branch Brook Park Skating
X-ORIGINAL-URL:https://www.unitedskates.com/branch-brook-park
X-WR-CALDESC:Events for Rink 41 - Branch Brook Park Skating
REFRESH-INTERVAL;VALUE=DURATION:PT1H
X-Robots-Tag:noindex
X-PUBLISHED-TTL:PT1H
BEGIN:VTIMEZONE
TZID:America/New_York
BEGIN:DAYLIGHT
TZOFFSETFROM:-0500
TZOFFSETTO:-0400
TZNAME:EDT
DTSTART:20230312T070000
END:DAYLIGHT
BEGIN:STANDARD
TZOFFSETFROM:-0400
TZOFFSETTO:-0500
TZNAME:EST
DTSTART:20231105T060000
END:STANDARD
BEGIN:DAYLIGHT
TZOFFSETFROM:-0500
TZOFFSETTO:-0400
TZNAME:EDT
DTSTART:20240310T070000
END:DAYLIGHT
BEGIN:STANDARD
TZOFFSETFROM:-0400
TZOFFSETTO:-0500
TZNAME:EST
DTSTART:20241103T060000
END:STANDARD
BEGIN:DAYLIGHT
TZOFFSETFROM:-0500
TZOFFSETTO:-0400
TZNAME:EDT
DTSTART:20250309T070000
END:DAYLIGHT
BEGIN:STANDARD
TZOFFSETFROM:-0400
TZOFFSETTO:-0500
TZNAME:EST
DTSTART:20251102T060000
END:STANDARD
END:VTIMEZONE
BEGIN:VEVENT
DTSTART;TZID=America/New_York:20240313T140000
DTEND;TZID=America/New_York:20240313T160000
DTSTAMP:20260420T034052
CREATED:20240304T162039Z
LAST-MODIFIED:20240304T162039Z
UID:16720-1710338400-1710345600@www.unitedskates.com
SUMMARY:School's Out Skate
DESCRIPTION:Open to All Ages! \nCLICK HERE TO PURCHASE TICKETS!\nTickets are Non-Refundable\, Non-Transferable & Only Valid for the Date & Time Listed Due to Strict Capacity Control \nEVERYONE MUST HAVE A TICKET TO ENTER WHETHER SKATING OR NOT \n$15.00 for Admission & Skate Rental (Plus Service Fee) \n$9.00 Admission for those with their Own Skates (Plus Service Fee) \n$5.00 Spectators Fee for Non Skaters 18yrs+ Only (Plus Service Fee) \nPRE-PURCHASED TICKETS ARE RECOMMENEDED AS WAIT TIMES ARE EXPECTED IF PURCHASING TICKETS AT THE FACILITY \nTickets are Non Refundable\, are Valid per Listed Time Only & Can’t be Transferred To a Different Date or Time! Anyone 2-17 without skates must purchase Skate Rental!
URL:https://www.unitedskates.com/branch-brook-park/event/schools-out-skate-5/
CATEGORIES:Public Skates,Special Events
ATTACH;FMTTYPE=image/jpeg:https://unitedskates-assets.sfo3.digitaloceanspaces.com/wp-content/uploads/sites/15/2023/05/SIO-SKATE-2022-1200x900-1.jpg
END:VEVENT
BEGIN:VEVENT
DTSTART;TZID=America/New_York:20240313T170000
DTEND;TZID=America/New_York:20240313T190000
DTSTAMP:20260420T034052
CREATED:20240304T162709Z
LAST-MODIFIED:20240304T162709Z
UID:16722-1710349200-1710356400@www.unitedskates.com
SUMMARY:Sensory Friendly Skate
DESCRIPTION:OPEN TO ALL AGES! \nCLICK HERE TO PURCHASE TICKETS! \nA session catered to families with loved one with developmental disabilities! \nEVERYONE MUST HAVE A TICKET TO ENTER WHETHER SKATING OR NOT – \n$15.00 for Admission & Skate Rental (Plus Service Fee)\n$9.00 Admission for those with their Own Skates (Plus Service Fee)\n$5.00 Spectators Fee for Non Skating Adults 18yrs+ Only (Plus Service Fee) \nNO OUTSIDE FOOD\, DRINK\, CAKE OR DECOR ALLOWED.
URL:https://www.unitedskates.com/branch-brook-park/event/sensory-friendly-skate-2/
CATEGORIES:Family Events,Public Skates,Special Events
ATTACH;FMTTYPE=image/png:https://unitedskates-assets.sfo3.digitaloceanspaces.com/wp-content/uploads/sites/15/2024/02/Sensory-Friendly-e1709569609580.png
END:VEVENT
END:VCALENDAR