BEGIN:VCALENDAR
VERSION:2.0
PRODID:-//Rink 41 - Branch Brook Park Skating - ECPv6.15.20//NONSGML v1.0//EN
CALSCALE:GREGORIAN
METHOD:PUBLISH
X-WR-CALNAME:Rink 41 - Branch Brook Park Skating
X-ORIGINAL-URL:https://www.unitedskates.com/branch-brook-park
X-WR-CALDESC:Events for Rink 41 - Branch Brook Park Skating
REFRESH-INTERVAL;VALUE=DURATION:PT1H
X-Robots-Tag:noindex
X-PUBLISHED-TTL:PT1H
BEGIN:VTIMEZONE
TZID:America/New_York
BEGIN:DAYLIGHT
TZOFFSETFROM:-0500
TZOFFSETTO:-0400
TZNAME:EDT
DTSTART:20230312T070000
END:DAYLIGHT
BEGIN:STANDARD
TZOFFSETFROM:-0400
TZOFFSETTO:-0500
TZNAME:EST
DTSTART:20231105T060000
END:STANDARD
BEGIN:DAYLIGHT
TZOFFSETFROM:-0500
TZOFFSETTO:-0400
TZNAME:EDT
DTSTART:20240310T070000
END:DAYLIGHT
BEGIN:STANDARD
TZOFFSETFROM:-0400
TZOFFSETTO:-0500
TZNAME:EST
DTSTART:20241103T060000
END:STANDARD
BEGIN:DAYLIGHT
TZOFFSETFROM:-0500
TZOFFSETTO:-0400
TZNAME:EDT
DTSTART:20250309T070000
END:DAYLIGHT
BEGIN:STANDARD
TZOFFSETFROM:-0400
TZOFFSETTO:-0500
TZNAME:EST
DTSTART:20251102T060000
END:STANDARD
END:VTIMEZONE
BEGIN:VEVENT
DTSTART;TZID=America/New_York:20240227T190000
DTEND;TZID=America/New_York:20240227T200000
DTSTAMP:20260420T034053
CREATED:20230726T210223Z
LAST-MODIFIED:20240214T215333Z
UID:13232-1709060400-1709064000@www.unitedskates.com
SUMMARY:Advanced Adult Skate Lessons
DESCRIPTION:CLICK HERE TO PURCHASE TICKETS\nMust be 18 years + to attend these lessons – followed by the adult session from 7-10pm \nLessons are available for following levels: \nIntermediate & Advanced Only \nLessons are $20.00 a person plus tax and service fees. Our lessons will be led by Boot Camp Cory LLC\, skate rental is included and wrist guard rental. After your skate lesson you receive GUARANTEED entry to the Tuesday Night Adult Skate Session from 8:00pm-12:00am to continue enhancing your skate skills. \nPRE-PURCHASED TICKETS ARE RECOMMENEDED AS DOOR PRICES ARE HIGHER \nNO OUTSIDE FOOD\, DRINK\, CAKE OR DECOR ALLOWED.
URL:https://www.unitedskates.com/branch-brook-park/event/advanced-adult-skate-lessons-2-2024-02-27/
CATEGORIES:Adult Events,Lessons
ATTACH;FMTTYPE=image/jpeg:https://unitedskates-assets.sfo3.digitaloceanspaces.com/wp-content/uploads/sites/15/2022/04/Event-Skate-Lessons.jpg
END:VEVENT
BEGIN:VEVENT
DTSTART;TZID=America/New_York:20240227T200000
DTEND;TZID=America/New_York:20240228T000000
DTSTAMP:20260420T034053
CREATED:20230726T211401Z
LAST-MODIFIED:20240215T213250Z
UID:13318-1709064000-1709078400@www.unitedskates.com
SUMMARY:Last Tuesday Adult Skate Night
DESCRIPTION:CLICK HERE TO PURCHASE TICKETS!\nEVERYONE MUST HAVE A TICKET TO ENTER WHETHER SKATING OR NOT \nLIMITED TICKETS AVAILABLE AT THE FACILITY WITH AT DOOR PRICING \n$20.00 for Admission & Skate Rental (Plus Service Fee) \n$14.00 Admission for those with their Own Skates (Plus Service Fee) \nFACE MASKS ARE NOW OPTIONAL BUT RECOMMENDED \nNO SPECTATORS FEE AVAILABLE FOR THIS SESSION \nMUST BE 18YRS+ TO ATTEND WITH A VALID ID NO OUTSIDE FOOD\, DRINK\, CAKE OR DECOR ALLOWED. All adults (18+)\, whether skating or not\, will need to fill out our waiver. CLICK HERE for Electronic waivers.
URL:https://www.unitedskates.com/branch-brook-park/event/tuesday-adult-skate-night-3-2024-02-27/
CATEGORIES:Adult Events,Public Skates,Special Events
ATTACH;FMTTYPE=image/jpeg:https://unitedskates-assets.sfo3.digitaloceanspaces.com/wp-content/uploads/sites/15/2023/07/photo-output.jpeg
END:VEVENT
END:VCALENDAR