BEGIN:VCALENDAR
VERSION:2.0
PRODID:-//Rink 41 - Branch Brook Park Skating - ECPv6.15.20//NONSGML v1.0//EN
CALSCALE:GREGORIAN
METHOD:PUBLISH
X-ORIGINAL-URL:https://www.unitedskates.com/branch-brook-park
X-WR-CALDESC:Events for Rink 41 - Branch Brook Park Skating
REFRESH-INTERVAL;VALUE=DURATION:PT1H
X-Robots-Tag:noindex
X-PUBLISHED-TTL:PT1H
BEGIN:VTIMEZONE
TZID:America/New_York
BEGIN:DAYLIGHT
TZOFFSETFROM:-0500
TZOFFSETTO:-0400
TZNAME:EDT
DTSTART:20220313T070000
END:DAYLIGHT
BEGIN:STANDARD
TZOFFSETFROM:-0400
TZOFFSETTO:-0500
TZNAME:EST
DTSTART:20221106T060000
END:STANDARD
BEGIN:DAYLIGHT
TZOFFSETFROM:-0500
TZOFFSETTO:-0400
TZNAME:EDT
DTSTART:20230312T070000
END:DAYLIGHT
BEGIN:STANDARD
TZOFFSETFROM:-0400
TZOFFSETTO:-0500
TZNAME:EST
DTSTART:20231105T060000
END:STANDARD
BEGIN:DAYLIGHT
TZOFFSETFROM:-0500
TZOFFSETTO:-0400
TZNAME:EDT
DTSTART:20240310T070000
END:DAYLIGHT
BEGIN:STANDARD
TZOFFSETFROM:-0400
TZOFFSETTO:-0500
TZNAME:EST
DTSTART:20241103T060000
END:STANDARD
BEGIN:DAYLIGHT
TZOFFSETFROM:-0500
TZOFFSETTO:-0400
TZNAME:EDT
DTSTART:20250309T070000
END:DAYLIGHT
BEGIN:STANDARD
TZOFFSETFROM:-0400
TZOFFSETTO:-0500
TZNAME:EST
DTSTART:20251102T060000
END:STANDARD
END:VTIMEZONE
BEGIN:VEVENT
DTSTART;VALUE=DATE:20231221
DTEND;VALUE=DATE:20240103
DTSTAMP:20260421T185945
CREATED:20230905T211317Z
LAST-MODIFIED:20231129T150737Z
UID:14532-1703134800-1704171599@www.unitedskates.com
SUMMARY:🎄Winter Break Roller Skating🎄
DESCRIPTION:Winter Break Roller Skating is Thursday\, December 21\, 2023 through Monday\, January 1\, 2023. \nWe are OPEN EVERYDAY for Adults\, Kids\, Families & Friends to come skate with us. See our SPECIAL Days and Times list below. \nPlus check our our Special Events that make Roller Skating with us an experience worthy of Instagram. \nWe are featuring events with Characters\, Glow Skates\, NYE Events\, Grinch Skates\, Adults Skates and so much more.. \nCLICK HERE view special Winter Break Schedule
URL:https://www.unitedskates.com/branch-brook-park/event/winter-break-2023-12-21-23-01-01-24/
CATEGORIES:Family Events,Public Skates,Special Events
ATTACH;FMTTYPE=image/jpeg:https://unitedskates-assets.sfo3.digitaloceanspaces.com/wp-content/uploads/sites/15/2023/11/WinterBreak-CALENDAR-2023-SQUARE-41.jpg
END:VEVENT
BEGIN:VEVENT
DTSTART;TZID=America/New_York:20240101T120000
DTEND;TZID=America/New_York:20240101T140000
DTSTAMP:20260421T185945
CREATED:20231026T184028Z
LAST-MODIFIED:20231026T190615Z
UID:15689-1704110400-1704117600@www.unitedskates.com
SUMMARY:Brunch with Mario and Luigi
DESCRIPTION:CLICK HERE TO PURCHASE TICKETS!\nOPEN TO ALL AGES! \nEVERYONE MUST HAVE A TICKET TO ENTER WHETHER SKATING OR NOT \nBrunch (included with every skater ticket) with Mario & Luigi! \n$15.00 for Admission & Skate Rental (Plus Service Fee) \n$9.00 Admission for those with their Own Skates (Plus Service Fee) \n$5.00 Spectators Fee for Non Skating Adults 18yrs+ Only (Plus Service Fee) \nFACE MASKS ARE NOW OPTIONAL BUT RECOMMENDED \nNO OUTSIDE FOOD\, DRINK\, CAKE OR DECOR ALLOWED.
URL:https://www.unitedskates.com/branch-brook-park/event/brunch-with-mario-luigi/
CATEGORIES:Family Events,Public Skates,Special Events
ATTACH;FMTTYPE=image/png:https://unitedskates-assets.sfo3.digitaloceanspaces.com/wp-content/uploads/sites/15/2023/10/Brunch-with-Mario-and-Luigi-1.png
END:VEVENT
BEGIN:VEVENT
DTSTART;TZID=America/New_York:20240101T150000
DTEND;TZID=America/New_York:20240101T170000
DTSTAMP:20260421T185945
CREATED:20231026T190204Z
LAST-MODIFIED:20231026T190204Z
UID:15693-1704121200-1704128400@www.unitedskates.com
SUMMARY:New Years Day Family Session
DESCRIPTION:CLICK HERE TO PURCHASE TICKETS!\nOPEN TO ALL AGES! \nEVERYONE MUST HAVE A TICKET TO ENTER WHETHER SKATING OR NOT \n$15.00 for Admission & Skate Rental (Plus Service Fee) \n$9.00 Admission for those with their Own Skates (Plus Service Fee) \n$5.00 Spectators Fee for Non Skating Adults 18yrs+ Only (Plus Service Fee) \nFACE MASKS ARE NOW OPTIONAL BUT RECOMMENDED \nNO OUTSIDE FOOD\, DRINK\, CAKE OR DECOR ALLOWED.
URL:https://www.unitedskates.com/branch-brook-park/event/new-years-day-family-session/
CATEGORIES:Family Events,Public Skates
ATTACH;FMTTYPE=image/png:https://unitedskates-assets.sfo3.digitaloceanspaces.com/wp-content/uploads/sites/15/2023/10/nyd.png
END:VEVENT
BEGIN:VEVENT
DTSTART;TZID=America/New_York:20240101T180000
DTEND;TZID=America/New_York:20240101T200000
DTSTAMP:20260421T185945
CREATED:20220503T203604Z
LAST-MODIFIED:20231026T190428Z
UID:11406-1704132000-1704139200@www.unitedskates.com
SUMMARY:New Years Day Family Skate
DESCRIPTION:OPEN TO ALL AGES!\nCLICK HERE TO PURCHASE TICKETS\n\n\n\n$15.00 for Admission & Skate Rental (Plus Service Fee)  \n\n\n\n$9.00 Admission for those with their Own Skates (Plus Service Fee)  \n\n\n\n$5.00 Spectators Fee for Non Skating Adults 18yrs+ Only (Plus Service Fee)  \n\n\n\nTickets are non-refundable\, valid per listed time only and cannot be transferred to a different date or time! Ages 2-17yrs Old Without their Own Skates Must Pay for Rental to Enter. SKATE WAIVERS MUST BE SIGNED BY EVERYONE 18YRS+ ENTERING THE FACILITY UPON ARRIVAL. NO OUTSIDE FOOD\, DRINK\, CAKE OR DECOR ALLOWED.
URL:https://www.unitedskates.com/branch-brook-park/event/public-skate-2024-01-01/
LOCATION:Branch Brook Park Roller Skating Center\, 7th Ave & Clifton Ave\, Newark\, NJ\, 07104\, United States
CATEGORIES:Family Events,Public Skates
ATTACH;FMTTYPE=image/png:https://unitedskates-assets.sfo3.digitaloceanspaces.com/wp-content/uploads/sites/15/2023/10/nyd.png
END:VEVENT
END:VCALENDAR