BEGIN:VCALENDAR
VERSION:2.0
PRODID:-//Rink 41 - Branch Brook Park Skating - ECPv6.15.20//NONSGML v1.0//EN
CALSCALE:GREGORIAN
METHOD:PUBLISH
X-ORIGINAL-URL:https://www.unitedskates.com/branch-brook-park
X-WR-CALDESC:Events for Rink 41 - Branch Brook Park Skating
REFRESH-INTERVAL;VALUE=DURATION:PT1H
X-Robots-Tag:noindex
X-PUBLISHED-TTL:PT1H
BEGIN:VTIMEZONE
TZID:America/New_York
BEGIN:DAYLIGHT
TZOFFSETFROM:-0500
TZOFFSETTO:-0400
TZNAME:EDT
DTSTART:20220313T070000
END:DAYLIGHT
BEGIN:STANDARD
TZOFFSETFROM:-0400
TZOFFSETTO:-0500
TZNAME:EST
DTSTART:20221106T060000
END:STANDARD
BEGIN:DAYLIGHT
TZOFFSETFROM:-0500
TZOFFSETTO:-0400
TZNAME:EDT
DTSTART:20230312T070000
END:DAYLIGHT
BEGIN:STANDARD
TZOFFSETFROM:-0400
TZOFFSETTO:-0500
TZNAME:EST
DTSTART:20231105T060000
END:STANDARD
BEGIN:DAYLIGHT
TZOFFSETFROM:-0500
TZOFFSETTO:-0400
TZNAME:EDT
DTSTART:20240310T070000
END:DAYLIGHT
BEGIN:STANDARD
TZOFFSETFROM:-0400
TZOFFSETTO:-0500
TZNAME:EST
DTSTART:20241103T060000
END:STANDARD
END:VTIMEZONE
BEGIN:VEVENT
DTSTART;TZID=America/New_York:20231122T150000
DTEND;TZID=America/New_York:20231127T000000
DTSTAMP:20260421T084253
CREATED:20231103T173051Z
LAST-MODIFIED:20231103T173216Z
UID:15732-1700665200-1701043200@www.unitedskates.com
SUMMARY:Thanksgiving Break Schedule - School is Out!
DESCRIPTION:Come Roll with Us this Thanksgiving Break! \nWe have Thanksgiving Skates\, Black Friday Skates\, Pizza Skates & More!
URL:https://www.unitedskates.com/branch-brook-park/event/thanksgiving-break-schedule-school-is-out/
CATEGORIES:Family Events,Public Skates,Special Events
ATTACH;FMTTYPE=image/jpeg:https://unitedskates-assets.sfo3.digitaloceanspaces.com/wp-content/uploads/sites/15/2023/11/thanksgiving-schedule-square-2023-41.jpg
END:VEVENT
BEGIN:VEVENT
DTSTART;TZID=America/New_York:20231123T170000
DTEND;TZID=America/New_York:20231123T190000
DTSTAMP:20260421T084253
CREATED:20230821T220917Z
LAST-MODIFIED:20231011T202042Z
UID:13668-1700758800-1700766000@www.unitedskates.com
SUMMARY:THANKSGIVING FAMILY SKATE
DESCRIPTION:CLICK HERE TO PURCHASE TICKETS!\nOPEN TO ALL AGES  \n\n5:00PM-7:00PM\n\nEVERYONE MUST HAVE A TICKET TO ENTER WHETHER SKATING OR NOT \n$16.00 for Admission & Skate Rental (Plus Service Fees) \n$10.00 for Admission with Your Own Skates (Plus Service Fees) \n$5.00 Spectators Fee for NON-SKATERS 18YRS+ ONLY (Plus Service Fees) \nALL TICKETS ARE NON TRANSFERABLE OR REFUNDABLE
URL:https://www.unitedskates.com/branch-brook-park/event/thanksgiving-family-skate-2/
CATEGORIES:Family Events,Public Skates,Special Events
ATTACH;FMTTYPE=image/jpeg:https://unitedskates-assets.sfo3.digitaloceanspaces.com/wp-content/uploads/sites/15/2023/08/Thanks-Giving-Skate-1200x1200-1.jpg
END:VEVENT
BEGIN:VEVENT
DTSTART;TZID=America/New_York:20231123T200000
DTEND;TZID=America/New_York:20231123T230000
DTSTAMP:20260421T084253
CREATED:20230623T195548Z
LAST-MODIFIED:20231117T194848Z
UID:13093-1700769600-1700780400@www.unitedskates.com
SUMMARY:Thursday Adult Night Skate
DESCRIPTION:Click Here to Purchase Ticket \nEVERYONE MUST HAVE A TICKET TO ENTER WHETHER SKATING OR NOT \nLIMITED TICKETS AVAILABLE AT THE FACILITY WITH AT DOOR PRICING \n$20.00 for Admission & Skate Rental (Plus Service Fee) \n$14.00 Admission for those with their Own Skates (Plus Service Fee) \nFACE MASKS ARE NOW OPTIONAL BUT RECOMMENDED \nNO SPECTATORS FEE AVAILABLE FOR THIS SESSION \nFACE MASKS MANDATORY AT ALL TIMES \nMUST BE 18YRS+ TO ATTEND WITH A VALID ID NO OUTSIDE FOOD\, DRINK\, CAKE OR DECOR ALLOWED. All adults (18+)\, whether skating or not\, will need to fill out our waiver. CLICK HERE for Electronic waivers.
URL:https://www.unitedskates.com/branch-brook-park/event/thursday-adult-night-skate-2023-11-23/
CATEGORIES:Adult Events,Public Skates
ATTACH;FMTTYPE=image/jpeg:https://unitedskates-assets.sfo3.digitaloceanspaces.com/wp-content/uploads/sites/15/2022/05/Adult-Skate-2022-1200x900-1.jpg
END:VEVENT
END:VCALENDAR