BEGIN:VCALENDAR
VERSION:2.0
PRODID:-//Rink 41 - Branch Brook Park Skating - ECPv6.15.20//NONSGML v1.0//EN
CALSCALE:GREGORIAN
METHOD:PUBLISH
X-WR-CALNAME:Rink 41 - Branch Brook Park Skating
X-ORIGINAL-URL:https://www.unitedskates.com/branch-brook-park
X-WR-CALDESC:Events for Rink 41 - Branch Brook Park Skating
REFRESH-INTERVAL;VALUE=DURATION:PT1H
X-Robots-Tag:noindex
X-PUBLISHED-TTL:PT1H
BEGIN:VTIMEZONE
TZID:America/New_York
BEGIN:DAYLIGHT
TZOFFSETFROM:-0500
TZOFFSETTO:-0400
TZNAME:EDT
DTSTART:20220313T070000
END:DAYLIGHT
BEGIN:STANDARD
TZOFFSETFROM:-0400
TZOFFSETTO:-0500
TZNAME:EST
DTSTART:20221106T060000
END:STANDARD
BEGIN:DAYLIGHT
TZOFFSETFROM:-0500
TZOFFSETTO:-0400
TZNAME:EDT
DTSTART:20230312T070000
END:DAYLIGHT
BEGIN:STANDARD
TZOFFSETFROM:-0400
TZOFFSETTO:-0500
TZNAME:EST
DTSTART:20231105T060000
END:STANDARD
BEGIN:DAYLIGHT
TZOFFSETFROM:-0500
TZOFFSETTO:-0400
TZNAME:EDT
DTSTART:20240310T070000
END:DAYLIGHT
BEGIN:STANDARD
TZOFFSETFROM:-0400
TZOFFSETTO:-0500
TZNAME:EST
DTSTART:20241103T060000
END:STANDARD
END:VTIMEZONE
BEGIN:VEVENT
DTSTART;TZID=America/New_York:20231117T120000
DTEND;TZID=America/New_York:20231117T140000
DTSTAMP:20260421T060452
CREATED:20231009T215834Z
LAST-MODIFIED:20231009T215834Z
UID:15329-1700222400-1700229600@www.unitedskates.com
SUMMARY:School's Out Family Skate
DESCRIPTION:CLICK HERE TO PURCHASE TICKETS!\nOpen to All Ages! \nALL TICKETS ARE FINAL SALE!!! \nTickets are Non-Refundable\, Non-Transferable & Only Valid for the Date & Time Listed Due to Strict Capacity Control \nEVERYONE MUST HAVE A TICKET TO ENTER WHETHER SKATING OR NOT \n$18.00 for Admission & Skate Rental (Plus Service Fee) \n$12.00 Admission for those with their Own Skates (Plus Service Fee) \n$5.00 Spectators Fee for Non Skaters 18yrs+ Only (Plus Service Fee) \nPRE-PURCHASED TICKETS ARE RECOMMENEDED AS WAIT TIMES ARE EXPECTED IF PURCHASING TICKETS AT THE FACILITY \nTickets are Non Refundable\, are Valid per Listed Time Only & Can’t be Transferred To a Different Date or Time! Anyone 2-17 without skates must purchase Skate Rental!
URL:https://www.unitedskates.com/branch-brook-park/event/schools-out-family-skate-2/
CATEGORIES:Family Events,Public Skates
ATTACH;FMTTYPE=image/jpeg:https://unitedskates-assets.sfo3.digitaloceanspaces.com/wp-content/uploads/sites/15/2023/05/SIO-SKATE-2022-1200x900-1.jpg
END:VEVENT
BEGIN:VEVENT
DTSTART;TZID=America/New_York:20231117T150000
DTEND;TZID=America/New_York:20231117T170000
DTSTAMP:20260421T060452
CREATED:20230821T213235Z
LAST-MODIFIED:20231009T215627Z
UID:13655-1700233200-1700240400@www.unitedskates.com
SUMMARY:School's Out Family Skate
DESCRIPTION:CLICK HERE TO PURCHASE TICKETS!\nOpen to All Ages! \nALL TICKETS ARE FINAL SALE!!! \nTickets are Non-Refundable\, Non-Transferable & Only Valid for the Date & Time Listed Due to Strict Capacity Control \nEVERYONE MUST HAVE A TICKET TO ENTER WHETHER SKATING OR NOT \n$18.00 for Admission & Skate Rental (Plus Service Fee) \n$12.00 Admission for those with their Own Skates (Plus Service Fee) \n$5.00 Spectators Fee for Non Skaters 18yrs+ Only (Plus Service Fee) \nPRE-PURCHASED TICKETS ARE RECOMMENEDED AS DOOR PRICES ARE HIGHER \nTickets are Non Refundable\, are Valid per Listed Time Only & Can’t be Transferred To a Different Date or Time! Anyone 2-17 without skates must purchase Skate Rental! \nLimited Amount of Tickets Are Available to Ensure Safety & Controlled Capacity \n 
URL:https://www.unitedskates.com/branch-brook-park/event/schools-out-skate-3/
CATEGORIES:Family Events,Public Skates,Special Events
ATTACH;FMTTYPE=image/jpeg:https://unitedskates-assets.sfo3.digitaloceanspaces.com/wp-content/uploads/sites/15/2023/05/SIO-SKATE-2022-1200x900-1.jpg
END:VEVENT
BEGIN:VEVENT
DTSTART;TZID=America/New_York:20231117T210000
DTEND;TZID=America/New_York:20231117T230000
DTSTAMP:20260421T060452
CREATED:20220503T204300Z
LAST-MODIFIED:20230906T205800Z
UID:11055-1700254800-1700262000@www.unitedskates.com
SUMMARY:WOMEN IN RAP SKATE
DESCRIPTION:OPEN TO ALL AGES \n\n\n\nCLICK HERE TO PURCHASE A TICKET & GUARANTEE YOUR ENTRY\n\n\n\nEVERYONE MUST HAVE A TICKET TO ENTER WHETHER SKATING OR NOT – \n\n\n\n\n\n$18.00 for Admission & Skate Rental (Plus Service Fee)  \n\n\n\n$12.00 Admission for those with their Own Skates (Plus Service Fee)  \n\n\n\n$5.00 Spectators Fee for Non Skating Adults 18yrs+ Only (Plus Service Fee)  \n\n\n\nFACE MASKS ARE NOW OPTIONAL BUT RECOMMENDED  \nNO OUTSIDE FOOD\, DRINK\, CAKE OR DECOR ALLOWED.
URL:https://www.unitedskates.com/branch-brook-park/event/late-night-skate-2023-11-17/
LOCATION:Branch Brook Park Roller Skating Center\, 7th Ave & Clifton Ave\, Newark\, NJ\, 07104\, United States
CATEGORIES:Family Events,Public Skates,Special Events
ATTACH;FMTTYPE=image/jpeg:https://unitedskates-assets.sfo3.digitaloceanspaces.com/wp-content/uploads/sites/15/2022/05/maxresdefault.jpg
END:VEVENT
END:VCALENDAR