BEGIN:VCALENDAR
VERSION:2.0
PRODID:-//Rink 41 - Branch Brook Park Skating - ECPv6.15.20//NONSGML v1.0//EN
CALSCALE:GREGORIAN
METHOD:PUBLISH
X-WR-CALNAME:Rink 41 - Branch Brook Park Skating
X-ORIGINAL-URL:https://www.unitedskates.com/branch-brook-park
X-WR-CALDESC:Events for Rink 41 - Branch Brook Park Skating
REFRESH-INTERVAL;VALUE=DURATION:PT1H
X-Robots-Tag:noindex
X-PUBLISHED-TTL:PT1H
BEGIN:VTIMEZONE
TZID:America/New_York
BEGIN:DAYLIGHT
TZOFFSETFROM:-0500
TZOFFSETTO:-0400
TZNAME:EDT
DTSTART:20220313T070000
END:DAYLIGHT
BEGIN:STANDARD
TZOFFSETFROM:-0400
TZOFFSETTO:-0500
TZNAME:EST
DTSTART:20221106T060000
END:STANDARD
BEGIN:DAYLIGHT
TZOFFSETFROM:-0500
TZOFFSETTO:-0400
TZNAME:EDT
DTSTART:20230312T070000
END:DAYLIGHT
BEGIN:STANDARD
TZOFFSETFROM:-0400
TZOFFSETTO:-0500
TZNAME:EST
DTSTART:20231105T060000
END:STANDARD
BEGIN:DAYLIGHT
TZOFFSETFROM:-0500
TZOFFSETTO:-0400
TZNAME:EDT
DTSTART:20240310T070000
END:DAYLIGHT
BEGIN:STANDARD
TZOFFSETFROM:-0400
TZOFFSETTO:-0500
TZNAME:EST
DTSTART:20241103T060000
END:STANDARD
END:VTIMEZONE
BEGIN:VEVENT
DTSTART;VALUE=DATE:20230602
DTEND;VALUE=DATE:20230606
DTSTAMP:20260424T013116
CREATED:20230427T162039Z
LAST-MODIFIED:20230427T174414Z
UID:11980-1685682000-1685941199@www.unitedskates.com
SUMMARY:SK8TOPIA
DESCRIPTION:CLICK HERE TO PRE-PURCHASE YOUR PASS!\nOnline exclusive ONLY VALID FOR THE FOLLOWING TIMES: \n\nFRIDAY\, JUNE 2ND: 11:59PM -3:00 AM\nSATURDAY\, JUNE 3RD: 11:00 PM – 2:00 AM\nSUNDAY\, JUNE 4TH: 9:00 PM – 1:00 AM\n\nPre-Purchase Online\, THIS PASS CANNOT be purchased on site. \nATTENTION: The initial wristband given at the time of entry on the first day is the only wristband that will be given for the entire weekend! We are not responsible for any lost or stolen wristbands. We will NOT replace any LOST or STOLEN wristbands after the initial check-in. Resold wristbands will not be honored and are not to be duplicated or shared\, if any of the aforementioned actions are noticed\, you will be refused entry for the remainder of the weekend.\nPLEASE NOTE: Everybody MUST BE PRESENT at the time of check-in\, QR Codes MUST be presented at the time of entry. Adult waivers must be signed and shown every time upon entry that reflects the date . \nEveryone entering the facility for these sessions must be 18 yrs+ or over with a valid form of ID\, IDS WILL be checked upon entry\, failure to show valid form of identification will result in refusal of entry into the facility. Please note: Everybody MUST have a ticket to enter the facility. All tickets are FINAL SALE and there are absolutely NO REFUNDS.
URL:https://www.unitedskates.com/branch-brook-park/event/sk8topia/
CATEGORIES:Adult Events,Public Skates,Special Events
ATTACH;FMTTYPE=image/png:https://unitedskates-assets.sfo3.digitaloceanspaces.com/wp-content/uploads/sites/15/2023/04/Pink-Neon-Modern-Rave-Party-Instagram-Post.png
END:VEVENT
BEGIN:VEVENT
DTSTART;TZID=America/New_York:20230602T180000
DTEND;TZID=America/New_York:20230602T200000
DTSTAMP:20260424T013116
CREATED:20221031T155028Z
LAST-MODIFIED:20230524T171308Z
UID:10825-1685728800-1685736000@www.unitedskates.com
SUMMARY:Friday Family Night Skate
DESCRIPTION:OPEN TO ALL AGES \nCLICK HERE TO PURCHASE A TICKET & GUARANTEE YOUR ENTRY\nEVERYONE MUST HAVE A TICKET TO ENTER WHETHER SKATING OR NOT – \n$16.00 for Admission & Skate Rental (Plus Service Fee) \n$11.00 Admission for those with their Own Skates (Plus Service Fee) \n$5.00 Spectators Fee for Non Skating Adults 18yrs+ Only (Plus Service Fee) \nFACE MASKS ARE NOW OPTIONAL BUT RECOMMENDED \nNO OUTSIDE FOOD\, DRINK\, CAKE OR DECOR ALLOWED.
URL:https://www.unitedskates.com/branch-brook-park/event/friday-late-night-skate-2023-06-02/
ATTACH;FMTTYPE=image/jpeg:https://unitedskates-assets.sfo3.digitaloceanspaces.com/wp-content/uploads/sites/15/2022/05/Family-Skate-1200x900-1.jpg
END:VEVENT
BEGIN:VEVENT
DTSTART;TZID=America/New_York:20230602T210000
DTEND;TZID=America/New_York:20230602T230000
DTSTAMP:20260424T013116
CREATED:20221031T154359Z
LAST-MODIFIED:20230524T170745Z
UID:10747-1685739600-1685746800@www.unitedskates.com
SUMMARY:ACROSS THE SPIDER-VERSE SKATE
DESCRIPTION:CLICK HERE TO PURCHASE A TICKET & GUARANTEE YOUR ENTRY \nEVERYONE MUST HAVE A TICKET TO ENTER WHETHER SKATING OR NOT \n$16.00 for Admission & Skate Rental (Plus Service Fees) \n$11.00 for Admission with your Own Skates (Plus Service Fees) \n$5.00 Spectators Fee for Non Skating Adults 18yrs+ Only (Plus Service Fees)  \nPRE-PURCHASED TICKETS ARE RECOMMENEDED AS DOOR PRICES ARE HIGHER  \nFACE MASKS ARE NOW OPTIONAL BUT RECOMMENDED \nNO OUTSIDE FOOD\, DRINK\, CAKE OR DECOR ALLOWED.
URL:https://www.unitedskates.com/branch-brook-park/event/friday-family-roller-skate-2023-06-02/
CATEGORIES:Family Events,Public Skates,Special Events
ATTACH;FMTTYPE=image/jpeg:https://unitedskates-assets.sfo3.digitaloceanspaces.com/wp-content/uploads/sites/15/2022/10/ART-BOARD-across-the-spiderverse-skate-2023.jpg
END:VEVENT
BEGIN:VEVENT
DTSTART;TZID=America/New_York:20230602T235900
DTEND;TZID=America/New_York:20230603T030000
DTSTAMP:20260424T013116
CREATED:20230427T170004Z
LAST-MODIFIED:20230427T174229Z
UID:11984-1685750340-1685761200@www.unitedskates.com
SUMMARY:SK8TOPIA - NIGHT ONE
DESCRIPTION:CLICK HERE TO PURCHASE TICKETS!\nWELCOME TO \nSK8TOPIA: EAST COAST MADNESS\nFRIDAY\, JUNE 2ND: 11:59PM-3:00AM \nDJ ARSON X SUPA ROCKING DJ E-KIM \nTickets are available for pre-purchase online\, LIMITED QUANTITY SOLD AT THE DOOR! \n$25.00 PER NIGHT (PLUS SERVICE FEES) \n$60.00 PER THREE DAY PASS – VALID FOR SK8TOPIA SESSIONS ONLY (PLUS SERVICE FEES) \nCLICK HERE TO PURCHASE A THREE-DAY PASS!\nPLEASE NOTE: Everybody MUST BE PRESENT at the time of check-in\, QR Codes MUST be presented at the time of entry. Adult waivers must be signed and shown every time upon entry that reflects the date . \nEveryone entering the facility for these sessions must be 18 yrs+ or over with a valid form of ID\, IDS WILL be checked upon entry\, failure to show valid form of identification will result in refusal of entry into the facility. Please note: Everybody MUST have a ticket to enter the facility. All tickets are FINAL SALE and there are absolutely NO REFUNDS.
URL:https://www.unitedskates.com/branch-brook-park/event/sk8topia-night-one/
CATEGORIES:Adult Events,Public Skates,Special Events
ATTACH;FMTTYPE=image/jpeg:https://unitedskates-assets.sfo3.digitaloceanspaces.com/wp-content/uploads/sites/15/2023/04/IMG-0368.jpeg
END:VEVENT
END:VCALENDAR