BEGIN:VCALENDAR
VERSION:2.0
PRODID:-//Rink 41 - Branch Brook Park Skating - ECPv6.15.20//NONSGML v1.0//EN
CALSCALE:GREGORIAN
METHOD:PUBLISH
X-ORIGINAL-URL:https://www.unitedskates.com/branch-brook-park
X-WR-CALDESC:Events for Rink 41 - Branch Brook Park Skating
REFRESH-INTERVAL;VALUE=DURATION:PT1H
X-Robots-Tag:noindex
X-PUBLISHED-TTL:PT1H
BEGIN:VTIMEZONE
TZID:America/New_York
BEGIN:DAYLIGHT
TZOFFSETFROM:-0500
TZOFFSETTO:-0400
TZNAME:EDT
DTSTART:20220313T070000
END:DAYLIGHT
BEGIN:STANDARD
TZOFFSETFROM:-0400
TZOFFSETTO:-0500
TZNAME:EST
DTSTART:20221106T060000
END:STANDARD
BEGIN:DAYLIGHT
TZOFFSETFROM:-0500
TZOFFSETTO:-0400
TZNAME:EDT
DTSTART:20230312T070000
END:DAYLIGHT
BEGIN:STANDARD
TZOFFSETFROM:-0400
TZOFFSETTO:-0500
TZNAME:EST
DTSTART:20231105T060000
END:STANDARD
BEGIN:DAYLIGHT
TZOFFSETFROM:-0500
TZOFFSETTO:-0400
TZNAME:EDT
DTSTART:20240310T070000
END:DAYLIGHT
BEGIN:STANDARD
TZOFFSETFROM:-0400
TZOFFSETTO:-0500
TZNAME:EST
DTSTART:20241103T060000
END:STANDARD
END:VTIMEZONE
BEGIN:VEVENT
DTSTART;TZID=America/New_York:20230407T150000
DTEND;TZID=America/New_York:20230416T233000
DTSTAMP:20260424T134216
CREATED:20230227T193259Z
LAST-MODIFIED:20230227T193259Z
UID:11729-1680879600-1681687800@www.unitedskates.com
SUMMARY:Spring Break Skating Schedule 4/7-4/16
DESCRIPTION:Spring Break Roller Skating is Friday April 7th 2023 through Sunday\, April 16th 2023. \nWe are OPEN EVERYDAY for Adults\, Kids\, Families & Friends to come skate with us. See our SPECIAL Days and Times list below.\nPlus check our our Special Events that make Roller Skating with us an experience worthy of Instagram. We are featuring events with Characters\, Glow Skates\, Easter Skates\, Adults Skates and so much more.. \nCLICK HERE for special Spring Break Schedule
URL:https://www.unitedskates.com/branch-brook-park/event/spring-break-skating-schedule-4-7-4-16/
LOCATION:Branch Brook Park Roller Skating Center\, 7th Ave & Clifton Ave\, Newark\, NJ\, 07104\, United States
CATEGORIES:Adult Events,Family Events,Public Skates,Special Events
ATTACH;FMTTYPE=image/jpeg:https://unitedskates-assets.sfo3.digitaloceanspaces.com/wp-content/uploads/sites/15/2023/02/41-spring-break-roller-skating.jpg
END:VEVENT
BEGIN:VEVENT
DTSTART;TZID=America/New_York:20230412T120000
DTEND;TZID=America/New_York:20230412T140000
DTSTAMP:20260424T134216
CREATED:20230303T232302Z
LAST-MODIFIED:20230310T223136Z
UID:11752-1681300800-1681308000@www.unitedskates.com
SUMMARY:Sensory Friendly Family Skate
DESCRIPTION:OPEN TO ALL AGES! \nCLICK HERE TO PURCHASE TICKETS! \nEVERYONE MUST HAVE A TICKET TO ENTER WHETHER SKATING OR NOT – \n$12.00 for Admission & Skate Rental (Plus Service Fee) \n$7.00 Admission for those with their Own Skates (Plus Service Fee) \n$5.00 Spectators Fee for Non Skating Adults 18yrs+ Only (Plus Service Fee) \nFACE MASKS ARE NOW OPTIONAL BUT RECOMMENDED \nNO OUTSIDE FOOD\, DRINK\, CAKE OR DECOR ALLOWED.
URL:https://www.unitedskates.com/branch-brook-park/event/sensory-friendly-family-skate/
CATEGORIES:Family Events,Public Skates,Special Events
ATTACH;FMTTYPE=image/png:https://unitedskates-assets.sfo3.digitaloceanspaces.com/wp-content/uploads/sites/15/2023/03/Screen-Shot-2023-03-10-at-5.19.56-PM.png
END:VEVENT
BEGIN:VEVENT
DTSTART;TZID=America/New_York:20230412T150000
DTEND;TZID=America/New_York:20230412T170000
DTSTAMP:20260424T134216
CREATED:20230303T232407Z
LAST-MODIFIED:20230313T170140Z
UID:11754-1681311600-1681318800@www.unitedskates.com
SUMMARY:Spring Vibes Family Skate
DESCRIPTION:OPEN TO ALL AGES! \nCLICK HERE TO PURCHASE TICKETS! \nEVERYONE MUST HAVE A TICKET TO ENTER WHETHER SKATING OR NOT – \n$14.00 for Admission & Skate Rental (Plus Service Fee) \n$9.00 Admission for those with their Own Skates (Plus Service Fee) \n$5.00 Spectators Fee for Non Skating Adults 18yrs+ Only (Plus Service Fee) \nFACE MASKS ARE NOW OPTIONAL BUT RECOMMENDED \nNO OUTSIDE FOOD\, DRINK\, CAKE OR DECOR ALLOWED.
URL:https://www.unitedskates.com/branch-brook-park/event/spring-vibes-family-skate-3/
CATEGORIES:Family Events,Public Skates
ATTACH;FMTTYPE=image/jpeg:https://unitedskates-assets.sfo3.digitaloceanspaces.com/wp-content/uploads/sites/15/2023/03/Spring-Vibes.jpg
END:VEVENT
BEGIN:VEVENT
DTSTART;TZID=America/New_York:20230412T180000
DTEND;TZID=America/New_York:20230412T200000
DTSTAMP:20260424T134216
CREATED:20230303T232519Z
LAST-MODIFIED:20230313T170314Z
UID:11756-1681322400-1681329600@www.unitedskates.com
SUMMARY:Spring Vibes Family Skate
DESCRIPTION:OPEN TO ALL AGES! \nCLICK HERE TO PURCHASE TICKETS! \nEVERYONE MUST HAVE A TICKET TO ENTER WHETHER SKATING OR NOT – \n$14.00 for Admission & Skate Rental (Plus Service Fee) \n$9.00 Admission for those with their Own Skates (Plus Service Fee) \n$5.00 Spectators Fee for Non Skating Adults 18yrs+ Only (Plus Service Fee) \nFACE MASKS ARE NOW OPTIONAL BUT RECOMMENDED \nNO OUTSIDE FOOD\, DRINK\, CAKE OR DECOR ALLOWED.
URL:https://www.unitedskates.com/branch-brook-park/event/spring-vibes-family-skate-4/
CATEGORIES:Family Events,Public Skates
ATTACH;FMTTYPE=image/jpeg:https://unitedskates-assets.sfo3.digitaloceanspaces.com/wp-content/uploads/sites/15/2023/03/Spring-Vibes.jpg
END:VEVENT
BEGIN:VEVENT
DTSTART;TZID=America/New_York:20230412T210000
DTEND;TZID=America/New_York:20230412T230000
DTSTAMP:20260424T134216
CREATED:20230303T232658Z
LAST-MODIFIED:20230313T171239Z
UID:11758-1681333200-1681340400@www.unitedskates.com
SUMMARY:I Just Wanna Skate
DESCRIPTION:OPEN TO ALL AGES! \nCLICK HERE TO PURCHASE TICKETS! \nEVERYONE MUST HAVE A TICKET TO ENTER WHETHER SKATING OR NOT – \nTICKET ONLY EVENT = NO TICKETS SOLD AT THE DOOR! \n$16.00 for Admission & Skate Rental (Plus Service Fee) \n$11.00 Admission for those with their Own Skates (Plus Service Fee) \n$5.00 Spectators Fee for Non Skating Adults 18yrs+ Only (Plus Service Fee) \nFACE MASKS ARE NOW OPTIONAL BUT RECOMMENDED \nNO OUTSIDE FOOD\, DRINK\, CAKE OR DECOR ALLOWED.
URL:https://www.unitedskates.com/branch-brook-park/event/i-just-wanna-skate/
CATEGORIES:Family Events,Public Skates,Special Events
ATTACH;FMTTYPE=image/jpeg:https://unitedskates-assets.sfo3.digitaloceanspaces.com/wp-content/uploads/sites/15/2023/03/ART-BOARD-I-Just-Wanna-Skate-2023.jpg
END:VEVENT
END:VCALENDAR