BEGIN:VCALENDAR
VERSION:2.0
PRODID:-//Rink 41 - Branch Brook Park Skating - ECPv6.15.20//NONSGML v1.0//EN
CALSCALE:GREGORIAN
METHOD:PUBLISH
X-WR-CALNAME:Rink 41 - Branch Brook Park Skating
X-ORIGINAL-URL:https://www.unitedskates.com/branch-brook-park
X-WR-CALDESC:Events for Rink 41 - Branch Brook Park Skating
REFRESH-INTERVAL;VALUE=DURATION:PT1H
X-Robots-Tag:noindex
X-PUBLISHED-TTL:PT1H
BEGIN:VTIMEZONE
TZID:America/New_York
BEGIN:DAYLIGHT
TZOFFSETFROM:-0500
TZOFFSETTO:-0400
TZNAME:EDT
DTSTART:20220313T070000
END:DAYLIGHT
BEGIN:STANDARD
TZOFFSETFROM:-0400
TZOFFSETTO:-0500
TZNAME:EST
DTSTART:20221106T060000
END:STANDARD
BEGIN:DAYLIGHT
TZOFFSETFROM:-0500
TZOFFSETTO:-0400
TZNAME:EDT
DTSTART:20230312T070000
END:DAYLIGHT
BEGIN:STANDARD
TZOFFSETFROM:-0400
TZOFFSETTO:-0500
TZNAME:EST
DTSTART:20231105T060000
END:STANDARD
BEGIN:DAYLIGHT
TZOFFSETFROM:-0500
TZOFFSETTO:-0400
TZNAME:EDT
DTSTART:20240310T070000
END:DAYLIGHT
BEGIN:STANDARD
TZOFFSETFROM:-0400
TZOFFSETTO:-0500
TZNAME:EST
DTSTART:20241103T060000
END:STANDARD
END:VTIMEZONE
BEGIN:VEVENT
DTSTART;TZID=America/New_York:20230407T150000
DTEND;TZID=America/New_York:20230416T233000
DTSTAMP:20260424T134140
CREATED:20230227T193259Z
LAST-MODIFIED:20230227T193259Z
UID:11729-1680879600-1681687800@www.unitedskates.com
SUMMARY:Spring Break Skating Schedule 4/7-4/16
DESCRIPTION:Spring Break Roller Skating is Friday April 7th 2023 through Sunday\, April 16th 2023. \nWe are OPEN EVERYDAY for Adults\, Kids\, Families & Friends to come skate with us. See our SPECIAL Days and Times list below.\nPlus check our our Special Events that make Roller Skating with us an experience worthy of Instagram. We are featuring events with Characters\, Glow Skates\, Easter Skates\, Adults Skates and so much more.. \nCLICK HERE for special Spring Break Schedule
URL:https://www.unitedskates.com/branch-brook-park/event/spring-break-skating-schedule-4-7-4-16/
LOCATION:Branch Brook Park Roller Skating Center\, 7th Ave & Clifton Ave\, Newark\, NJ\, 07104\, United States
CATEGORIES:Adult Events,Family Events,Public Skates,Special Events
ATTACH;FMTTYPE=image/jpeg:https://unitedskates-assets.sfo3.digitaloceanspaces.com/wp-content/uploads/sites/15/2023/02/41-spring-break-roller-skating.jpg
END:VEVENT
BEGIN:VEVENT
DTSTART;TZID=America/New_York:20230410T120000
DTEND;TZID=America/New_York:20230410T140000
DTSTAMP:20260424T134140
CREATED:20230303T231816Z
LAST-MODIFIED:20230310T210255Z
UID:11744-1681128000-1681135200@www.unitedskates.com
SUMMARY:Affordable Family Skate
DESCRIPTION:OPEN TO ALL AGES! \nCLICK HERE TO PURCHASE TICKETS! \nEVERYONE MUST HAVE A TICKET TO ENTER WHETHER SKATING OR NOT – \n$13.00 for Admission & Skate Rental (Plus Service Fee) \n$8.00 Admission for those with their Own Skates (Plus Service Fee) \n$5.00 Spectators Fee for Non Skating Adults 18yrs+ Only (Plus Service Fee) \nFACE MASKS ARE NOW OPTIONAL BUT RECOMMENDED \nNO OUTSIDE FOOD\, DRINK\, CAKE OR DECOR ALLOWED. \n 
URL:https://www.unitedskates.com/branch-brook-park/event/affordable-family-skate/
CATEGORIES:Family Events,Public Skates
ATTACH;FMTTYPE=image/jpeg:https://unitedskates-assets.sfo3.digitaloceanspaces.com/wp-content/uploads/sites/15/2023/03/IMG-2232.jpg
END:VEVENT
BEGIN:VEVENT
DTSTART;TZID=America/New_York:20230410T150000
DTEND;TZID=America/New_York:20230410T170000
DTSTAMP:20260424T134140
CREATED:20230303T231921Z
LAST-MODIFIED:20230310T210428Z
UID:11746-1681138800-1681146000@www.unitedskates.com
SUMMARY:Affordable Family Skate
DESCRIPTION:OPEN TO ALL AGES! \nCLICK HERE TO PURCHASE TICKETS! \nEVERYONE MUST HAVE A TICKET TO ENTER WHETHER SKATING OR NOT – \n$13.00 for Admission & Skate Rental (Plus Service Fee) \n$8.00 Admission for those with their Own Skates (Plus Service Fee) \n$5.00 Spectators Fee for Non Skating Adults 18yrs+ Only (Plus Service Fee) \nFACE MASKS ARE NOW OPTIONAL BUT RECOMMENDED \nNO OUTSIDE FOOD\, DRINK\, CAKE OR DECOR ALLOWED.
URL:https://www.unitedskates.com/branch-brook-park/event/affordable-family-skate-2/
CATEGORIES:Family Events,Public Skates
ATTACH;FMTTYPE=image/jpeg:https://unitedskates-assets.sfo3.digitaloceanspaces.com/wp-content/uploads/sites/15/2023/03/IMG-2232.jpg
END:VEVENT
BEGIN:VEVENT
DTSTART;TZID=America/New_York:20230410T180000
DTEND;TZID=America/New_York:20230410T200000
DTSTAMP:20260424T134140
CREATED:20220503T203604Z
LAST-MODIFIED:20230310T210612Z
UID:9990-1681149600-1681156800@www.unitedskates.com
SUMMARY:Monday Public Skate
DESCRIPTION:CLICK HERE TO PURCHASE TICKETS\n\n\n\n$13.00 for Admission & Skate Rental (Plus Service Fee)  \n\n\n\n$8.00 Admission for those with their Own Skates (Plus Service Fee)  \n\n\n\n$5.00 Spectators Fee for Non Skating Adults 18yrs+ Only (Plus Service Fee)  \n\n\n\nTickets are non-refundable\, valid per listed time only and cannot be transferred to a different date or time! Ages 2-17yrs Old Without their Own Skates Must Pay for Rental to Enter. SKATE WAIVERS MUST BE SIGNED BY EVERYONE 18YRS+ ENTERING THE FACILITY UPON ARRIVAL. NO OUTSIDE FOOD\, DRINK\, CAKE OR DECOR ALLOWED.
URL:https://www.unitedskates.com/branch-brook-park/event/public-skate-2023-04-10/
LOCATION:Branch Brook Park Roller Skating Center\, 7th Ave & Clifton Ave\, Newark\, NJ\, 07104\, United States
CATEGORIES:Public Skates
ATTACH;FMTTYPE=image/jpeg:https://unitedskates-assets.sfo3.digitaloceanspaces.com/wp-content/uploads/sites/15/2022/05/Public-Skate-1200x900-1.jpg
END:VEVENT
END:VCALENDAR