BEGIN:VCALENDAR
VERSION:2.0
PRODID:-//Rink 41 - Branch Brook Park Skating - ECPv6.15.20//NONSGML v1.0//EN
CALSCALE:GREGORIAN
METHOD:PUBLISH
X-WR-CALNAME:Rink 41 - Branch Brook Park Skating
X-ORIGINAL-URL:https://www.unitedskates.com/branch-brook-park
X-WR-CALDESC:Events for Rink 41 - Branch Brook Park Skating
REFRESH-INTERVAL;VALUE=DURATION:PT1H
X-Robots-Tag:noindex
X-PUBLISHED-TTL:PT1H
BEGIN:VTIMEZONE
TZID:America/New_York
BEGIN:DAYLIGHT
TZOFFSETFROM:-0500
TZOFFSETTO:-0400
TZNAME:EDT
DTSTART:20220313T070000
END:DAYLIGHT
BEGIN:STANDARD
TZOFFSETFROM:-0400
TZOFFSETTO:-0500
TZNAME:EST
DTSTART:20221106T060000
END:STANDARD
BEGIN:DAYLIGHT
TZOFFSETFROM:-0500
TZOFFSETTO:-0400
TZNAME:EDT
DTSTART:20230312T070000
END:DAYLIGHT
BEGIN:STANDARD
TZOFFSETFROM:-0400
TZOFFSETTO:-0500
TZNAME:EST
DTSTART:20231105T060000
END:STANDARD
BEGIN:DAYLIGHT
TZOFFSETFROM:-0500
TZOFFSETTO:-0400
TZNAME:EDT
DTSTART:20240310T070000
END:DAYLIGHT
BEGIN:STANDARD
TZOFFSETFROM:-0400
TZOFFSETTO:-0500
TZNAME:EST
DTSTART:20241103T060000
END:STANDARD
END:VTIMEZONE
BEGIN:VEVENT
DTSTART;TZID=America/New_York:20230407T150000
DTEND;TZID=America/New_York:20230416T233000
DTSTAMP:20260424T215615
CREATED:20230227T193259Z
LAST-MODIFIED:20230227T193259Z
UID:11729-1680879600-1681687800@www.unitedskates.com
SUMMARY:Spring Break Skating Schedule 4/7-4/16
DESCRIPTION:Spring Break Roller Skating is Friday April 7th 2023 through Sunday\, April 16th 2023. \nWe are OPEN EVERYDAY for Adults\, Kids\, Families & Friends to come skate with us. See our SPECIAL Days and Times list below.\nPlus check our our Special Events that make Roller Skating with us an experience worthy of Instagram. We are featuring events with Characters\, Glow Skates\, Easter Skates\, Adults Skates and so much more.. \nCLICK HERE for special Spring Break Schedule
URL:https://www.unitedskates.com/branch-brook-park/event/spring-break-skating-schedule-4-7-4-16/
LOCATION:Branch Brook Park Roller Skating Center\, 7th Ave & Clifton Ave\, Newark\, NJ\, 07104\, United States
CATEGORIES:Adult Events,Family Events,Public Skates,Special Events
ATTACH;FMTTYPE=image/jpeg:https://unitedskates-assets.sfo3.digitaloceanspaces.com/wp-content/uploads/sites/15/2023/02/41-spring-break-roller-skating.jpg
END:VEVENT
BEGIN:VEVENT
DTSTART;TZID=America/New_York:20230408T110000
DTEND;TZID=America/New_York:20230408T130000
DTSTAMP:20260424T215615
CREATED:20221028T230231Z
LAST-MODIFIED:20230310T200657Z
UID:10700-1680951600-1680958800@www.unitedskates.com
SUMMARY:Donuts with The Easter Bunny
DESCRIPTION:Open to All Ages \n\n\n\nCLICK HERE TO PURCHASE TICKETS! \n\n\n\nTICKET ONLY EVENT! \nEVERYONE MUST HAVE A TICKET TO ENTER WHETHER SKATING OR NOT \n\n\n\n$16.00 for Admission & Skate Rental (Plus Service Fee) \n\n\n\n$11.00 Admission for those with their Own Skates (Plus Service Fee) \n\n\n\n$5.00 Spectators Fee for Non-Skating Adults 18yrs+ Only (Plus Service Fee) \n***DONUTS GIVEN WHILE SUPPLIES LAST*** \nNO OUTSIDE FOOD\, DRINK\, CAKE OR DECOR ALLOWED WITHOUT A RESERVED BIRTHDAY PARTY.
URL:https://www.unitedskates.com/branch-brook-park/event/saturday-family-roller-skate-session-1-2-2023-04-08/
CATEGORIES:Family Events,Public Skates,Special Events
ATTACH;FMTTYPE=image/jpeg:https://unitedskates-assets.sfo3.digitaloceanspaces.com/wp-content/uploads/sites/15/2022/10/IMG-2231.jpg
END:VEVENT
BEGIN:VEVENT
DTSTART;TZID=America/New_York:20230408T140000
DTEND;TZID=America/New_York:20230408T160000
DTSTAMP:20260424T215615
CREATED:20221028T230702Z
LAST-MODIFIED:20230310T202036Z
UID:10534-1680962400-1680969600@www.unitedskates.com
SUMMARY:Saturday Family Roller Skate Session 2
DESCRIPTION:Click Here to Purchase Ticket \n\n\n\nOPEN TO ALL AGES! \n\n\n\n(Make Sure You REVIEW TIME BEFORE CHECKOUT) \n\n\n\nPLEASE NOTE: THERE ARE A LIMITED AMOUNT OF TICKETS SOLD AT THE DOOR!!! \n\n\n\nPROOF OF VACCINATION NO LONGER REQUIRED \n\n\n\nFACE MASKS ARE NOW OPTIONAL BUT RECOMMENDED \n\n\n\nEVERYONE MUST HAVE A TICKET TO ENTER WHETHER SKATING OR NOT \n\n\n\n$16.00 for Admission & Skate Rental (Plus Service Fee) \n\n\n\n$11.00 Admission for those with their Own Skates (Plus Service Fee) \n\n\n\n$5.00 Spectators Fee for Non-Skating Adults 18yrs+ Only (Plus Service Fee) NO OUTSIDE FOOD\, DRINK\, CAKE OR DECOR ALLOWED WITHOUT A RESERVED BIRTHDAY PARTY.
URL:https://www.unitedskates.com/branch-brook-park/event/saturday-family-roller-skate-session-2-2-2023-04-08/
ATTACH;FMTTYPE=image/jpeg:https://unitedskates-assets.sfo3.digitaloceanspaces.com/wp-content/uploads/sites/15/2022/05/Family-Skate-1200x900-1.jpg
END:VEVENT
BEGIN:VEVENT
DTSTART;TZID=America/New_York:20230408T170000
DTEND;TZID=America/New_York:20230408T190000
DTSTAMP:20260424T215615
CREATED:20221028T230917Z
LAST-MODIFIED:20230310T202149Z
UID:10574-1680973200-1680980400@www.unitedskates.com
SUMMARY:Saturday Family Roller Skate Session 3
DESCRIPTION:Click Here to Purchase Ticket \n\n\n\nOPEN TO ALL AGES! \n\n\n\n(Make Sure You REVIEW TIME BEFORE CHECKOUT) \n\n\n\nPLEASE NOTE: THERE ARE A LIMITED AMOUNT OF TICKETS SOLD AT THE DOOR!!! \n\n\n\nPROOF OF VACCINATION NO LONGER REQUIRED \n\n\n\nFACE MASKS ARE NOW OPTIONAL BUT RECOMMENDED \n\n\n\nEVERYONE MUST HAVE A TICKET TO ENTER WHETHER SKATING OR NOT \n\n\n\n$16.00 for Admission & Skate Rental (Plus Service Fee) \n\n\n\n$11.00 Admission for those with their Own Skates (Plus Service Fee) \n\n\n\n$5.00 Spectators Fee for Non-Skating Adults 18yrs+ Only (Plus Service Fee) NO OUTSIDE FOOD\, DRINK\, CAKE OR DECOR ALLOWED WITHOUT A RESERVED BIRTHDAY PARTY.
URL:https://www.unitedskates.com/branch-brook-park/event/saturday-family-roller-skate-session-3-2-2023-04-08/
ATTACH;FMTTYPE=image/jpeg:https://unitedskates-assets.sfo3.digitaloceanspaces.com/wp-content/uploads/sites/15/2022/05/Family-Skate-1200x900-1.jpg
END:VEVENT
BEGIN:VEVENT
DTSTART;TZID=America/New_York:20230408T200000
DTEND;TZID=America/New_York:20230408T220000
DTSTAMP:20260424T215615
CREATED:20221028T231419Z
LAST-MODIFIED:20230310T202254Z
UID:10612-1680984000-1680991200@www.unitedskates.com
SUMMARY:Saturday Family Roller Skate Session 4
DESCRIPTION:CLICK HERE TO PURCHASE TICKETS!\nOPEN TO ALL AGES! \n(Make Sure You REVIEW TIME BEFORE CHECKOUT) \nPLEASE NOTE: THERE ARE A LIMITED AMOUNT OF TICKETS SOLD AT THE DOOR!!! \nPROOF OF VACCINATION NO LONGER REQUIRED \nFACE MASKS ARE NOW OPTIONAL BUT RECOMMENDED \nEVERYONE MUST HAVE A TICKET TO ENTER WHETHER SKATING OR NOT \n$16.00 for Admission & Skate Rental (Plus Service Fee) \n$11.00 Admission for those with their Own Skates (Plus Service Fee) \n$5.00 Spectators Fee for Non-Skating Adults 18yrs+ Only (Plus Service Fee)
URL:https://www.unitedskates.com/branch-brook-park/event/saturday-family-roller-skate-session-4-3-2023-04-08/
ATTACH;FMTTYPE=image/jpeg:https://unitedskates-assets.sfo3.digitaloceanspaces.com/wp-content/uploads/sites/15/2022/05/Family-Skate-1200x900-1.jpg
END:VEVENT
END:VCALENDAR