BEGIN:VCALENDAR
VERSION:2.0
PRODID:-//Rink 41 - Branch Brook Park Skating - ECPv6.15.20//NONSGML v1.0//EN
CALSCALE:GREGORIAN
METHOD:PUBLISH
X-WR-CALNAME:Rink 41 - Branch Brook Park Skating
X-ORIGINAL-URL:https://www.unitedskates.com/branch-brook-park
X-WR-CALDESC:Events for Rink 41 - Branch Brook Park Skating
REFRESH-INTERVAL;VALUE=DURATION:PT1H
X-Robots-Tag:noindex
X-PUBLISHED-TTL:PT1H
BEGIN:VTIMEZONE
TZID:America/New_York
BEGIN:DAYLIGHT
TZOFFSETFROM:-0500
TZOFFSETTO:-0400
TZNAME:EDT
DTSTART:20240310T070000
END:DAYLIGHT
BEGIN:STANDARD
TZOFFSETFROM:-0400
TZOFFSETTO:-0500
TZNAME:EST
DTSTART:20241103T060000
END:STANDARD
BEGIN:DAYLIGHT
TZOFFSETFROM:-0500
TZOFFSETTO:-0400
TZNAME:EDT
DTSTART:20250309T070000
END:DAYLIGHT
BEGIN:STANDARD
TZOFFSETFROM:-0400
TZOFFSETTO:-0500
TZNAME:EST
DTSTART:20251102T060000
END:STANDARD
BEGIN:DAYLIGHT
TZOFFSETFROM:-0500
TZOFFSETTO:-0400
TZNAME:EDT
DTSTART:20260308T070000
END:DAYLIGHT
BEGIN:STANDARD
TZOFFSETFROM:-0400
TZOFFSETTO:-0500
TZNAME:EST
DTSTART:20261101T060000
END:STANDARD
END:VTIMEZONE
BEGIN:VEVENT
DTSTART;TZID=America/New_York:20251025T100000
DTEND;TZID=America/New_York:20251025T110000
DTSTAMP:20260425T094905
CREATED:20250501T202054Z
LAST-MODIFIED:20250501T202054Z
UID:20634-1761386400-1761390000@www.unitedskates.com
SUMMARY:Saturday Roller Skating Lessons
DESCRIPTION:CLICK HERE TO PURCHASE TICKETS!\n\nOPEN TO ALL AGES!\nLESSONS ARE AVAILABLE FOR ALL SKATE LEVELS:\n\nBeginner\nIntermediate\nAdvanced\n\nWHEN?\nEVERY SATURDAY from 10:00am-11:00am \nHOW MUCH? WHATS INCLUDED?\nLessons are $22.00 a person plus tax and service fees. Our lessons lead by professional\nskate instructors include skate rental\, wrist guard and skate mate rental. After your lesson\nyou receive GUARANTEED entry to our Saturday Public Session from 11:00am-2:00pm to\ncontinue enhancing your skate skills.\nSAVE MONEY & PRE-PURCHASE YOUR TICKET ONLINE\, AS DOOR PRICES ARE $1.00 MORE! \nHOW DO I SIGN UP?\nEVERYONE entering the facility for lessons must have a ticket valid for the date and time\nof the upcoming lesson. Tickets for the lessons are released every Monday for that\nupcoming Saturday. Tickets can also be purchased at the door the day of but you can save\nmoney by buying in advance straight off of our website. \nIMPORTANT THINGS TO KNOW:\n ALL THREE CLASSES WILL TAKE PLACE IN SEPERATE AREAS OF THE\nSKATE FLOOR WITH ONE INSTRUCTOR FOR EACH GROUP LEVEL\n TICKETS ARE NON-TRANSFERABLE!!! \n SKATE LESSONS ARE RECOMMENDED FOR AGES 3 YEARS OLD & OLDER\n EVERYONE WHETHER THEY ARE SKATING OR NOT MUST HAVE A\nTICKET TO ENTER\n SPECTATORS TICKETS ARE VALID FOR ADULTS 18YRS+ ONLY \nAll guests (children & adults)\, whether skating or not\, must sign a waiver online. Children can\nbe added to the accompanying adults waiver. The waiver is only valid for the date listed upon\nsubmission.
URL:https://www.unitedskates.com/branch-brook-park/event/saturday-roller-skating-lessons-8/2025-10-25/
CATEGORIES:Family Events,Public Skates
ATTACH;FMTTYPE=image/png:https://unitedskates-assets.sfo3.digitaloceanspaces.com/wp-content/uploads/sites/15/2024/08/Skate-Lessons.png
END:VEVENT
BEGIN:VEVENT
DTSTART;TZID=America/New_York:20251018T100000
DTEND;TZID=America/New_York:20251018T110000
DTSTAMP:20260425T094905
CREATED:20250501T202054Z
LAST-MODIFIED:20250501T202054Z
UID:20633-1760781600-1760785200@www.unitedskates.com
SUMMARY:Saturday Roller Skating Lessons
DESCRIPTION:CLICK HERE TO PURCHASE TICKETS!\n\nOPEN TO ALL AGES!\nLESSONS ARE AVAILABLE FOR ALL SKATE LEVELS:\n\nBeginner\nIntermediate\nAdvanced\n\nWHEN?\nEVERY SATURDAY from 10:00am-11:00am \nHOW MUCH? WHATS INCLUDED?\nLessons are $22.00 a person plus tax and service fees. Our lessons lead by professional\nskate instructors include skate rental\, wrist guard and skate mate rental. After your lesson\nyou receive GUARANTEED entry to our Saturday Public Session from 11:00am-2:00pm to\ncontinue enhancing your skate skills.\nSAVE MONEY & PRE-PURCHASE YOUR TICKET ONLINE\, AS DOOR PRICES ARE $1.00 MORE! \nHOW DO I SIGN UP?\nEVERYONE entering the facility for lessons must have a ticket valid for the date and time\nof the upcoming lesson. Tickets for the lessons are released every Monday for that\nupcoming Saturday. Tickets can also be purchased at the door the day of but you can save\nmoney by buying in advance straight off of our website. \nIMPORTANT THINGS TO KNOW:\n ALL THREE CLASSES WILL TAKE PLACE IN SEPERATE AREAS OF THE\nSKATE FLOOR WITH ONE INSTRUCTOR FOR EACH GROUP LEVEL\n TICKETS ARE NON-TRANSFERABLE!!! \n SKATE LESSONS ARE RECOMMENDED FOR AGES 3 YEARS OLD & OLDER\n EVERYONE WHETHER THEY ARE SKATING OR NOT MUST HAVE A\nTICKET TO ENTER\n SPECTATORS TICKETS ARE VALID FOR ADULTS 18YRS+ ONLY \nAll guests (children & adults)\, whether skating or not\, must sign a waiver online. Children can\nbe added to the accompanying adults waiver. The waiver is only valid for the date listed upon\nsubmission.
URL:https://www.unitedskates.com/branch-brook-park/event/saturday-roller-skating-lessons-8/2025-10-18/
CATEGORIES:Family Events,Public Skates
ATTACH;FMTTYPE=image/png:https://unitedskates-assets.sfo3.digitaloceanspaces.com/wp-content/uploads/sites/15/2024/08/Skate-Lessons.png
END:VEVENT
BEGIN:VEVENT
DTSTART;TZID=America/New_York:20251011T100000
DTEND;TZID=America/New_York:20251011T110000
DTSTAMP:20260425T094905
CREATED:20250501T202054Z
LAST-MODIFIED:20250501T202054Z
UID:20632-1760176800-1760180400@www.unitedskates.com
SUMMARY:Saturday Roller Skating Lessons
DESCRIPTION:CLICK HERE TO PURCHASE TICKETS!\n\nOPEN TO ALL AGES!\nLESSONS ARE AVAILABLE FOR ALL SKATE LEVELS:\n\nBeginner\nIntermediate\nAdvanced\n\nWHEN?\nEVERY SATURDAY from 10:00am-11:00am \nHOW MUCH? WHATS INCLUDED?\nLessons are $22.00 a person plus tax and service fees. Our lessons lead by professional\nskate instructors include skate rental\, wrist guard and skate mate rental. After your lesson\nyou receive GUARANTEED entry to our Saturday Public Session from 11:00am-2:00pm to\ncontinue enhancing your skate skills.\nSAVE MONEY & PRE-PURCHASE YOUR TICKET ONLINE\, AS DOOR PRICES ARE $1.00 MORE! \nHOW DO I SIGN UP?\nEVERYONE entering the facility for lessons must have a ticket valid for the date and time\nof the upcoming lesson. Tickets for the lessons are released every Monday for that\nupcoming Saturday. Tickets can also be purchased at the door the day of but you can save\nmoney by buying in advance straight off of our website. \nIMPORTANT THINGS TO KNOW:\n ALL THREE CLASSES WILL TAKE PLACE IN SEPERATE AREAS OF THE\nSKATE FLOOR WITH ONE INSTRUCTOR FOR EACH GROUP LEVEL\n TICKETS ARE NON-TRANSFERABLE!!! \n SKATE LESSONS ARE RECOMMENDED FOR AGES 3 YEARS OLD & OLDER\n EVERYONE WHETHER THEY ARE SKATING OR NOT MUST HAVE A\nTICKET TO ENTER\n SPECTATORS TICKETS ARE VALID FOR ADULTS 18YRS+ ONLY \nAll guests (children & adults)\, whether skating or not\, must sign a waiver online. Children can\nbe added to the accompanying adults waiver. The waiver is only valid for the date listed upon\nsubmission.
URL:https://www.unitedskates.com/branch-brook-park/event/saturday-roller-skating-lessons-8/2025-10-11/
CATEGORIES:Family Events,Public Skates
ATTACH;FMTTYPE=image/png:https://unitedskates-assets.sfo3.digitaloceanspaces.com/wp-content/uploads/sites/15/2024/08/Skate-Lessons.png
END:VEVENT
BEGIN:VEVENT
DTSTART;TZID=America/New_York:20250503T100000
DTEND;TZID=America/New_York:20250503T110000
DTSTAMP:20260425T094905
CREATED:20250501T202054Z
LAST-MODIFIED:20250501T202054Z
UID:20608-1746266400-1746270000@www.unitedskates.com
SUMMARY:Saturday Roller Skating Lessons
DESCRIPTION:CLICK HERE TO PURCHASE TICKETS!\n\nOPEN TO ALL AGES!\nLESSONS ARE AVAILABLE FOR ALL SKATE LEVELS:\n\nBeginner\nIntermediate\nAdvanced\n\nWHEN?\nEVERY SATURDAY from 10:00am-11:00am \nHOW MUCH? WHATS INCLUDED?\nLessons are $22.00 a person plus tax and service fees. Our lessons lead by professional\nskate instructors include skate rental\, wrist guard and skate mate rental. After your lesson\nyou receive GUARANTEED entry to our Saturday Public Session from 11:00am-2:00pm to\ncontinue enhancing your skate skills.\nSAVE MONEY & PRE-PURCHASE YOUR TICKET ONLINE\, AS DOOR PRICES ARE $1.00 MORE! \nHOW DO I SIGN UP?\nEVERYONE entering the facility for lessons must have a ticket valid for the date and time\nof the upcoming lesson. Tickets for the lessons are released every Monday for that\nupcoming Saturday. Tickets can also be purchased at the door the day of but you can save\nmoney by buying in advance straight off of our website. \nIMPORTANT THINGS TO KNOW:\n ALL THREE CLASSES WILL TAKE PLACE IN SEPERATE AREAS OF THE\nSKATE FLOOR WITH ONE INSTRUCTOR FOR EACH GROUP LEVEL\n TICKETS ARE NON-TRANSFERABLE!!! \n SKATE LESSONS ARE RECOMMENDED FOR AGES 3 YEARS OLD & OLDER\n EVERYONE WHETHER THEY ARE SKATING OR NOT MUST HAVE A\nTICKET TO ENTER\n SPECTATORS TICKETS ARE VALID FOR ADULTS 18YRS+ ONLY \nAll guests (children & adults)\, whether skating or not\, must sign a waiver online. Children can\nbe added to the accompanying adults waiver. The waiver is only valid for the date listed upon\nsubmission.
URL:https://www.unitedskates.com/branch-brook-park/event/saturday-roller-skating-lessons-8/2025-05-03/
CATEGORIES:Family Events,Public Skates
ATTACH;FMTTYPE=image/png:https://unitedskates-assets.sfo3.digitaloceanspaces.com/wp-content/uploads/sites/15/2024/08/Skate-Lessons.png
END:VEVENT
END:VCALENDAR